Workbook

Sheet 안전보건관리체제 적용 여부 판단
B2: ▣ 사업장의 고용보험 업종코드(세세분류)만으로 산업안전보건법 제2장 (안전보건관리체제 등) 적용 여부를 쉽게 찾아보는 법
E3: 1. 한국표준산업분류상 업종 확인: 근로복지공단 고용·산재보험 토탈서비스 검색 → 정보조회 → 사업장 총괄카드 조회 → 관리번호란에 ‘사업자등록번호+0’ 입력 → 고용보험 업종코드 번호 확인
E4: 2. 확인한 고용보험 업종코드 번호를 'sheet상의 코드번호 노란색 셀'에 입력
B5: 고용보험 업종코드 | C5: 14200 | E5: 3. 해당 자료는 사업장의 고용보험 업종코드(세세분류)만을 기준으로 판단한 것이며, 실제 업무의 성격·내용·수행방식 등이 고용보험 업종코드와 다른 경우에는 구체적으로 확인 및 판단하여 업종을 달리 볼 수 있음
B7: (●: 안전보건관리책임자 1명, ◆: 산업안전보건위원회 구성·운영, ◎: 안전보건관리규정 제정) | I7: (■: 안전관리자 1명 이상, ■■: 안전관리자 2명 이상, ▲: 보건관리자 1명 이상, ▲▲: 보건관리자 2명 이상, ★: 안전보건관리담당자 1명 이상)
B8: 구분 | C8: 세세분류 업종 | D8: 규모 | G8: 비고 | I8: 구분 | J8: 세세분류 업종 | K8: 규모 | R8: 비고
D9: 50명 이상 | E9: 100명 이상 | F9: 300명 이상 | K9: 50~99인 | L9: 100~299인 | M9: 300~499인 | N9: 500~999인 | O9: 1000~3999인 | P9: 4000~4999인 | Q9: 5000이상
B10: 안전보건관리책임자 (법 제15조) | C10: =VLOOKUP($C$5,'안전보건관리책임자(시행령 별표 2)'!$J$4:$O$1175,2,FALSE) -> 모피제품 제조업 | D10: =VLOOKUP($C$5,'안전보건관리책임자(시행령 별표 2)'!$J$4:$O$1175,3,FALSE) -> - | E10: =VLOOKUP($C$5,'안전보건관리책임자(시행령 별표 2)'!$J$4:$O$1175,4,FALSE) -> ● | F10: =VLOOKUP($C$5,'안전보건관리책임자(시행령 별표 2)'!$J$4:$O$1175,5,FALSE) -> - | G10: =VLOOKUP($C$5,'안전보건관리책임자(시행령 별표 2)'!$J$4:$O$1175,6,FALSE) -> - | I10: 안전관리자 (법 제17조) | J10: =VLOOKUP($C$5,'안전관리자(시행령 별표 3)'!$J$4:$S$1039,2,FALSE) -> 모피제품 제조업 | K10: =VLOOKUP($C$5,'안전관리자(시행령 별표 3)'!$J$4:$S$1039,3,FALSE) -> ■ | L10: =VLOOKUP($C$5,'안전관리자(시행령 별표 3)'!$J$4:$S$1039,4,FALSE) -> ■ | M10: =VLOOKUP($C$5,'안전관리자(시행령 별표 3)'!$J$4:$S$1039,5,FALSE) -> ■ | N10: =VLOOKUP($C$5,'안전관리자(시행령 별표 3)'!$J$4:$S$1039,6,FALSE) -> ■ | O10: =VLOOKUP($C$5,'안전관리자(시행령 별표 3)'!$J$4:$S$1039,7,FALSE) -> ■■ | P10: =VLOOKUP($C$5,'안전관리자(시행령 별표 3)'!$J$4:$S$1039,8,FALSE) -> ■■ | Q10: =VLOOKUP($C$5,'안전관리자(시행령 별표 3)'!$J$4:$S$1039,9,FALSE) -> ■■ | R10: =VLOOKUP($C$5,'안전관리자(시행령 별표 3)'!$J$4:$S$1039,10,FALSE) -> -
B11: 산업안전보건위원회 (법 제24조) | C11: =VLOOKUP($C$5,'산업안전보건위원회(시행령 별표 9)'!$J$4:$O$1175,2,FALSE) -> 모피제품 제조업 | D11: =VLOOKUP($C$5,'산업안전보건위원회(시행령 별표 9)'!$J$4:$O$1175,3,FALSE) -> - | E11: =VLOOKUP($C$5,'산업안전보건위원회(시행령 별표 9)'!$J$4:$O$1175,4,FALSE) -> ◆ | F11: =VLOOKUP($C$5,'산업안전보건위원회(시행령 별표 9)'!$J$4:$O$1175,5,FALSE) -> - | G11: =VLOOKUP($C$5,'산업안전보건위원회(시행령 별표 9)'!$J$4:$O$1175,6,FALSE) -> - | I11: 보건관리자 (법 제18조) | J11: =VLOOKUP($C$5,'보건관리자(시행령 별표 5)'!$J$4:$S$965,2,FALSE) -> 모피제품 제조업 | K11: =VLOOKUP($C$5,'보건관리자(시행령 별표 5)'!$J$4:$S$965,3,FALSE) -> ▲ | L11: =VLOOKUP($C$5,'보건관리자(시행령 별표 5)'!$J$4:$S$965,4,FALSE) -> ▲ | M11: =VLOOKUP($C$5,'보건관리자(시행령 별표 5)'!$J$4:$S$965,5,FALSE) -> ▲ | N11: =VLOOKUP($C$5,'보건관리자(시행령 별표 5)'!$J$4:$S$965,6,FALSE) -> ▲▲ | O11: =VLOOKUP($C$5,'보건관리자(시행령 별표 5)'!$J$4:$S$965,7,FALSE) -> ▲▲ | P11: =VLOOKUP($C$5,'보건관리자(시행령 별표 5)'!$J$4:$S$965,8,FALSE) -> ▲▲ | Q11: =VLOOKUP($C$5,'보건관리자(시행령 별표 5)'!$J$4:$S$965,9,FALSE) -> ▲▲ | R11: =VLOOKUP($C$5,'보건관리자(시행령 별표 5)'!$J$4:$S$965,10,FALSE) -> -
I12: 구분 | J12: 세세분류 업종 | K12: 규모 | Q12: 비고
B13: 안전보건관리규정 (법 제25조) | C13: =VLOOKUP($C$5,'안전보건관리규정(시행규칙 별표 2)'!$J$4:$O$1175,2,FALSE) -> 모피제품 제조업 | D13: =VLOOKUP($C$5,'안전보건관리규정(시행규칙 별표 2)'!$J$4:$O$1175,3,FALSE) -> - | E13: =VLOOKUP($C$5,'안전보건관리규정(시행규칙 별표 2)'!$J$4:$O$1175,4,FALSE) -> ◎ | F13: =VLOOKUP($C$5,'안전보건관리규정(시행규칙 별표 2)'!$J$4:$O$1175,5,FALSE) -> - | G13: =VLOOKUP($C$5,'안전보건관리규정(시행규칙 별표 2)'!$J$4:$O$1175,6,FALSE) -> - | K13: 20명 미만 | M13: 20명 이상 50명 미만 | O13: 50명 이상
I14: 안전보건관리담당자 (법 제19조) | J14: =VLOOKUP($C$5,'안전보건관리담당자(시행령 제24조)'!$J$4:$O$503,2,FALSE) -> 모피제품 제조업 | K14: =VLOOKUP($C$5,'안전보건관리담당자(시행령 제24조)'!$J$4:$O$503,3,FALSE) -> - | M14: =VLOOKUP($C$5,'안전보건관리담당자(시행령 제24조)'!$J$4:$O$503,4,FALSE) -> ★ | O14: =VLOOKUP($C$5,'안전보건관리담당자(시행령 제24조)'!$J$4:$O$503,5,FALSE) -> - | Q14: =VLOOKUP($C$5,'안전보건관리담당자(시행령 제24조)'!$J$4:$O$503,6,FALSE) -> 안전관리자 또는 보건관리자가 있거나 이를 두어야 하는 경우에는 선임 제외
B18: ■ 사업장 판단기준
B19: 1. 「산업안전보건법」 제2장(안전보건관리체제 등)은 사업장을 적용단위로 하여 사업장의 업종과 규모(상시근로자 수)를 기준으로 적용됨 2. 이때 사업장은 주로 장소적 관념에 따라 판단하여 장소적으로 분산된 경우 별개의 사업장으로 볼 것이나, 인사·회계·조직운영·업무처리능력 등을 감안할 때 하나의 사업장이라고 말할 정도의 독립성이 없는 경우에는 직근 상위조직과 하나의 사업장으로 보고 있음 3. 독립성 여부는 근로조건의 결정, 인사·노무관리가 각각의 사업장마다 독립적으로 운영되는지, 본사와 지사 등이 경영상 일체성을 갖고 운영되는지 일체성이 없이 각각 이뤄지는지, 해당 단위의 경영담당자에게 해당 단위의 운영에 대한 실질적인 총괄관리 권한이 부여되어 있는지, 업무처리에 있어 독자적 결정권이 있는지 등의 사항을 구체적으로 검토하여 판단하여야 함
B21: ■ 사업장 업종판단
B22: 1. 각 사업장의 업종은 통계청에서 고시한 한국표준산업분류에 따라 구분하되, 하나의 사업장에서 여러 가지의 산업활동이 복합적으로 이루어지는 경우에는 주된 산업활동에 의하여 결정 2. 주된 산업활동은 산출물(재화 또는 서비스)에 대한 부가가치(액)의 크기에 따라 결정되거나, 부가가치(액)의 측정이 어려운 경우에는 산출액(매출액)에 따라 결정
B24: ■ 상시근로자 수 산정방법
B25: 1. 안전보건관리체제 적용을 위한 상시근로자 수 산정은 「근로기준법」 제11조 및 시행령 제7조의2에 따른 상시 사용하는 근로자를 의미함 2. 이때 상시근로자는 해당 사업장과 직접 근로관계(사용종속관계)가 있는 자를 대상으로 하며, 도급업체 근로자는 산정에서 제외함 3. 건설업의 상시근로자 수 산정 (안전보건관리규정 작성 시 적용)
B29: ■ 겸직 여부
B30: 1. 「산업안전보건법」 제15조 및 제19조에 따른 안전보건관리책임자 및 안전보건관리담당자는 타 법에서 정한 다른 직위(또는 직책)에 대한 겸직을 제한하고 있지 않으나, 타 법에서 정한 직위(또는 직책)가 안전보건관리책임자 및 안전보건관리담당자를 겸직할 수 있는지에 대해서는 확인 필요 2. 「산업안전보건법」 제17조 및 제18조에 따른 안전관리자 및 보건관리자는 「기업활동 규제완화에 관한 특별조치법」 제29조에 따라 겸임 가능

Sheet 법의 일부 적용 제외(시행령 별표 1)
B2: ▣ 법의 일부를 적용하지 않는 사업 또는 사업장 및 적용 제외 법 규정(제2조제1항 관련)
B4: 구분 | C4: 대분류 | E4: 중분류 | G4: 소분류 | I4: 세분류 | K4: 세세분류 | L4: 적용 제외 법 규정 | M4: 비고
B5: J | C5: 정보통신업(58~63) | D5: 58 | E5: 출판업 | F5: 582 | G5: 소프트웨어 개발 및 공급업 | H5: 5821 | I5: 게임 소프트웨어 개발 및 공급업 | J5: 58211 | K5: 유선 온라인 게임 소프트웨어 개발 및 공급업 | L5: 제29조(제3항에 따른 추가교육은 제외한다) 및 제30조
J6: 58212 | K6: 모바일 게임 소프트웨어 개발 및 공급업
J7: 58219 | K7: 기타 게임 소프트웨어 개발 및 공급업
H8: 5822 | I8: 시스템·응용 소프트웨어 개발 및 공급업 | J8: 58221 | K8: 시스템 소프트웨어 개발 및 공급업
J9: 58222 | K9: 응용 소프트웨어 개발 및 공급업
D10: 62 | E10: 컴퓨터 프로그래밍, 시스템 통합 관리업 | F10: 620 | G10: 컴퓨터 프로그래밍, 시스템 통합 관리업 | H10: 6201 | I10: 컴퓨터 프로그래밍 서비스업 | J10: 62010 | K10: 컴퓨터 프로그래밍 서비스업
H11: 6202 | I11: 컴퓨터시스템 통합 자문, 구축 및 관리업 | J11: 62021 | K11: 컴퓨터 시스템 통합 자문 및 구축 서비스업
J12: 62022 | K12: 컴퓨터시설 관리업
H13: 6209 | I13: 기타 정보기술 및 컴퓨터운영 관련 서비스업 | J13: 62090 | K13: 기타 정보기술 및 컴퓨터운영 관련 서비스업
D14: 63 | E14: 정보서비스업 | F14: 631 | G14: 자료처리, 호스팅, 포털 및 기타 인터넷 정보매개 서비스업 | H14: 6311 | I14: 자료처리, 호스팅 및 관련 서비스업 | J14: 63111 | K14: 자료 처리업
J15: 63112 | K15: 호스팅 및 관련 서비스업
H16: 6312 | I16: 포털 및 기타 인터넷 정보매개 서비스업 | J16: 63120 | K16: 포털 및 기타 인터넷 정보매개 서비스업
F17: 639 | G17: 기타 정보 서비스업 | H17: 6391 | I17: 뉴스 제공업 | J17: 63910 | K17: 뉴스 제공업
H18: 6399 | I18: 그 외 기타 정보 서비스업 | J18: 63991 | K18: 데이터베이스 및 온라인정보 제공업
J19: 63999 | K19: 그 외 기타 정보 서비스업
B20: K | C20: 금융 및 보험업(64~66) | D20: 64 | E20: 금융업 | F20: 641 | G20: 은행 및 저축기관 | H20: 6411 | I20: 중앙은행 | J20: 64110 | K20: 중앙은행
H21: 6412 | I21: 일반은행 | J21: 64121 | K21: 국내은행
J22: 64122 | K22: 외국은행
H23: 6413 | I23: 신용조합 및 저축기관 | J23: 64131 | K23: 신용조합
J24: 64132 | K24: 상호저축은행 및 기타 저축기관
F25: 642 | G25: 신탁업 및 집합투자업 | H25: 6420 | I25: 신탁업 및 집합투자업 | J25: 64201 | K25: 식탁업 및 집합투자업
J26: 64209 | K26: 기타 금융 투자업
F27: 649 | G27: 기타 금융업 | H27: 6491 | I27: 여신금융업 | J27: 64911 | K27: 금융리스업
J28: 64912 | K28: 개발금융기관
J29: 64913 | K29: 신용카드 및 할부금융업
J30: 64919 | K30: 그 외 기타 여신금융업
H31: 6499 | I31: 그 외 기타 금융업 | J31: 64991 | K31: 기금 운영업
J32: 64992 | K32: 지주회사
J33: 64999 | K33: 그 외 기타 분류 안된 금융업
D34: 65 | E34: 보험 및 연금업 | F34: 651 | G34: 보험업 | H34: 6511 | I34: 생명 보험업 | J34: 65110 | K34: 생명보험업
H35: 6512 | I35: 손해 및 보증 보험업 | J35: 65121 | K35: 손해 보험업
J36: 65122 | K36: 보증 보험업
H37: 6513 | I37: 사회보장 보험업 | J37: 65131 | K37: 건강 보험업
J38: 65139 | K38: 산업재해 및 기타 사회보장 보험업
F39: 652 | G39: 재 보험업 | H39: 6520 | I39: 재 보험업 | J39: 65200 | K39: 재 보험업
F40: 653 | G40: 연금 및 공제업 | H40: 6530 | I40: 연금 및 공제업 | J40: 65301 | K40: 개인 공제업
J41: 65302 | K41: 사업 공제업
J42: 65303 | K42: 연금업
D43: 66 | E43: 금융 및 보험 관련 서비스업 | F43: 661 | G43: 금융 지원 서비스업 | H43: 6611 | I43: 금융시장 관리업 | J43: 66110 | K43: 금융시장 관리업
H44: 6612 | I44: 증권 및 선물 중개업 | J44: 66121 | K44: 증권 중개업
J45: 66122 | K45: 선물 중개업
H46: 6619 | I46: 기타 금융 지원 서비스업 | J46: 66191 | K46: 증권 발행, 관리, 보관 및 거래 지원 서비스업
J47: 66192 | K47: 투자 자문업 및 투자 일임업
J48: 66199 | K48: 그 외 기타 금융 지원 서비스업
F49: 662 | G49: 보험 및 연금관련 서비스업 | H49: 6620 | I49: 보험 및 연금관련 서비스업 | J49: 66201 | K49: 손해 사정업
J50: 66202 | K50: 보험 대리 및 중개업
J51: 66209 | K51: 기타 보험 및 연금관련 서비스업
B52: M | C52: 전문, 과학 및 기술 서비스업(70~73) | D52: 71 | E52: 전문 서비스업 | F52: 716 | G52: 기타 전문서비스업 | H52: 7160 | I52: 기타 전문서비스업 | J52: 71600 | K52: 기타 전문서비스업
D53: 72 | E53: 건출기술, 엔지니어링 및 기타 과학기술 서비스업 | F53: 721 | G53: 건출기술, 엔지니어링 및 관련 기술 서비스업 | H53: 7211 | I53: 건축 및 조경 설계 서비스업 | J53: 72111 | K53: 건축설계 및 관련 서비스업
J54: 72112 | K54: 도시계획 및 조경설계 서비스업
H55: 7212 | I55: 엔지니어링 서비스업 | J55: 72121 | K55: 건물 및 토목 엔지니어링 서비스업
J56: 72122 | K56: 환경 관련 엔지니어링 서비스업
J57: 72129 | K57: 기타 엔지니어링 서비스업
F58: 729 | G58: 기타 과학기술 서미스업 | H58: 7291 | I58: 기술 시험, 검사 및 분석업 | J58: 72911 | K58: 물질성분 검사 및 분석업
J59: 72919 | K59: 기타 기술 시험, 검사 및 분석업
H60: 7292 | I60: 측량, 지질조사 및 지도제작업 | J60: 72921 | K60: 측량업
J61: 72922 | K61: 제도업
J62: 72923 | K62: 지질 조사 및 탐사업
J63: 72924 | K63: 지도 제작업
D64: 73 | E64: 기타 전문, 과학 및 기술 서비스업 | F64: 731 | G64: 수의업 | H64: 7310 | I64: 수의업 | J64: 73100 | K64: 수의업
F65: 732 | G65: 전문 디자인업 | H65: 7320 | I65: 전문 디자인업 | J65: 73201 | K65: 인테리어 디자인업
J66: 73202 | K66: 제품 디자인업
J67: 73203 | K67: 시각 디자인업
J68: 73209 | K68: 패션, 섬유류 및 기타 전문 디자인업
F69: 733 | G69: 사진 촬영 및 처리업 | H69: 7330 | I69: 사진 촬영 및 처리업 | J69: 73301 | K69: 인물사진 및 행사용 영상 촬영업
J70: 73302 | K70: 상업용 사진 촬영업
F71: 739 | G71: 그 외 기타 전문, 과학 및 기술 서비스업 | H71: 7390 | I71: 그 외 기타 전문, 과학 및 기술 서비스업 | J71: 73901 | K71: 매니저업
J72: 13902 | K72: 번역 및 통역 서비스업
J73: 73903 | K73: 사업 및 무형 재산권 중개업
J74: 73904 | K74: 물품 감정, 계량 및 견본 추출업
J75: 73909 | K75: 그 외 기타 분류 안된 전문, 과학 및 기술 서비스업
B76: N | C76: 사업시설 관리, 사업 지원 및 임대 서비스업(74~76) | D76: 75 | E76: 사업지원 서비스업 | F76: 751 | G76: 고용알선 및 인력공급업 | H76: 7511 | I76: 고용 알선업 | J76: 75110 | K76: 고용 알선업
H77: 7512 | I77: 인력 공급업 | J77: 75121 | K77: 임시 및 일용 인력 공급업
J78: 75122 | K78: 상용 인력 공급 및 인사관리 서비스업
F79: 752 | G79: 여행사 및 기타 여행보조 서비스업 | H79: 7521 | I79: 여행사업 | J79: 75210 | K79: 여행사업
H80: 7529 | I80: 기타 여행보조 및 예약 서비스업 | J80: 75290 | K80: 기타 여행 보조 및 예약 서비스업
F81: 753 | G81: 경비, 경호 및 탐정업 | H81: 7531 | I81: 경비 및 경호 서비스업 | J81: 75310 | K81: 경비 및 경호 서비스업
H82: 7532 | I82: 보안시스템 서비스업 | J82: 75320 | K82: 보안시스템 서비스업
H83: 7533 | I83: 탐정 및 조사 서비스업 | J83: 75330 | K83: 탐정 및 조사 서비스업
F84: 759 | G84: 기타 사업지원 서비스업 | H84: 7591 | I84: 사무지원 서비스업 | J84: 75911 | K84: 문서 작성업
J85: 75912 | K85: 복사업
J86: 75919 | K86: 기타 사무지원 서비스업
H87: 7599 | I87: 그 외 기타 사업지원 서비스업 | J87: 75991 | K87: 콜센터 및 텔레마케팅 서비스업
J88: 75992 | K88: 전시, 컨벤션 및 행사 대행업
J89: 75993 | K89: 신용 조사 및 추심 대행업
J90: 75994 | K90: 포장 및 충전업
J91: 75999 | K91: 그 외 기타 분류 안된 사업지원 서비스업
B92: Q | C92: 보건업 및 사회복지 서비스업(86~87) | D92: 87 | E92: 사회복지 서비스업 | F92: 871 | G92: 거주 복지시설 운영업 | H92: 8711 | I92: 노인 거주 복지시설 운영업 | J92: 87111 | K92: 노인 요양 복지시설 운영업
J93: 87112 | K93: 노인 양로 복지시설 운영업
H94: 8712 | I94: 심신장애인 거주 복지시설 운영업 | J94: 87121 | K94: 신체 부자유자 거주 복지시설 운영업
J95: 87122 | K95: 정신질환, 정신지체 및 약물 중독자 거주 복지시설 운영업
H96: 8713 | I96: 기타 거주 복지시설 운영업 | J96: 87131 | K96: 아동 및 부녀자 거주 복지시설 운영업
J97: 87139 | K97: 그 외 기타 거주 복지시설 운영업
F98: 872 | G98: 비거주 복지시설 운영업 | H98: 8721 | I98: 보육시설 운영업 | J98: 87210 | K98: 보육시설 운영업
H99: 8729 | I99: 기타 비거주 복지 서비스업 | J99: 87291 | K99: 직업재활원 운영업
J100: 87292 | K100: 종합복지관 운영업
J101: 87293 | K101: 방문 복지서비스 제공업
J102: 87294 | K102: 사회복지 상담서비스 제공업
...

Sheet 안전보건관리책임자(시행령 별표 2)
B2: ▣ 안전보건관리책임자를 두어야 하는 사업의 종류 및 사업장의 상시근로자 수(제14조제1항 관련) | M2: ● : 안전보건관리책임자
B4: 구분 | C4: 대분류 | E4: 중분류 | G4: 소분류 | I4: 세분류 | K4: 세세분류 | L4: 50명 이상 | M4: 100명 이상 | N4: 300명 이상 | O4: 비고
B5: A | C5: 농업, 임업 및 어업(01~03) | D5: 01 | E5: 농업 | F5: 011 | G5: 작물 재배업 | H5: 0111 | I5: 곡물 및 기타 식량작물 재배업 | J5: 01110 | K5: 곡물 및 기타 식량작물 재배업 | L5: - | M5: - | N5: ● | O5: -
H6: 0112 | I6: 채소, 화훼작물 및 종묘 재배업 | J6: 01121 | K6: 채소작물 재배업 | L6: - | M6: - | N6: ● | O6: -
J7: 01122 | K7: 화훼작물 재배업 | L7: - | M7: - | N7: ● | O7: -
J8: 01123 | K8: 종자 및 묘목 생산업 | L8: - | M8: - | N8: ● | O8: -
H9: 0113 | I9: 과실, 음료용 및 향신용 작물 재배업 | J9: 01131 | K9: 과실작물 재배업 | L9: - | M9: - | N9: ● | O9: -
J10: 01132 | K10: 음료용 및 향신용 작물 재배업 | L10: - | M10: - | N10: ● | O10: -
H11: 0114 | I11: 기타 작물 재배업 | J11: 01140 | K11: 기타 작물 재배업 | L11: - | M11: - | N11: ● | O11: -
H12: 0115 | I12: 시설작물 재배업 | J12: 01151 | K12: 콩나물 재배업 | L12: - | M12: - | N12: ● | O12: -
J13: 01152 | K13: 채소, 화훼 및 과실작물 시설 재배업 | L13: - | M13: - | N13: ● | O13: -
J14: 01159 | K14: 기타 시설작물 재배업 | L14: - | M14: - | N14: ● | O14: -
F15: 012 | G15: 축산업 | H15: 0121 | I15: 소 사육업 | J15: 01211 | K15: 젖소 사육업 | L15: - | M15: - | N15: ● | O15: -
J16: 01212 | K16: 육우 사육업 | L16: - | M16: - | N16: ● | O16: -
H17: 0122 | I17: 양돈업 | J17: 01220 | K17: 양돈업 | L17: - | M17: - | N17: ● | O17: -
H18: 0123 | I18: 가금류 및 조류 사육업 | J18: 01231 | K18: 양계업 | L18: - | M18: - | N18: ● | O18: -
J19: 01239 | K19: 기타 가금류 및 조류 사육업 | L19: - | M19: - | N19: ● | O19: -
H20: 0129 | I20: 기타 축산업 | J20: 01291 | K20: 말 및 양 사육업 | L20: - | M20: - | N20: ● | O20: -
J21: 01299 | K21: 그 외 기타 축산업 | L21: - | M21: - | N21: ● | O21: -
F22: 013 | G22: 작물재배 및 축산 복합농업 | H22: 0130 | I22: 작물재배 및 축산 복합농업 | J22: 01300 | K22: 작물재배 및 축산 복합농업 | L22: - | M22: - | N22: ● | O22: -
F23: 014 | G23: 작물재배 및 축산 관련 서비스업 | H23: 0141 | I23: 작물재배 관련 서비스업 | J23: 01411 | K23: 작물재배 지원 서비스업 | L23: - | M23: - | N23: ● | O23: -
J24: 01412 | K24: 농산물 건조, 선별 및 기타 수확 후 서비스업 | L24: - | M24: - | N24: ● | O24: -
H25: 0142 | I25: 축산 관련 서비스업 | J25: 01420 | K25: 축산 관련 서비스업 | L25: - | M25: - | N25: ● | O25: -
F26: 015 | G26: 수렵 및 관련 서비스업 | H26: 0150 | I26: 수렵 및 관련 서비스업 | J26: 01500 | K26: 수렵 및 관련 서비스업 | L26: - | M26: - | N26: ● | O26: -
D27: 02 | E27: 임업 | F27: 020 | G27: 임업 | H27: 0201 | I27: 영림업 | J27: 02011 | K27: 임업용 종묘 생산업 | L27: - | M27: ● | N27: - | O27: -
J28: 02012 | K28: 육림업 | L28: - | M28: ● | N28: - | O28: -
H29: 0202 | I29: 벌목업 | J29: 02020 | K29: 벌목업 | L29: - | M29: ● | N29: - | O29: -
H30: 0203 | I30: 임산물 채취업 | J30: 02030 | K30: 임산물 채취업 | L30: - | M30: ● | N30: - | O30: -
H31: 0204 | I31: 임업 관련 서비스업 | J31: 02040 | K31: 임업 관련 서비스업 | L31: - | M31: ● | N31: - | O31: -
D32: 03 | E32: 어업 | F32: 031 | G32: 어로 어업 | H32: 0311 | I32: 해수면 어업 | J32: 03111 | K32: 원양 어업 | L32: - | M32: - | N32: ● | O32: -
J33: 03112 | K33: 연근해 어업 | L33: - | M33: - | N33: ● | O33: -
H34: 0312 | I34: 내수면 어업 | J34: 03120 | K34: 내수면 어업 | L34: - | M34: - | N34: ● | O34: -
F35: 032 | G35: 양식어업 및 어업관련 서비스업 | H35: 0321 | I35: 양식 어업 | J35: 03211 | K35: 해수면 양식 어업 | L35: - | M35: - | N35: ● | O35: -
J36: 03212 | K36: 내수면 양식 어업 | L36: - | M36: - | N36: ● | O36: -
J37: 03213 | K37: 수산물 부화 및 수산종자 생산업 | L37: - | M37: - | N37: ● | O37: -
H38: 0322 | I38: 어업 관련 서비스업 | J38: 03220 | K38: 어업 관련 서비스업 | L38: - | M38: - | N38: ● | O38: -
B39: B | C39: 광업(05~08) | D39: 05 | E39: 석탄, 원유 및 천연가스 광업 | F39: 051 | G39: 석탄 광업 | H39: 0510 | I39: 석탄 광업 | J39: 05100 | K39: 석탄 광업 | L39: - | M39: ● | N39: - | O39: -
F40: 052 | G40: 원유 및 천연가스 채굴업 | H40: 0520 | I40: 원유 및 천연가스 채굴업 | J40: 05200 | K40: 원유 및 천연가스 채굴업 | L40: - | M40: ● | N40: - | O40: -
D41: 06 | E41: 금속 광업 | F41: 061 | G41: 철 광업 | H41: 0610 | I41: 철 광업 | J41: 06100 | K41: 철 광업 | L41: - | M41: ● | N41: - | O41: -
F42: 062 | G42: 비철금속 광업 | H42: 0620 | I42: 비철금속 광업 | J42: 06200 | K42: 비철금속 광업 | L42: - | M42: ● | N42: - | O42: -
D43: 07 | E43: 비금속광물 광업; 연료용 제외 | F43: 071 | G43: 토사석 광업 | H43: 0711 | I43: 석회석 및 검토 광업 | J43: 07110 | K43: 석회석 및 검토 광업 | L43: ● | M43: - | N43: - | O43: -
H44: 0712 | I44: 석재, 쇄석 및 모래, 자갈 채취업 | J44: 07121 | K44: 건설용 석재 채굴 및 쇄석 생산업 | L44: ● | M44: - | N44: - | O44: -
J45: 07122 | K45: 모래 및 자갈 채취업 | L45: ● | M45: - | N45: - | O45: -
F46: 072 | G46: 기타 비금속광물 광업 | H46: 0721 | I46: 화학용 및 비료원료용 광물 광업 | J46: 07210 | K46: 화학용 및 비료원료용 광물 광업 | L46: - | M46: ● | N46: - | O46: -
H47: 0722 | I47: 천일염 생산 및 암염 채취업 | J47: 07220 | K47: 천일염 생산 및 암염 채취업 | L47: - | M47: ● | N47: - | O47: -
H48: 0729 | I48: 그 외 기타 비금속광물 광업 | J48: 07290 | K48: 그 외 기타 비금속광물 광업 | L48: - | M48: ● | N48: - | O48: -
D49: 08 | E49: 광업 지원 서비스업 | F49: 080 | G49: 광업 지원 서비스업 | H49: 0800 | I49: 광업 지원 서비스업 | J49: 08000 | K49: 광업 지원 서비스업 | L49: - | M49: ● | N49: - | O49: -
B50: C | C50: 제조업(10~34) | D50: 10 | E50: 식료품 제조업 | F50: 101 | G50: 도축, 육류 가공 및 저장 처리업 | H50: 1011 | I50: 도축업 | J50: 10111 | K50: 육류 도축업(가금류 제외) | L50: ● | M50: - | N50: - | O50: -
J51: 10112 | K51: 가금류 도축업 | L51: ● | M51: - | N51: - | O51: -
H52: 1012 | I52: 육류 가공 및 저장 처리업 | J52: 10121 | K52: 가금류 가공 및 저장 처리업 | L52: ● | M52: - | N52: - | O52: -
J53: 10122 | K53: 육류 포장육 및 냉동육 가공업(가금류 제외) | L53: ● | M53: - | N53: - | O53: -
J54: 10129 | K54: 육류 기타 가공 및 저장처리업(가금류 제외) | L54: ● | M54: - | N54: - | O54: -
F55: 102 | G55: 수산물 가공 및 저장 처리업 | H55: 1021 | I55: 수산동물 가공 및 저장 처리업 | J55: 10211 | K55: 수산동물 훈제, 조리 및 유사 조제식품 제조업 | L55: ● | M55: - | N55: - | O55: -
J56: 10212 | K56: 수산동물 건조 및 염장품 제조업 | L56: ● | M56: - | N56: - | O56: -
J57: 10213 | K57: 수산동물 냉동품 제조업 | L57: ● | M57: - | N57: - | O57: -
J58: 10219 | K58: 기타 수산동물 가공 및 저장 처리업 | L58: ● | M58: - | N58: - | O58: -
H59: 1022 | I59: 수산식물 가공 및 저장 처리업 | J59: 10220 | K59: 수산식물 가공 및 저장 처리업 | L59: ● | M59: - | N59: - | O59: -
F60: 103 | G60: 과실, 채소 가공 및 저장 처리업 | H60: 1030 | I60: 과실, 채소 가공 및 저장 처리업 | J60: 10301 | K60: 김치류 제조업 | L60: ● | M60: - | N60: - | O60: -
J61: 10302 | K61: 과실 및 그 외 채소 절임식품 제조업 | L61: ● | M61: - | N61: - | O61: -
J62: 10309 | K62: 기타 과실·채소 가공 및 저장 처리업 | L62: ● | M62: - | N62: - | O62: -
F63: 104 | G63: 동물성 및 식물성 유지 제조업 | H63: 1040 | I63: 동물성 및 식물성 유지 제조업 | J63: 10401 | K63: 동물성 유지 제조업 | L63: ● | M63: - | N63: - | O63: -
J64: 10402 | K64: 식물성 유지 제조업 | L64: ● | M64: - | N64: - | O64: -
J65: 10403 | K65: 식용 정제유 및 가공유 제조업 | L65: ● | M65: - | N65: - | O65: -
F66: 105 | G66: 낙농제품 및 식용빙과류 제조업 | H66: 1050 | I66: 낙농제품 및 식용빙과류 제조업 | J66: 10501 | K66: 액상시유 및 기타 낙농제품 제조업 | L66: ● | M66: - | N66: - | O66: -
J67: 10502 | K67: 아이스크림 및 기타 식용빙과류 제조업 | L67: ● | M67: - | N67: - | O67: -
F68: 106 | G68: 곡물가공품, 전분 및 전분제품 제조업 | H68: 1061 | I68: 곡물 가공품 제조업 | J68: 10611 | K68: 곡물 도정업 | L68: ● | M68: - | N68: - | O68: -
J69: 10612 | K69: 곡물 제분업 | L69: ● | M69: - | N69: - | O69: -
J70: 10613 | K70: 곡물 혼합분말 및 반죽 제조업 | L70: ● | M70: - | N70: - | O70: -
J71: 10619 | K71: 기타 곡물 가공품 제조업 | L71: ● | M71: - | N71: - | O71: -
H72: 1062 | I72: 전분제품 및 당류 제조업 | J72: 10620 | K72: 전분제품 및 당류 제조업 | L72: ● | M72: - | N72: - | O72: -
F73: 107 | G73: 기타 식품 제조업 | H73: 1071 | I73: 떡, 빵 및 과자류 제조업 | J73: 10711 | K73: 떡류 제조업 | L73: ● | M73: - | N73: - | O73: -
J74: 10712 | K74: 빵류 제조업 | L74: ● | M74: - | N74: - | O74: -
J75: 10713 | K75: 과자류 및 코코아 제품 제조업 | L75: ● | M75: - | N75: - | O75: -
H76: 1072 | I76: 설탕 제조업 | J76: 10720 | K76: 설탕 제조업 | L76: ● | M76: - | N76: - | O76: -
H77: 1073 | I77: 면류, 마카로니 및 유사식품 제조업 | J77: 10730 | K77: 면류, 마카로니 및 유사식품 제조업 | L77: ● | M77: - | N77: - | O77: -
H78: 1074 | I78: 조미료 및 식품 첨가물 제조업 | J78: 10741 | K78: 식초, 발효 및 화학 조미료 제조업 | L78: ● | M78: - | N78: - | O78: -
J79: 10742 | K79: 천연 및 혼합조제 조미료 제조업 | L79: ● | M79: - | N79: - | O79: -
J80: 10743 | K80: 장류 제조업 | L80: ● | M80: - | N80: - | O80: -
J81: 10749 | K81: 기타 식품 첨가물 제조업 | L81: ● | M81: - | N81: - | O81: -
H82: 1075 | I82: 도시락 및 식사용 조리식품 제조업 | J82: 10751 | K82: 도시락류 제조업 | L82: ● | M82: - | N82: - | O82: -
J83: 10759 | K83: 기타 식사용 가공처리 조리식품 제조업 | L83: ● | M83: - | N83: - | O83: -
H84: 1079 | I84: 기타 식료품 제조업 | J84: 10791 | K84: 커피 가공업 | L84: ● | M84: - | N84: - | O84: -
J85: 10792 | K85: 차류 가공업 | L85: ● | M85: - | N85: - | O85: -
J86: 10793 | K86: 수프 및 균질화식품 제조업 | L86: ● | M86: - | N86: - | O86: -
J87: 10794 | K87: 두부 및 유사식품 제조업 | L87: ● | M87: - | N87: - | O87: -
J88: 10795 | K88: 인삼식품 제조업 | L88: ● | M88: - | N88: - | O88: -
J89: 10796 | K89: 건강보조용 액화식품 제조업 | L89: ● | M89: - | N89: - | O89: -
J90: 10797 | K90: 건강기능식품 제조업 | L90: ● | M90: - | N90: - | O90: -
J91: 10799 | K91: 그 외 기타 식료품 제조업 | L91: ● | M91: - | N91: - | O91: -
F92: 108 | G92: 동물용 사료 및 조제식품 제조업 | H92: 1080 | I92: 동물용 사료 및 조제식품 제조업 | J92: 10801 | K92: 배합 사료 제조업 | L92: ● | M92: - | N92: - | O92: -
J93: 10802 | K93: 단미 사료 및 기타 사료 제조업 | L93: ● | M93: - | N93: - | O93: -
D94: 11 | E94: 음료 제조업 | F94: 111 | G94: 알코올음료 제조업 | H94: 1111 | I94: 발효주 제조업 | J94: 11111 | K94: 탁주 및 약주 제조업 | L94: ● | M94: - | N94: - | O94: -
J95: 11112 | K95: 맥아 및 맥주 제조업 | L95: ● | M95: - | N95: - | O95: -
J96: 11119 | K96: 기타 발효주 제조업 | L96: ● | M96: - | N96: - | O96: -
H97: 1112 | I97: 증류주 및 합성주 제조업 | J97: 11121 | K97: 주정 제조업 | L97: ● | M97: - | N97: - | O97: -
J98: 11122 | K98: 소주 제조업 | L98: ● | M98: - | N98: - | O98: -
J99: 11129 | K99: 기타 증류주 및 합성주 제조업 | L99: ● | M99: - | N99: - | O99: -
F100: 112 | G100: 비알코올음료 및 얼음 제조업 | H100: 1120 | I100: 비알코올음료 및 얼음 제조업 | J100: 11201 | K100: 얼음 제조업 | L100: ● | M100: - | N100: - | O100: -
J101: 11202 | K101: 생사 생산업 | L101: ● | M101: - | N101: - | O101: -
J102: 11209 | K102: 기타 비알코올 음료 제조업 | L102: ● | M102: - | N102: - | O102: -
...

Sheet 안전관리자(시행령 별표 3)
B2: ▣ 안전관리자를 두어야 하는 사업의 종류 및 사업장의 상시근로자 수(제16조제1항 관련) | Q2: ■ : 안전관리자
B4: 구분 | C4: 대분류 | E4: 중분류 | G4: 소분류 | I4: 세분류 | K4: 세세분류 | L4: 50~99명 | M4: 100~299명 | N4: 300~499명 | O4: 500~999명 | P4: 1000~3999명 | Q4: 4000~4999명 | R4: 5000명 이상 | S4: 비고
B5: A | C5: 농업, 임업 및 어업(01~03) | D5: 01 | E5: 농업 | F5: 011 | G5: 작물 재배업 | H5: 0111 | I5: 곡물 및 기타 식량작물 재배업 | J5: 01110 | K5: 곡물 및 기타 식량작물 재배업 | L5: ■ | M5: ■ | N5: ■ | O5: ■ | P5: ■■ | Q5: ■■ | R5: ■■ | S5: -
H6: 0112 | I6: 채소, 화훼작물 및 종묘 재배업 | J6: 01121 | K6: 채소작물 재배업 | L6: ■ | M6: ■ | N6: ■ | O6: ■ | P6: ■■ | Q6: ■■ | R6: ■■ | S6: -
J7: 01122 | K7: 화훼작물 재배업 | L7: ■ | M7: ■ | N7: ■ | O7: ■ | P7: ■■ | Q7: ■■ | R7: ■■ | S7: -
J8: 01123 | K8: 종자 및 묘목 생산업 | L8: ■ | M8: ■ | N8: ■ | O8: ■ | P8: ■■ | Q8: ■■ | R8: ■■ | S8: -
H9: 0113 | I9: 과실, 음료용 및 향신용 작물 재배업 | J9: 01131 | K9: 과실작물 재배업 | L9: ■ | M9: ■ | N9: ■ | O9: ■ | P9: ■■ | Q9: ■■ | R9: ■■ | S9: -
J10: 01132 | K10: 음료용 및 향신용 작물 재배업 | L10: ■ | M10: ■ | N10: ■ | O10: ■ | P10: ■■ | Q10: ■■ | R10: ■■ | S10: -
H11: 0114 | I11: 기타 작물 재배업 | J11: 01140 | K11: 기타 작물 재배업 | L11: ■ | M11: ■ | N11: ■ | O11: ■ | P11: ■■ | Q11: ■■ | R11: ■■ | S11: -
H12: 0115 | I12: 시설작물 재배업 | J12: 01151 | K12: 콩나물 재배업 | L12: ■ | M12: ■ | N12: ■ | O12: ■ | P12: ■■ | Q12: ■■ | R12: ■■ | S12: -
J13: 01152 | K13: 채소, 화훼 및 과실작물 시설 재배업 | L13: ■ | M13: ■ | N13: ■ | O13: ■ | P13: ■■ | Q13: ■■ | R13: ■■ | S13: -
J14: 01159 | K14: 기타 시설작물 재배업 | L14: ■ | M14: ■ | N14: ■ | O14: ■ | P14: ■■ | Q14: ■■ | R14: ■■ | S14: -
F15: 012 | G15: 축산업 | H15: 0121 | I15: 소 사육업 | J15: 01211 | K15: 젖소 사육업 | L15: ■ | M15: ■ | N15: ■ | O15: ■ | P15: ■■ | Q15: ■■ | R15: ■■ | S15: -
J16: 01212 | K16: 육우 사육업 | L16: ■ | M16: ■ | N16: ■ | O16: ■ | P16: ■■ | Q16: ■■ | R16: ■■ | S16: -
H17: 0122 | I17: 양돈업 | J17: 01220 | K17: 양돈업 | L17: ■ | M17: ■ | N17: ■ | O17: ■ | P17: ■■ | Q17: ■■ | R17: ■■ | S17: -
H18: 0123 | I18: 가금류 및 조류 사육업 | J18: 01231 | K18: 양계업 | L18: ■ | M18: ■ | N18: ■ | O18: ■ | P18: ■■ | Q18: ■■ | R18: ■■ | S18: -
J19: 01239 | K19: 기타 가금류 및 조류 사육업 | L19: ■ | M19: ■ | N19: ■ | O19: ■ | P19: ■■ | Q19: ■■ | R19: ■■ | S19: -
H20: 0129 | I20: 기타 축산업 | J20: 01291 | K20: 말 및 양 사육업 | L20: ■ | M20: ■ | N20: ■ | O20: ■ | P20: ■■ | Q20: ■■ | R20: ■■ | S20: -
J21: 01299 | K21: 그 외 기타 축산업 | L21: ■ | M21: ■ | N21: ■ | O21: ■ | P21: ■■ | Q21: ■■ | R21: ■■ | S21: -
F22: 013 | G22: 작물재배 및 축산 복합농업 | H22: 0130 | I22: 작물재배 및 축산 복합농업 | J22: 01300 | K22: 작물재배 및 축산 복합농업 | L22: ■ | M22: ■ | N22: ■ | O22: ■ | P22: ■■ | Q22: ■■ | R22: ■■ | S22: -
F23: 014 | G23: 작물재배 및 축산 관련 서비스업 | H23: 0141 | I23: 작물재배 관련 서비스업 | J23: 01411 | K23: 작물재배 지원 서비스업 | L23: ■ | M23: ■ | N23: ■ | O23: ■ | P23: ■■ | Q23: ■■ | R23: ■■ | S23: -
J24: 01412 | K24: 농산물 건조, 선별 및 기타 수확 후 서비스업 | L24: ■ | M24: ■ | N24: ■ | O24: ■ | P24: ■■ | Q24: ■■ | R24: ■■ | S24: -
H25: 0142 | I25: 축산 관련 서비스업 | J25: 01420 | K25: 축산 관련 서비스업 | L25: ■ | M25: ■ | N25: ■ | O25: ■ | P25: ■■ | Q25: ■■ | R25: ■■ | S25: -
F26: 015 | G26: 수렵 및 관련 서비스업 | H26: 0150 | I26: 수렵 및 관련 서비스업 | J26: 01500 | K26: 수렵 및 관련 서비스업 | L26: ■ | M26: ■ | N26: ■ | O26: ■ | P26: ■■ | Q26: ■■ | R26: ■■ | S26: -
D27: 02 | E27: 임업 | F27: 020 | G27: 임업 | H27: 0201 | I27: 영림업 | J27: 02011 | K27: 임업용 종묘 생산업 | L27: ■ | M27: ■ | N27: ■ | O27: ■ | P27: ■■ | Q27: ■■ | R27: ■■ | S27: -
J28: 02012 | K28: 육림업 | L28: ■ | M28: ■ | N28: ■ | O28: ■ | P28: ■■ | Q28: ■■ | R28: ■■ | S28: -
H29: 0202 | I29: 벌목업 | J29: 02020 | K29: 벌목업 | L29: ■ | M29: ■ | N29: ■ | O29: ■ | P29: ■■ | Q29: ■■ | R29: ■■ | S29: -
H30: 0203 | I30: 임산물 채취업 | J30: 02030 | K30: 임산물 채취업 | L30: ■ | M30: ■ | N30: ■ | O30: ■ | P30: ■■ | Q30: ■■ | R30: ■■ | S30: -
H31: 0204 | I31: 임업 관련 서비스업 | J31: 02040 | K31: 임업 관련 서비스업 | L31: ■ | M31: ■ | N31: ■ | O31: ■ | P31: ■■ | Q31: ■■ | R31: ■■ | S31: -
D32: 03 | E32: 어업 | F32: 031 | G32: 어로 어업 | H32: 0311 | I32: 해수면 어업 | J32: 03111 | K32: 원양 어업 | L32: ■ | M32: ■ | N32: ■ | O32: ■ | P32: ■■ | Q32: ■■ | R32: ■■ | S32: -
J33: 03112 | K33: 연근해 어업 | L33: ■ | M33: ■ | N33: ■ | O33: ■ | P33: ■■ | Q33: ■■ | R33: ■■ | S33: -
H34: 0312 | I34: 내수면 어업 | J34: 03120 | K34: 내수면 어업 | L34: ■ | M34: ■ | N34: ■ | O34: ■ | P34: ■■ | Q34: ■■ | R34: ■■ | S34: -
F35: 032 | G35: 양식어업 및 어업관련 서비스업 | H35: 0321 | I35: 양식 어업 | J35: 03211 | K35: 해수면 양식 어업 | L35: ■ | M35: ■ | N35: ■ | O35: ■ | P35: ■■ | Q35: ■■ | R35: ■■ | S35: -
J36: 03212 | K36: 내수면 양식 어업 | L36: ■ | M36: ■ | N36: ■ | O36: ■ | P36: ■■ | Q36: ■■ | R36: ■■ | S36: -
J37: 03213 | K37: 수산물 부화 및 수산종자 생산업 | L37: ■ | M37: ■ | N37: ■ | O37: ■ | P37: ■■ | Q37: ■■ | R37: ■■ | S37: -
H38: 0322 | I38: 어업 관련 서비스업 | J38: 03220 | K38: 어업 관련 서비스업 | L38: ■ | M38: ■ | N38: ■ | O38: ■ | P38: ■■ | Q38: ■■ | R38: ■■ | S38: -
B39: B | C39: 광업(05~08) | D39: 07 | E39: 비금속광물 광업; 연료용 제외 | F39: 071 | G39: 토사석 광업 | H39: 0711 | I39: 석회석 및 검토 광업 | J39: 07110 | K39: 석회석 및 검토 광업 | L39: ■ | M39: ■ | N39: ■ | O39: ■■ | P39: ■■ | Q39: ■■ | R39: ■■ | S39: -
H40: 0712 | I40: 석재, 쇄석 및 모래, 자갈 채취업 | J40: 07121 | K40: 건설용 석재 채굴 및 쇄석 생산업 | L40: ■ | M40: ■ | N40: ■ | O40: ■■ | P40: ■■ | Q40: ■■ | R40: ■■ | S40: -
J41: 07122 | K41: 모래 및 자갈 채취업 | L41: ■ | M41: ■ | N41: ■ | O41: ■■ | P41: ■■ | Q41: ■■ | R41: ■■ | S41: -
B42: C | C42: 제조업(10~34) | D42: 10 | E42: 식료품 제조업 | F42: 101 | G42: 도축, 육류 가공 및 저장 처리업 | H42: 1011 | I42: 도축업 | J42: 10111 | K42: 육류 도축업(가금류 제외) | L42: ■ | M42: ■ | N42: ■ | O42: ■■ | P42: ■■ | Q42: ■■ | R42: ■■ | S42: -
J43: 10112 | K43: 가금류 도축업 | L43: ■ | M43: ■ | N43: ■ | O43: ■■ | P43: ■■ | Q43: ■■ | R43: ■■ | S43: -
H44: 1012 | I44: 육류 가공 및 저장 처리업 | J44: 10121 | K44: 가금류 가공 및 저장 처리업 | L44: ■ | M44: ■ | N44: ■ | O44: ■■ | P44: ■■ | Q44: ■■ | R44: ■■ | S44: -
J45: 10122 | K45: 육류 포장육 및 냉동육 가공업(가금류 제외) | L45: ■ | M45: ■ | N45: ■ | O45: ■■ | P45: ■■ | Q45: ■■ | R45: ■■ | S45: -
J46: 10129 | K46: 육류 기타 가공 및 저장처리업(가금류 제외) | L46: ■ | M46: ■ | N46: ■ | O46: ■■ | P46: ■■ | Q46: ■■ | R46: ■■ | S46: -
F47: 102 | G47: 수산물 가공 및 저장 처리업 | H47: 1021 | I47: 수산동물 가공 및 저장 처리업 | J47: 10211 | K47: 수산동물 훈제, 조리 및 유사 조제식품 제조업 | L47: ■ | M47: ■ | N47: ■ | O47: ■■ | P47: ■■ | Q47: ■■ | R47: ■■ | S47: -
J48: 10212 | K48: 수산동물 건조 및 염장품 제조업 | L48: ■ | M48: ■ | N48: ■ | O48: ■■ | P48: ■■ | Q48: ■■ | R48: ■■ | S48: -
J49: 10213 | K49: 수산동물 냉동품 제조업 | L49: ■ | M49: ■ | N49: ■ | O49: ■■ | P49: ■■ | Q49: ■■ | R49: ■■ | S49: -
J50: 10219 | K50: 기타 수산동물 가공 및 저장 처리업 | L50: ■ | M50: ■ | N50: ■ | O50: ■■ | P50: ■■ | Q50: ■■ | R50: ■■ | S50: -
H51: 1022 | I51: 수산식물 가공 및 저장 처리업 | J51: 10220 | K51: 수산식물 가공 및 저장 처리업 | L51: ■ | M51: ■ | N51: ■ | O51: ■■ | P51: ■■ | Q51: ■■ | R51: ■■ | S51: -
F52: 103 | G52: 과실, 채소 가공 및 저장 처리업 | H52: 1030 | I52: 과실, 채소 가공 및 저장 처리업 | J52: 10301 | K52: 김치류 제조업 | L52: ■ | M52: ■ | N52: ■ | O52: ■■ | P52: ■■ | Q52: ■■ | R52: ■■ | S52: -
J53: 10302 | K53: 과실 및 그 외 채소 절임식품 제조업 | L53: ■ | M53: ■ | N53: ■ | O53: ■■ | P53: ■■ | Q53: ■■ | R53: ■■ | S53: -
J54: 10309 | K54: 기타 과실·채소 가공 및 저장 처리업 | L54: ■ | M54: ■ | N54: ■ | O54: ■■ | P54: ■■ | Q54: ■■ | R54: ■■ | S54: -
F55: 104 | G55: 동물성 및 식물성 유지 제조업 | H55: 1040 | I55: 동물성 및 식물성 유지 제조업 | J55: 10401 | K55: 동물성 유지 제조업 | L55: ■ | M55: ■ | N55: ■ | O55: ■■ | P55: ■■ | Q55: ■■ | R55: ■■ | S55: -
J56: 10402 | K56: 식물성 유지 제조업 | L56: ■ | M56: ■ | N56: ■ | O56: ■■ | P56: ■■ | Q56: ■■ | R56: ■■ | S56: -
J57: 10403 | K57: 식용 정제유 및 가공유 제조업 | L57: ■ | M57: ■ | N57: ■ | O57: ■■ | P57: ■■ | Q57: ■■ | R57: ■■ | S57: -
F58: 105 | G58: 낙농제품 및 식용빙과류 제조업 | H58: 1050 | I58: 낙농제품 및 식용빙과류 제조업 | J58: 10501 | K58: 액상시유 및 기타 낙농제품 제조업 | L58: ■ | M58: ■ | N58: ■ | O58: ■■ | P58: ■■ | Q58: ■■ | R58: ■■ | S58: -
J59: 10502 | K59: 아이스크림 및 기타 식용빙과류 제조업 | L59: ■ | M59: ■ | N59: ■ | O59: ■■ | P59: ■■ | Q59: ■■ | R59: ■■ | S59: -
F60: 106 | G60: 곡물가공품, 전분 및 전분제품 제조업 | H60: 1061 | I60: 곡물 가공품 제조업 | J60: 10611 | K60: 곡물 도정업 | L60: ■ | M60: ■ | N60: ■ | O60: ■■ | P60: ■■ | Q60: ■■ | R60: ■■ | S60: -
J61: 10612 | K61: 곡물 제분업 | L61: ■ | M61: ■ | N61: ■ | O61: ■■ | P61: ■■ | Q61: ■■ | R61: ■■ | S61: -
J62: 10613 | K62: 곡물 혼합분말 및 반죽 제조업 | L62: ■ | M62: ■ | N62: ■ | O62: ■■ | P62: ■■ | Q62: ■■ | R62: ■■ | S62: -
J63: 10619 | K63: 기타 곡물 가공품 제조업 | L63: ■ | M63: ■ | N63: ■ | O63: ■■ | P63: ■■ | Q63: ■■ | R63: ■■ | S63: -
H64: 1062 | I64: 전분제품 및 당류 제조업 | J64: 10620 | K64: 전분제품 및 당류 제조업 | L64: ■ | M64: ■ | N64: ■ | O64: ■■ | P64: ■■ | Q64: ■■ | R64: ■■ | S64: -
F65: 107 | G65: 기타 식품 제조업 | H65: 1071 | I65: 떡, 빵 및 과자류 제조업 | J65: 10711 | K65: 떡류 제조업 | L65: ■ | M65: ■ | N65: ■ | O65: ■■ | P65: ■■ | Q65: ■■ | R65: ■■ | S65: -
J66: 10712 | K66: 빵류 제조업 | L66: ■ | M66: ■ | N66: ■ | O66: ■■ | P66: ■■ | Q66: ■■ | R66: ■■ | S66: -
J67: 10713 | K67: 과자류 및 코코아 제품 제조업 | L67: ■ | M67: ■ | N67: ■ | O67: ■■ | P67: ■■ | Q67: ■■ | R67: ■■ | S67: -
H68: 1072 | I68: 설탕 제조업 | J68: 10720 | K68: 설탕 제조업 | L68: ■ | M68: ■ | N68: ■ | O68: ■■ | P68: ■■ | Q68: ■■ | R68: ■■ | S68: -
H69: 1073 | I69: 면류, 마카로니 및 유사식품 제조업 | J69: 10730 | K69: 면류, 마카로니 및 유사식품 제조업 | L69: ■ | M69: ■ | N69: ■ | O69: ■■ | P69: ■■ | Q69: ■■ | R69: ■■ | S69: -
H70: 1074 | I70: 조미료 및 식품 첨가물 제조업 | J70: 10741 | K70: 식초, 발효 및 화학 조미료 제조업 | L70: ■ | M70: ■ | N70: ■ | O70: ■■ | P70: ■■ | Q70: ■■ | R70: ■■ | S70: -
J71: 10742 | K71: 천연 및 혼합조제 조미료 제조업 | L71: ■ | M71: ■ | N71: ■ | O71: ■■ | P71: ■■ | Q71: ■■ | R71: ■■ | S71: -
J72: 10743 | K72: 장류 제조업 | L72: ■ | M72: ■ | N72: ■ | O72: ■■ | P72: ■■ | Q72: ■■ | R72: ■■ | S72: -
J73: 10749 | K73: 기타 식품 첨가물 제조업 | L73: ■ | M73: ■ | N73: ■ | O73: ■■ | P73: ■■ | Q73: ■■ | R73: ■■ | S73: -
H74: 1075 | I74: 도시락 및 식사용 조리식품 제조업 | J74: 10751 | K74: 도시락류 제조업 | L74: ■ | M74: ■ | N74: ■ | O74: ■■ | P74: ■■ | Q74: ■■ | R74: ■■ | S74: -
J75: 10759 | K75: 기타 식사용 가공처리 조리식품 제조업 | L75: ■ | M75: ■ | N75: ■ | O75: ■■ | P75: ■■ | Q75: ■■ | R75: ■■ | S75: -
H76: 1079 | I76: 기타 식료품 제조업 | J76: 10791 | K76: 커피 가공업 | L76: ■ | M76: ■ | N76: ■ | O76: ■■ | P76: ■■ | Q76: ■■ | R76: ■■ | S76: -
J77: 10792 | K77: 차류 가공업 | L77: ■ | M77: ■ | N77: ■ | O77: ■■ | P77: ■■ | Q77: ■■ | R77: ■■ | S77: -
J78: 10793 | K78: 수프 및 균질화식품 제조업 | L78: ■ | M78: ■ | N78: ■ | O78: ■■ | P78: ■■ | Q78: ■■ | R78: ■■ | S78: -
J79: 10794 | K79: 두부 및 유사식품 제조업 | L79: ■ | M79: ■ | N79: ■ | O79: ■■ | P79: ■■ | Q79: ■■ | R79: ■■ | S79: -
J80: 10795 | K80: 인삼식품 제조업 | L80: ■ | M80: ■ | N80: ■ | O80: ■■ | P80: ■■ | Q80: ■■ | R80: ■■ | S80: -
J81: 10796 | K81: 건강보조용 액화식품 제조업 | L81: ■ | M81: ■ | N81: ■ | O81: ■■ | P81: ■■ | Q81: ■■ | R81: ■■ | S81: -
J82: 10797 | K82: 건강기능식품 제조업 | L82: ■ | M82: ■ | N82: ■ | O82: ■■ | P82: ■■ | Q82: ■■ | R82: ■■ | S82: -
J83: 10799 | K83: 그 외 기타 식료품 제조업 | L83: ■ | M83: ■ | N83: ■ | O83: ■■ | P83: ■■ | Q83: ■■ | R83: ■■ | S83: -
F84: 108 | G84: 동물용 사료 및 조제식품 제조업 | H84: 1080 | I84: 동물용 사료 및 조제식품 제조업 | J84: 10801 | K84: 배합 사료 제조업 | L84: ■ | M84: ■ | N84: ■ | O84: ■■ | P84: ■■ | Q84: ■■ | R84: ■■ | S84: -
J85: 10802 | K85: 단미 사료 및 기타 사료 제조업 | L85: ■ | M85: ■ | N85: ■ | O85: ■■ | P85: ■■ | Q85: ■■ | R85: ■■ | S85: -
D86: 11 | E86: 음료 제조업 | F86: 111 | G86: 알코올음료 제조업 | H86: 1111 | I86: 발효주 제조업 | J86: 11111 | K86: 탁주 및 약주 제조업 | L86: ■ | M86: ■ | N86: ■ | O86: ■■ | P86: ■■ | Q86: ■■ | R86: ■■ | S86: -
J87: 11112 | K87: 맥아 및 맥주 제조업 | L87: ■ | M87: ■ | N87: ■ | O87: ■■ | P87: ■■ | Q87: ■■ | R87: ■■ | S87: -
J88: 11119 | K88: 기타 발효주 제조업 | L88: ■ | M88: ■ | N88: ■ | O88: ■■ | P88: ■■ | Q88: ■■ | R88: ■■ | S88: -
H89: 1112 | I89: 증류주 및 합성주 제조업 | J89: 11121 | K89: 주정 제조업 | L89: ■ | M89: ■ | N89: ■ | O89: ■■ | P89: ■■ | Q89: ■■ | R89: ■■ | S89: -
J90: 11122 | K90: 소주 제조업 | L90: ■ | M90: ■ | N90: ■ | O90: ■■ | P90: ■■ | Q90: ■■ | R90: ■■ | S90: -
J91: 11129 | K91: 기타 증류주 및 합성주 제조업 | L91: ■ | M91: ■ | N91: ■ | O91: ■■ | P91: ■■ | Q91: ■■ | R91: ■■ | S91: -
F92: 112 | G92: 비알코올음료 및 얼음 제조업 | H92: 1120 | I92: 비알코올음료 및 얼음 제조업 | J92: 11201 | K92: 얼음 제조업 | L92: ■ | M92: ■ | N92: ■ | O92: ■■ | P92: ■■ | Q92: ■■ | R92: ■■ | S92: -
J93: 11202 | K93: 생사 생산업 | L93: ■ | M93: ■ | N93: ■ | O93: ■■ | P93: ■■ | Q93: ■■ | R93: ■■ | S93: -
J94: 11209 | K94: 기타 비알코올 음료 제조업 | L94: ■ | M94: ■ | N94: ■ | O94: ■■ | P94: ■■ | Q94: ■■ | R94: ■■ | S94: -
D95: 12 | E95: 담배 제조업 | F95: 120 | G95: 담배 제조업 | H95: 1200 | I95: 담배 제조업 | J95: 12000 | K95: 담배제품 제조업 | L95: ■ | M95: ■ | N95: ■ | O95: ■ | P95: ■■ | Q95: ■■ | R95: ■■ | S95: -
D96: 13 | E96: 섬유제품 제조업; 의복제외 | F96: 131 | G96: 방적 및 가공사 제조업 | H96: 1310 | I96: 방적 및 가공사 제조업 | J96: 13101 | K96: 면 방적업 | L96: ■ | M96: ■ | N96: ■ | O96: ■■ | P96: ■■ | Q96: ■■ | R96: ■■ | S96: -
J97: 13102 | K97: 모 방적업 | L97: ■ | M97: ■ | N97: ■ | O97: ■■ | P97: ■■ | Q97: ■■ | R97: ■■ | S97: -
J98: 13103 | K98: 화학섬유 방적업 | L98: ■ | M98: ■ | N98: ■ | O98: ■■ | P98: ■■ | Q98: ■■ | R98: ■■ | S98: -
J99: 13104 | K99: 연사 및 가공사 제조업 | L99: ■ | M99: ■ | N99: ■ | O99: ■■ | P99: ■■ | Q99: ■■ | R99: ■■ | S99: -
J100: 13109 | K100: 기타 방적업 | L100: ■ | M100: ■ | N100: ■ | O100: ■■ | P100: ■■ | Q100: ■■ | R100: ■■ | S100: -
F101: 132 | G101: 직물직조 및 직물제품 제조업 | H101: 1321 | I101: 직물 직조업 | J101: 13211 | K101: 면직물 직조업 | L101: ■ | M101: ■ | N101: ■ | O101: ■■ | P101: ■■ | Q101: ■■ | R101: ■■ | S101: -
J102: 13212 | K102: 모직물 직조업 | L102: ■ | M102: ■ | N102: ■ | O102: ■■ | P102: ■■ | Q102: ■■ | R102: ■■ | S102: -
...

Sheet 보건관리자(시행령 별표 5)
B2: ▣ 보건관리자를 두어야 하는 사업의 종류 및 사업장의 상시근로자 수(제20조제1항 관련) | Q2: ▲ : 보건관리자
B4: 구분 | C4: 대분류 | E4: 중분류 | G4: 소분류 | I4: 세분류 | K4: 세세분류 | L4: 50~99명 | M4: 100~299명 | N4: 300~499명 | O4: 500~999명 | P4: 1000~3999명 | Q4: 4000~4999명 | R4: 5000명 이상 | S4: 비고
B5: A | C5: 농업, 임업 및 어업(01~03) | D5: 01 | E5: 농업 | F5: 011 | G5: 작물 재배업 | H5: 0111 | I5: 곡물 및 기타 식량작물 재배업 | J5: 01110 | K5: 곡물 및 기타 식량작물 재배업 | L5: ▲ | M5: ▲ | N5: ▲ | O5: ▲ | P5: ▲ | Q5: ▲ | R5: ▲▲ | S5: -
H6: 0112 | I6: 채소, 화훼작물 및 종묘 재배업 | J6: 01121 | K6: 채소작물 재배업 | L6: ▲ | M6: ▲ | N6: ▲ | O6: ▲ | P6: ▲ | Q6: ▲ | R6: ▲▲ | S6: -
J7: 01122 | K7: 화훼작물 재배업 | L7: ▲ | M7: ▲ | N7: ▲ | O7: ▲ | P7: ▲ | Q7: ▲ | R7: ▲▲ | S7: -
J8: 01123 | K8: 종자 및 묘목 생산업 | L8: ▲ | M8: ▲ | N8: ▲ | O8: ▲ | P8: ▲ | Q8: ▲ | R8: ▲▲ | S8: -
H9: 0113 | I9: 과실, 음료용 및 향신용 작물 재배업 | J9: 01131 | K9: 과실작물 재배업 | L9: ▲ | M9: ▲ | N9: ▲ | O9: ▲ | P9: ▲ | Q9: ▲ | R9: ▲▲ | S9: -
J10: 01132 | K10: 음료용 및 향신용 작물 재배업 | L10: ▲ | M10: ▲ | N10: ▲ | O10: ▲ | P10: ▲ | Q10: ▲ | R10: ▲▲ | S10: -
H11: 0114 | I11: 기타 작물 재배업 | J11: 01140 | K11: 기타 작물 재배업 | L11: ▲ | M11: ▲ | N11: ▲ | O11: ▲ | P11: ▲ | Q11: ▲ | R11: ▲▲ | S11: -
H12: 0115 | I12: 시설작물 재배업 | J12: 01151 | K12: 콩나물 재배업 | L12: ▲ | M12: ▲ | N12: ▲ | O12: ▲ | P12: ▲ | Q12: ▲ | R12: ▲▲ | S12: -
J13: 01152 | K13: 채소, 화훼 및 과실작물 시설 재배업 | L13: ▲ | M13: ▲ | N13: ▲ | O13: ▲ | P13: ▲ | Q13: ▲ | R13: ▲▲ | S13: -
J14: 01159 | K14: 기타 시설작물 재배업 | L14: ▲ | M14: ▲ | N14: ▲ | O14: ▲ | P14: ▲ | Q14: ▲ | R14: ▲▲ | S14: -
F15: 012 | G15: 축산업 | H15: 0121 | I15: 소 사육업 | J15: 01211 | K15: 젖소 사육업 | L15: ▲ | M15: ▲ | N15: ▲ | O15: ▲ | P15: ▲ | Q15: ▲ | R15: ▲▲ | S15: -
J16: 01212 | K16: 육우 사육업 | L16: ▲ | M16: ▲ | N16: ▲ | O16: ▲ | P16: ▲ | Q16: ▲ | R16: ▲▲ | S16: -
H17: 0122 | I17: 양돈업 | J17: 01220 | K17: 양돈업 | L17: ▲ | M17: ▲ | N17: ▲ | O17: ▲ | P17: ▲ | Q17: ▲ | R17: ▲▲ | S17: -
H18: 0123 | I18: 가금류 및 조류 사육업 | J18: 01231 | K18: 양계업 | L18: ▲ | M18: ▲ | N18: ▲ | O18: ▲ | P18: ▲ | Q18: ▲ | R18: ▲▲ | S18: -
J19: 01239 | K19: 기타 가금류 및 조류 사육업 | L19: ▲ | M19: ▲ | N19: ▲ | O19: ▲ | P19: ▲ | Q19: ▲ | R19: ▲▲ | S19: -
H20: 0129 | I20: 기타 축산업 | J20: 01291 | K20: 말 및 양 사육업 | L20: ▲ | M20: ▲ | N20: ▲ | O20: ▲ | P20: ▲ | Q20: ▲ | R20: ▲▲ | S20: -
J21: 01299 | K21: 그 외 기타 축산업 | L21: ▲ | M21: ▲ | N21: ▲ | O21: ▲ | P21: ▲ | Q21: ▲ | R21: ▲▲ | S21: -
F22: 013 | G22: 작물재배 및 축산 복합농업 | H22: 0130 | I22: 작물재배 및 축산 복합농업 | J22: 01300 | K22: 작물재배 및 축산 복합농업 | L22: ▲ | M22: ▲ | N22: ▲ | O22: ▲ | P22: ▲ | Q22: ▲ | R22: ▲▲ | S22: -
F23: 014 | G23: 작물재배 및 축산 관련 서비스업 | H23: 0141 | I23: 작물재배 관련 서비스업 | J23: 01411 | K23: 작물재배 지원 서비스업 | L23: ▲ | M23: ▲ | N23: ▲ | O23: ▲ | P23: ▲ | Q23: ▲ | R23: ▲▲ | S23: -
J24: 01412 | K24: 농산물 건조, 선별 및 기타 수확 후 서비스업 | L24: ▲ | M24: ▲ | N24: ▲ | O24: ▲ | P24: ▲ | Q24: ▲ | R24: ▲▲ | S24: -
H25: 0142 | I25: 축산 관련 서비스업 | J25: 01420 | K25: 축산 관련 서비스업 | L25: ▲ | M25: ▲ | N25: ▲ | O25: ▲ | P25: ▲ | Q25: ▲ | R25: ▲▲ | S25: -
F26: 015 | G26: 수렵 및 관련 서비스업 | H26: 0150 | I26: 수렵 및 관련 서비스업 | J26: 01500 | K26: 수렵 및 관련 서비스업 | L26: ▲ | M26: ▲ | N26: ▲ | O26: ▲ | P26: ▲ | Q26: ▲ | R26: ▲▲ | S26: -
D27: 02 | E27: 임업 | F27: 020 | G27: 임업 | H27: 0201 | I27: 영림업 | J27: 02011 | K27: 임업용 종묘 생산업 | L27: ▲ | M27: ▲ | N27: ▲ | O27: ▲ | P27: ▲ | Q27: ▲ | R27: ▲▲ | S27: -
J28: 02012 | K28: 육림업 | L28: ▲ | M28: ▲ | N28: ▲ | O28: ▲ | P28: ▲ | Q28: ▲ | R28: ▲▲ | S28: -
H29: 0202 | I29: 벌목업 | J29: 02020 | K29: 벌목업 | L29: ▲ | M29: ▲ | N29: ▲ | O29: ▲ | P29: ▲ | Q29: ▲ | R29: ▲▲ | S29: -
H30: 0203 | I30: 임산물 채취업 | J30: 02030 | K30: 임산물 채취업 | L30: ▲ | M30: ▲ | N30: ▲ | O30: ▲ | P30: ▲ | Q30: ▲ | R30: ▲▲ | S30: -
H31: 0204 | I31: 임업 관련 서비스업 | J31: 02040 | K31: 임업 관련 서비스업 | L31: ▲ | M31: ▲ | N31: ▲ | O31: ▲ | P31: ▲ | Q31: ▲ | R31: ▲▲ | S31: -
D32: 03 | E32: 어업 | F32: 031 | G32: 어로 어업 | H32: 0311 | I32: 해수면 어업 | J32: 03111 | K32: 원양 어업 | L32: ▲ | M32: ▲ | N32: ▲ | O32: ▲ | P32: ▲ | Q32: ▲ | R32: ▲▲ | S32: -
J33: 03112 | K33: 연근해 어업 | L33: ▲ | M33: ▲ | N33: ▲ | O33: ▲ | P33: ▲ | Q33: ▲ | R33: ▲▲ | S33: -
H34: 0312 | I34: 내수면 어업 | J34: 03120 | K34: 내수면 어업 | L34: ▲ | M34: ▲ | N34: ▲ | O34: ▲ | P34: ▲ | Q34: ▲ | R34: ▲▲ | S34: -
F35: 032 | G35: 양식어업 및 어업관련 서비스업 | H35: 0321 | I35: 양식 어업 | J35: 03211 | K35: 해수면 양식 어업 | L35: ▲ | M35: ▲ | N35: ▲ | O35: ▲ | P35: ▲ | Q35: ▲ | R35: ▲▲ | S35: -
J36: 03212 | K36: 내수면 양식 어업 | L36: ▲ | M36: ▲ | N36: ▲ | O36: ▲ | P36: ▲ | Q36: ▲ | R36: ▲▲ | S36: -
J37: 03213 | K37: 수산물 부화 및 수산종자 생산업 | L37: ▲ | M37: ▲ | N37: ▲ | O37: ▲ | P37: ▲ | Q37: ▲ | R37: ▲▲ | S37: -
H38: 0322 | I38: 어업 관련 서비스업 | J38: 03220 | K38: 어업 관련 서비스업 | L38: ▲ | M38: ▲ | N38: ▲ | O38: ▲ | P38: ▲ | Q38: ▲ | R38: ▲▲ | S38: -
B39: B | C39: 광업(05~08) | D39: 05 | E39: 석탄, 원유 및 천연가스 광업 | F39: 051 | G39: 석탄 광업 | H39: 0510 | I39: 석탄 광업 | J39: 05100 | K39: 석탄 광업 | L39: ▲ | M39: ▲ | N39: ▲ | O39: ▲▲ | P39: ▲▲ | Q39: ▲▲ | R39: ▲▲ | S39: -
F40: 052 | G40: 원유 및 천연가스 채굴업 | H40: 0520 | I40: 원유 및 천연가스 채굴업 | J40: 05200 | K40: 원유 및 천연가스 채굴업 | L40: ▲ | M40: ▲ | N40: ▲ | O40: ▲▲ | P40: ▲▲ | Q40: ▲▲ | R40: ▲▲ | S40: -
D41: 06 | E41: 금속 광업 | F41: 061 | G41: 철 광업 | H41: 0610 | I41: 철 광업 | J41: 06100 | K41: 철 광업 | L41: ▲ | M41: ▲ | N41: ▲ | O41: ▲▲ | P41: ▲▲ | Q41: ▲▲ | R41: ▲▲ | S41: -
F42: 062 | G42: 비철금속 광업 | H42: 0620 | I42: 비철금속 광업 | J42: 06200 | K42: 비철금속 광업 | L42: ▲ | M42: ▲ | N42: ▲ | O42: ▲▲ | P42: ▲▲ | Q42: ▲▲ | R42: ▲▲ | S42: -
D43: 07 | E43: 비금속광물 광업; 연료용 제외 | F43: 071 | G43: 토사석 광업 | H43: 0711 | I43: 석회석 및 검토 광업 | J43: 07110 | K43: 석회석 및 검토 광업 | L43: ▲ | M43: ▲ | N43: ▲ | O43: ▲▲ | P43: ▲▲ | Q43: ▲▲ | R43: ▲▲ | S43: -
H44: 0712 | I44: 석재, 쇄석 및 모래, 자갈 채취업 | J44: 07121 | K44: 건설용 석재 채굴 및 쇄석 생산업 | L44: ▲ | M44: ▲ | N44: ▲ | O44: ▲▲ | P44: ▲▲ | Q44: ▲▲ | R44: ▲▲ | S44: -
J45: 07122 | K45: 모래 및 자갈 채취업 | L45: ▲ | M45: ▲ | N45: ▲ | O45: ▲▲ | P45: ▲▲ | Q45: ▲▲ | R45: ▲▲ | S45: -
B46: C | C46: 제조업(10~34) | D46: 10 | E46: 식료품 제조업 | F46: 101 | G46: 도축, 육류 가공 및 저장 처리업 | H46: 1011 | I46: 도축업 | J46: 10111 | K46: 육류 도축업(가금류 제외) | L46: ▲ | M46: ▲ | N46: ▲ | O46: ▲ | P46: ▲▲ | Q46: ▲▲ | R46: ▲▲ | S46: -
J47: 10112 | K47: 가금류 도축업 | L47: ▲ | M47: ▲ | N47: ▲ | O47: ▲ | P47: ▲▲ | Q47: ▲▲ | R47: ▲▲ | S47: -
H48: 1012 | I48: 육류 가공 및 저장 처리업 | J48: 10121 | K48: 가금류 가공 및 저장 처리업 | L48: ▲ | M48: ▲ | N48: ▲ | O48: ▲ | P48: ▲▲ | Q48: ▲▲ | R48: ▲▲ | S48: -
J49: 10122 | K49: 육류 포장육 및 냉동육 가공업(가금류 제외) | L49: ▲ | M49: ▲ | N49: ▲ | O49: ▲ | P49: ▲▲ | Q49: ▲▲ | R49: ▲▲ | S49: -
J50: 10129 | K50: 육류 기타 가공 및 저장처리업(가금류 제외) | L50: ▲ | M50: ▲ | N50: ▲ | O50: ▲ | P50: ▲▲ | Q50: ▲▲ | R50: ▲▲ | S50: -
F51: 102 | G51: 수산물 가공 및 저장 처리업 | H51: 1021 | I51: 수산동물 가공 및 저장 처리업 | J51: 10211 | K51: 수산동물 훈제, 조리 및 유사 조제식품 제조업 | L51: ▲ | M51: ▲ | N51: ▲ | O51: ▲ | P51: ▲▲ | Q51: ▲▲ | R51: ▲▲ | S51: -
J52: 10212 | K52: 수산동물 건조 및 염장품 제조업 | L52: ▲ | M52: ▲ | N52: ▲ | O52: ▲ | P52: ▲▲ | Q52: ▲▲ | R52: ▲▲ | S52: -
J53: 10213 | K53: 수산동물 냉동품 제조업 | L53: ▲ | M53: ▲ | N53: ▲ | O53: ▲ | P53: ▲▲ | Q53: ▲▲ | R53: ▲▲ | S53: -
J54: 10219 | K54: 기타 수산동물 가공 및 저장 처리업 | L54: ▲ | M54: ▲ | N54: ▲ | O54: ▲ | P54: ▲▲ | Q54: ▲▲ | R54: ▲▲ | S54: -
H55: 1022 | I55: 수산식물 가공 및 저장 처리업 | J55: 10220 | K55: 수산식물 가공 및 저장 처리업 | L55: ▲ | M55: ▲ | N55: ▲ | O55: ▲ | P55: ▲▲ | Q55: ▲▲ | R55: ▲▲ | S55: -
F56: 103 | G56: 과실, 채소 가공 및 저장 처리업 | H56: 1030 | I56: 과실, 채소 가공 및 저장 처리업 | J56: 10301 | K56: 김치류 제조업 | L56: ▲ | M56: ▲ | N56: ▲ | O56: ▲ | P56: ▲▲ | Q56: ▲▲ | R56: ▲▲ | S56: -
J57: 10302 | K57: 과실 및 그 외 채소 절임식품 제조업 | L57: ▲ | M57: ▲ | N57: ▲ | O57: ▲ | P57: ▲▲ | Q57: ▲▲ | R57: ▲▲ | S57: -
J58: 10309 | K58: 기타 과실·채소 가공 및 저장 처리업 | L58: ▲ | M58: ▲ | N58: ▲ | O58: ▲ | P58: ▲▲ | Q58: ▲▲ | R58: ▲▲ | S58: -
F59: 104 | G59: 동물성 및 식물성 유지 제조업 | H59: 1040 | I59: 동물성 및 식물성 유지 제조업 | J59: 10401 | K59: 동물성 유지 제조업 | L59: ▲ | M59: ▲ | N59: ▲ | O59: ▲ | P59: ▲▲ | Q59: ▲▲ | R59: ▲▲ | S59: -
J60: 10402 | K60: 식물성 유지 제조업 | L60: ▲ | M60: ▲ | N60: ▲ | O60: ▲ | P60: ▲▲ | Q60: ▲▲ | R60: ▲▲ | S60: -
J61: 10403 | K61: 식용 정제유 및 가공유 제조업 | L61: ▲ | M61: ▲ | N61: ▲ | O61: ▲ | P61: ▲▲ | Q61: ▲▲ | R61: ▲▲ | S61: -
F62: 105 | G62: 낙농제품 및 식용빙과류 제조업 | H62: 1050 | I62: 낙농제품 및 식용빙과류 제조업 | J62: 10501 | K62: 액상시유 및 기타 낙농제품 제조업 | L62: ▲ | M62: ▲ | N62: ▲ | O62: ▲ | P62: ▲▲ | Q62: ▲▲ | R62: ▲▲ | S62: -
J63: 10502 | K63: 아이스크림 및 기타 식용빙과류 제조업 | L63: ▲ | M63: ▲ | N63: ▲ | O63: ▲ | P63: ▲▲ | Q63: ▲▲ | R63: ▲▲ | S63: -
F64: 106 | G64: 곡물가공품, 전분 및 전분제품 제조업 | H64: 1061 | I64: 곡물 가공품 제조업 | J64: 10611 | K64: 곡물 도정업 | L64: ▲ | M64: ▲ | N64: ▲ | O64: ▲ | P64: ▲▲ | Q64: ▲▲ | R64: ▲▲ | S64: -
J65: 10612 | K65: 곡물 제분업 | L65: ▲ | M65: ▲ | N65: ▲ | O65: ▲ | P65: ▲▲ | Q65: ▲▲ | R65: ▲▲ | S65: -
J66: 10613 | K66: 곡물 혼합분말 및 반죽 제조업 | L66: ▲ | M66: ▲ | N66: ▲ | O66: ▲ | P66: ▲▲ | Q66: ▲▲ | R66: ▲▲ | S66: -
J67: 10619 | K67: 기타 곡물 가공품 제조업 | L67: ▲ | M67: ▲ | N67: ▲ | O67: ▲ | P67: ▲▲ | Q67: ▲▲ | R67: ▲▲ | S67: -
H68: 1062 | I68: 전분제품 및 당류 제조업 | J68: 10620 | K68: 전분제품 및 당류 제조업 | L68: ▲ | M68: ▲ | N68: ▲ | O68: ▲ | P68: ▲▲ | Q68: ▲▲ | R68: ▲▲ | S68: -
F69: 107 | G69: 기타 식품 제조업 | H69: 1071 | I69: 떡, 빵 및 과자류 제조업 | J69: 10711 | K69: 떡류 제조업 | L69: ▲ | M69: ▲ | N69: ▲ | O69: ▲ | P69: ▲▲ | Q69: ▲▲ | R69: ▲▲ | S69: -
J70: 10712 | K70: 빵류 제조업 | L70: ▲ | M70: ▲ | N70: ▲ | O70: ▲ | P70: ▲▲ | Q70: ▲▲ | R70: ▲▲ | S70: -
J71: 10713 | K71: 과자류 및 코코아 제품 제조업 | L71: ▲ | M71: ▲ | N71: ▲ | O71: ▲ | P71: ▲▲ | Q71: ▲▲ | R71: ▲▲ | S71: -
H72: 1072 | I72: 설탕 제조업 | J72: 10720 | K72: 설탕 제조업 | L72: ▲ | M72: ▲ | N72: ▲ | O72: ▲ | P72: ▲▲ | Q72: ▲▲ | R72: ▲▲ | S72: -
H73: 1073 | I73: 면류, 마카로니 및 유사식품 제조업 | J73: 10730 | K73: 면류, 마카로니 및 유사식품 제조업 | L73: ▲ | M73: ▲ | N73: ▲ | O73: ▲ | P73: ▲▲ | Q73: ▲▲ | R73: ▲▲ | S73: -
H74: 1074 | I74: 조미료 및 식품 첨가물 제조업 | J74: 10741 | K74: 식초, 발효 및 화학 조미료 제조업 | L74: ▲ | M74: ▲ | N74: ▲ | O74: ▲ | P74: ▲▲ | Q74: ▲▲ | R74: ▲▲ | S74: -
J75: 10742 | K75: 천연 및 혼합조제 조미료 제조업 | L75: ▲ | M75: ▲ | N75: ▲ | O75: ▲ | P75: ▲▲ | Q75: ▲▲ | R75: ▲▲ | S75: -
J76: 10743 | K76: 장류 제조업 | L76: ▲ | M76: ▲ | N76: ▲ | O76: ▲ | P76: ▲▲ | Q76: ▲▲ | R76: ▲▲ | S76: -
J77: 10749 | K77: 기타 식품 첨가물 제조업 | L77: ▲ | M77: ▲ | N77: ▲ | O77: ▲ | P77: ▲▲ | Q77: ▲▲ | R77: ▲▲ | S77: -
H78: 1075 | I78: 도시락 및 식사용 조리식품 제조업 | J78: 10751 | K78: 도시락류 제조업 | L78: ▲ | M78: ▲ | N78: ▲ | O78: ▲ | P78: ▲▲ | Q78: ▲▲ | R78: ▲▲ | S78: -
J79: 10759 | K79: 기타 식사용 가공처리 조리식품 제조업 | L79: ▲ | M79: ▲ | N79: ▲ | O79: ▲ | P79: ▲▲ | Q79: ▲▲ | R79: ▲▲ | S79: -
H80: 1079 | I80: 기타 식료품 제조업 | J80: 10791 | K80: 커피 가공업 | L80: ▲ | M80: ▲ | N80: ▲ | O80: ▲ | P80: ▲▲ | Q80: ▲▲ | R80: ▲▲ | S80: -
J81: 10792 | K81: 차류 가공업 | L81: ▲ | M81: ▲ | N81: ▲ | O81: ▲ | P81: ▲▲ | Q81: ▲▲ | R81: ▲▲ | S81: -
J82: 10793 | K82: 수프 및 균질화식품 제조업 | L82: ▲ | M82: ▲ | N82: ▲ | O82: ▲ | P82: ▲▲ | Q82: ▲▲ | R82: ▲▲ | S82: -
J83: 10794 | K83: 두부 및 유사식품 제조업 | L83: ▲ | M83: ▲ | N83: ▲ | O83: ▲ | P83: ▲▲ | Q83: ▲▲ | R83: ▲▲ | S83: -
J84: 10795 | K84: 인삼식품 제조업 | L84: ▲ | M84: ▲ | N84: ▲ | O84: ▲ | P84: ▲▲ | Q84: ▲▲ | R84: ▲▲ | S84: -
J85: 10796 | K85: 건강보조용 액화식품 제조업 | L85: ▲ | M85: ▲ | N85: ▲ | O85: ▲ | P85: ▲▲ | Q85: ▲▲ | R85: ▲▲ | S85: -
J86: 10797 | K86: 건강기능식품 제조업 | L86: ▲ | M86: ▲ | N86: ▲ | O86: ▲ | P86: ▲▲ | Q86: ▲▲ | R86: ▲▲ | S86: -
J87: 10799 | K87: 그 외 기타 식료품 제조업 | L87: ▲ | M87: ▲ | N87: ▲ | O87: ▲ | P87: ▲▲ | Q87: ▲▲ | R87: ▲▲ | S87: -
F88: 108 | G88: 동물용 사료 및 조제식품 제조업 | H88: 1080 | I88: 동물용 사료 및 조제식품 제조업 | J88: 10801 | K88: 배합 사료 제조업 | L88: ▲ | M88: ▲ | N88: ▲ | O88: ▲ | P88: ▲▲ | Q88: ▲▲ | R88: ▲▲ | S88: -
J89: 10802 | K89: 단미 사료 및 기타 사료 제조업 | L89: ▲ | M89: ▲ | N89: ▲ | O89: ▲ | P89: ▲▲ | Q89: ▲▲ | R89: ▲▲ | S89: -
D90: 11 | E90: 음료 제조업 | F90: 111 | G90: 알코올음료 제조업 | H90: 1111 | I90: 발효주 제조업 | J90: 11111 | K90: 탁주 및 약주 제조업 | L90: ▲ | M90: ▲ | N90: ▲ | O90: ▲ | P90: ▲▲ | Q90: ▲▲ | R90: ▲▲ | S90: -
J91: 11112 | K91: 맥아 및 맥주 제조업 | L91: ▲ | M91: ▲ | N91: ▲ | O91: ▲ | P91: ▲▲ | Q91: ▲▲ | R91: ▲▲ | S91: -
J92: 11119 | K92: 기타 발효주 제조업 | L92: ▲ | M92: ▲ | N92: ▲ | O92: ▲ | P92: ▲▲ | Q92: ▲▲ | R92: ▲▲ | S92: -
H93: 1112 | I93: 증류주 및 합성주 제조업 | J93: 11121 | K93: 주정 제조업 | L93: ▲ | M93: ▲ | N93: ▲ | O93: ▲ | P93: ▲▲ | Q93: ▲▲ | R93: ▲▲ | S93: -
J94: 11122 | K94: 소주 제조업 | L94: ▲ | M94: ▲ | N94: ▲ | O94: ▲ | P94: ▲▲ | Q94: ▲▲ | R94: ▲▲ | S94: -
J95: 11129 | K95: 기타 증류주 및 합성주 제조업 | L95: ▲ | M95: ▲ | N95: ▲ | O95: ▲ | P95: ▲▲ | Q95: ▲▲ | R95: ▲▲ | S95: -
F96: 112 | G96: 비알코올음료 및 얼음 제조업 | H96: 1120 | I96: 비알코올음료 및 얼음 제조업 | J96: 11201 | K96: 얼음 제조업 | L96: ▲ | M96: ▲ | N96: ▲ | O96: ▲ | P96: ▲▲ | Q96: ▲▲ | R96: ▲▲ | S96: -
J97: 11202 | K97: 생사 생산업 | L97: ▲ | M97: ▲ | N97: ▲ | O97: ▲ | P97: ▲▲ | Q97: ▲▲ | R97: ▲▲ | S97: -
J98: 11209 | K98: 기타 비알코올 음료 제조업 | L98: ▲ | M98: ▲ | N98: ▲ | O98: ▲ | P98: ▲▲ | Q98: ▲▲ | R98: ▲▲ | S98: -
D99: 12 | E99: 담배 제조업 | F99: 120 | G99: 담배 제조업 | H99: 1200 | I99: 담배 제조업 | J99: 12000 | K99: 담배제품 제조업 | L99: ▲ | M99: ▲ | N99: ▲ | O99: ▲ | P99: ▲▲ | Q99: ▲▲ | R99: ▲▲ | S99: -
D100: 13 | E100: 섬유제품 제조업; 의복제외 | F100: 131 | G100: 방적 및 가공사 제조업 | H100: 1310 | I100: 방적 및 가공사 제조업 | J100: 13101 | K100: 면 방적업 | L100: ▲ | M100: ▲ | N100: ▲ | O100: ▲ | P100: ▲▲ | Q100: ▲▲ | R100: ▲▲ | S100: -
J101: 13102 | K101: 모 방적업 | L101: ▲ | M101: ▲ | N101: ▲ | O101: ▲ | P101: ▲▲ | Q101: ▲▲ | R101: ▲▲ | S101: -
J102: 13103 | K102: 화학섬유 방적업 | L102: ▲ | M102: ▲ | N102: ▲ | O102: ▲ | P102: ▲▲ | Q102: ▲▲ | R102: ▲▲ | S102: -
...

Sheet 안전보건관리담당자(시행령 제24조)
B2: ▣ 안전보건관리담당자를 두어야 하는 사업의 종류 및 사업장의 상시근로자 수(제19조제1항 관련) | M2: ● : 안전보건관리담당자
B4: 구분 | C4: 대분류 | E4: 중분류 | G4: 소분류 | I4: 세분류 | K4: 세세분류 | L4: 20명 미만 | M4: 20명 이상 50명 미만 | N4: 50명 이상 | O4: 비고
B5: A | C5: 농업, 임업 및 어업(01~03) | D5: 02 | E5: 임업 | F5: 020 | G5: 임업 | H5: 0201 | I5: 영림업 | J5: 02011 | K5: 임업용 종묘 생산업 | L5: - | M5: ★ | N5: - | O5: 안전관리자 또는 보건관리자가 있거나 이를 두어야 하는 경우에는 선임 제외
J6: 02012 | K6: 육림업 | L6: - | M6: ★ | N6: - | O6: 안전관리자 또는 보건관리자가 있거나 이를 두어야 하는 경우에는 선임 제외
H7: 0202 | I7: 벌목업 | J7: 02020 | K7: 벌목업 | L7: - | M7: ★ | N7: - | O7: 안전관리자 또는 보건관리자가 있거나 이를 두어야 하는 경우에는 선임 제외
H8: 0203 | I8: 임산물 채취업 | J8: 02030 | K8: 임산물 채취업 | L8: - | M8: ★ | N8: - | O8: 안전관리자 또는 보건관리자가 있거나 이를 두어야 하는 경우에는 선임 제외
H9: 0204 | I9: 임업 관련 서비스업 | J9: 02040 | K9: 임업 관련 서비스업 | L9: - | M9: ★ | N9: - | O9: 안전관리자 또는 보건관리자가 있거나 이를 두어야 하는 경우에는 선임 제외
B10: C | C10: 제조업(10~34) | D10: 10 | E10: 식료품 제조업 | F10: 101 | G10: 도축, 육류 가공 및 저장 처리업 | H10: 1011 | I10: 도축업 | J10: 10111 | K10: 육류 도축업(가금류 제외) | L10: - | M10: ★ | N10: - | O10: 안전관리자 또는 보건관리자가 있거나 이를 두어야 하는 경우에는 선임 제외
J11: 10112 | K11: 가금류 도축업 | L11: - | M11: ★ | N11: - | O11: 안전관리자 또는 보건관리자가 있거나 이를 두어야 하는 경우에는 선임 제외
H12: 1012 | I12: 육류 가공 및 저장 처리업 | J12: 10121 | K12: 가금류 가공 및 저장 처리업 | L12: - | M12: ★ | N12: - | O12: 안전관리자 또는 보건관리자가 있거나 이를 두어야 하는 경우에는 선임 제외
J13: 10122 | K13: 육류 포장육 및 냉동육 가공업(가금류 제외) | L13: - | M13: ★ | N13: - | O13: 안전관리자 또는 보건관리자가 있거나 이를 두어야 하는 경우에는 선임 제외
J14: 10129 | K14: 육류 기타 가공 및 저장처리업(가금류 제외) | L14: - | M14: ★ | N14: - | O14: 안전관리자 또는 보건관리자가 있거나 이를 두어야 하는 경우에는 선임 제외
F15: 102 | G15: 수산물 가공 및 저장 처리업 | H15: 1021 | I15: 수산동물 가공 및 저장 처리업 | J15: 10211 | K15: 수산동물 훈제, 조리 및 유사 조제식품 제조업 | L15: - | M15: ★ | N15: - | O15: 안전관리자 또는 보건관리자가 있거나 이를 두어야 하는 경우에는 선임 제외
J16: 10212 | K16: 수산동물 건조 및 염장품 제조업 | L16: - | M16: ★ | N16: - | O16: 안전관리자 또는 보건관리자가 있거나 이를 두어야 하는 경우에는 선임 제외
J17: 10213 | K17: 수산동물 냉동품 제조업 | L17: - | M17: ★ | N17: - | O17: 안전관리자 또는 보건관리자가 있거나 이를 두어야 하는 경우에는 선임 제외
J18: 10219 | K18: 기타 수산동물 가공 및 저장 처리업 | L18: - | M18: ★ | N18: - | O18: 안전관리자 또는 보건관리자가 있거나 이를 두어야 하는 경우에는 선임 제외
H19: 1022 | I19: 수산식물 가공 및 저장 처리업 | J19: 10220 | K19: 수산식물 가공 및 저장 처리업 | L19: - | M19: ★ | N19: - | O19: 안전관리자 또는 보건관리자가 있거나 이를 두어야 하는 경우에는 선임 제외
F20: 103 | G20: 과실, 채소 가공 및 저장 처리업 | H20: 1030 | I20: 과실, 채소 가공 및 저장 처리업 | J20: 10301 | K20: 김치류 제조업 | L20: - | M20: ★ | N20: - | O20: 안전관리자 또는 보건관리자가 있거나 이를 두어야 하는 경우에는 선임 제외
J21: 10302 | K21: 과실 및 그 외 채소 절임식품 제조업 | L21: - | M21: ★ | N21: - | O21: 안전관리자 또는 보건관리자가 있거나 이를 두어야 하는 경우에는 선임 제외
J22: 10309 | K22: 기타 과실·채소 가공 및 저장 처리업 | L22: - | M22: ★ | N22: - | O22: 안전관리자 또는 보건관리자가 있거나 이를 두어야 하는 경우에는 선임 제외
F23: 104 | G23: 동물성 및 식물성 유지 제조업 | H23: 1040 | I23: 동물성 및 식물성 유지 제조업 | J23: 10401 | K23: 동물성 유지 제조업 | L23: - | M23: ★ | N23: - | O23: 안전관리자 또는 보건관리자가 있거나 이를 두어야 하는 경우에는 선임 제외
J24: 10402 | K24: 식물성 유지 제조업 | L24: - | M24: ★ | N24: - | O24: 안전관리자 또는 보건관리자가 있거나 이를 두어야 하는 경우에는 선임 제외
J25: 10403 | K25: 식용 정제유 및 가공유 제조업 | L25: - | M25: ★ | N25: - | O25: 안전관리자 또는 보건관리자가 있거나 이를 두어야 하는 경우에는 선임 제외
F26: 105 | G26: 낙농제품 및 식용빙과류 제조업 | H26: 1050 | I26: 낙농제품 및 식용빙과류 제조업 | J26: 10501 | K26: 액상시유 및 기타 낙농제품 제조업 | L26: - | M26: ★ | N26: - | O26: 안전관리자 또는 보건관리자가 있거나 이를 두어야 하는 경우에는 선임 제외
J27: 10502 | K27: 아이스크림 및 기타 식용빙과류 제조업 | L27: - | M27: ★ | N27: - | O27: 안전관리자 또는 보건관리자가 있거나 이를 두어야 하는 경우에는 선임 제외
F28: 106 | G28: 곡물가공품, 전분 및 전분제품 제조업 | H28: 1061 | I28: 곡물 가공품 제조업 | J28: 10611 | K28: 곡물 도정업 | L28: - | M28: ★ | N28: - | O28: 안전관리자 또는 보건관리자가 있거나 이를 두어야 하는 경우에는 선임 제외
J29: 10612 | K29: 곡물 제분업 | L29: - | M29: ★ | N29: - | O29: 안전관리자 또는 보건관리자가 있거나 이를 두어야 하는 경우에는 선임 제외
J30: 10613 | K30: 곡물 혼합분말 및 반죽 제조업 | L30: - | M30: ★ | N30: - | O30: 안전관리자 또는 보건관리자가 있거나 이를 두어야 하는 경우에는 선임 제외
J31: 10619 | K31: 기타 곡물 가공품 제조업 | L31: - | M31: ★ | N31: - | O31: 안전관리자 또는 보건관리자가 있거나 이를 두어야 하는 경우에는 선임 제외
H32: 1062 | I32: 전분제품 및 당류 제조업 | J32: 10620 | K32: 전분제품 및 당류 제조업 | L32: - | M32: ★ | N32: - | O32: 안전관리자 또는 보건관리자가 있거나 이를 두어야 하는 경우에는 선임 제외
F33: 107 | G33: 기타 식품 제조업 | H33: 1071 | I33: 떡, 빵 및 과자류 제조업 | J33: 10711 | K33: 떡류 제조업 | L33: - | M33: ★ | N33: - | O33: 안전관리자 또는 보건관리자가 있거나 이를 두어야 하는 경우에는 선임 제외
J34: 10712 | K34: 빵류 제조업 | L34: - | M34: ★ | N34: - | O34: 안전관리자 또는 보건관리자가 있거나 이를 두어야 하는 경우에는 선임 제외
J35: 10713 | K35: 과자류 및 코코아 제품 제조업 | L35: - | M35: ★ | N35: - | O35: 안전관리자 또는 보건관리자가 있거나 이를 두어야 하는 경우에는 선임 제외
H36: 1072 | I36: 설탕 제조업 | J36: 10720 | K36: 설탕 제조업 | L36: - | M36: ★ | N36: - | O36: 안전관리자 또는 보건관리자가 있거나 이를 두어야 하는 경우에는 선임 제외
H37: 1073 | I37: 면류, 마카로니 및 유사식품 제조업 | J37: 10730 | K37: 면류, 마카로니 및 유사식품 제조업 | L37: - | M37: ★ | N37: - | O37: 안전관리자 또는 보건관리자가 있거나 이를 두어야 하는 경우에는 선임 제외
H38: 1074 | I38: 조미료 및 식품 첨가물 제조업 | J38: 10741 | K38: 식초, 발효 및 화학 조미료 제조업 | L38: - | M38: ★ | N38: - | O38: 안전관리자 또는 보건관리자가 있거나 이를 두어야 하는 경우에는 선임 제외
J39: 10742 | K39: 천연 및 혼합조제 조미료 제조업 | L39: - | M39: ★ | N39: - | O39: 안전관리자 또는 보건관리자가 있거나 이를 두어야 하는 경우에는 선임 제외
J40: 10743 | K40: 장류 제조업 | L40: - | M40: ★ | N40: - | O40: 안전관리자 또는 보건관리자가 있거나 이를 두어야 하는 경우에는 선임 제외
J41: 10749 | K41: 기타 식품 첨가물 제조업 | L41: - | M41: ★ | N41: - | O41: 안전관리자 또는 보건관리자가 있거나 이를 두어야 하는 경우에는 선임 제외
H42: 1075 | I42: 도시락 및 식사용 조리식품 제조업 | J42: 10751 | K42: 도시락류 제조업 | L42: - | M42: ★ | N42: - | O42: 안전관리자 또는 보건관리자가 있거나 이를 두어야 하는 경우에는 선임 제외
J43: 10759 | K43: 기타 식사용 가공처리 조리식품 제조업 | L43: - | M43: ★ | N43: - | O43: 안전관리자 또는 보건관리자가 있거나 이를 두어야 하는 경우에는 선임 제외
H44: 1079 | I44: 기타 식료품 제조업 | J44: 10791 | K44: 커피 가공업 | L44: - | M44: ★ | N44: - | O44: 안전관리자 또는 보건관리자가 있거나 이를 두어야 하는 경우에는 선임 제외
J45: 10792 | K45: 차류 가공업 | L45: - | M45: ★ | N45: - | O45: 안전관리자 또는 보건관리자가 있거나 이를 두어야 하는 경우에는 선임 제외
J46: 10793 | K46: 수프 및 균질화식품 제조업 | L46: - | M46: ★ | N46: - | O46: 안전관리자 또는 보건관리자가 있거나 이를 두어야 하는 경우에는 선임 제외
J47: 10794 | K47: 두부 및 유사식품 제조업 | L47: - | M47: ★ | N47: - | O47: 안전관리자 또는 보건관리자가 있거나 이를 두어야 하는 경우에는 선임 제외
J48: 10795 | K48: 인삼식품 제조업 | L48: - | M48: ★ | N48: - | O48: 안전관리자 또는 보건관리자가 있거나 이를 두어야 하는 경우에는 선임 제외
J49: 10796 | K49: 건강보조용 액화식품 제조업 | L49: - | M49: ★ | N49: - | O49: 안전관리자 또는 보건관리자가 있거나 이를 두어야 하는 경우에는 선임 제외
J50: 10797 | K50: 건강기능식품 제조업 | L50: - | M50: ★ | N50: - | O50: 안전관리자 또는 보건관리자가 있거나 이를 두어야 하는 경우에는 선임 제외
J51: 10799 | K51: 그 외 기타 식료품 제조업 | L51: - | M51: ★ | N51: - | O51: 안전관리자 또는 보건관리자가 있거나 이를 두어야 하는 경우에는 선임 제외
F52: 108 | G52: 동물용 사료 및 조제식품 제조업 | H52: 1080 | I52: 동물용 사료 및 조제식품 제조업 | J52: 10801 | K52: 배합 사료 제조업 | L52: - | M52: ★ | N52: - | O52: 안전관리자 또는 보건관리자가 있거나 이를 두어야 하는 경우에는 선임 제외
J53: 10802 | K53: 단미 사료 및 기타 사료 제조업 | L53: - | M53: ★ | N53: - | O53: 안전관리자 또는 보건관리자가 있거나 이를 두어야 하는 경우에는 선임 제외
D54: 11 | E54: 음료 제조업 | F54: 111 | G54: 알코올음료 제조업 | H54: 1111 | I54: 발효주 제조업 | J54: 11111 | K54: 탁주 및 약주 제조업 | L54: - | M54: ★ | N54: - | O54: 안전관리자 또는 보건관리자가 있거나 이를 두어야 하는 경우에는 선임 제외
J55: 11112 | K55: 맥아 및 맥주 제조업 | L55: - | M55: ★ | N55: - | O55: 안전관리자 또는 보건관리자가 있거나 이를 두어야 하는 경우에는 선임 제외
J56: 11119 | K56: 기타 발효주 제조업 | L56: - | M56: ★ | N56: - | O56: 안전관리자 또는 보건관리자가 있거나 이를 두어야 하는 경우에는 선임 제외
H57: 1112 | I57: 증류주 및 합성주 제조업 | J57: 11121 | K57: 주정 제조업 | L57: - | M57: ★ | N57: - | O57: 안전관리자 또는 보건관리자가 있거나 이를 두어야 하는 경우에는 선임 제외
J58: 11122 | K58: 소주 제조업 | L58: - | M58: ★ | N58: - | O58: 안전관리자 또는 보건관리자가 있거나 이를 두어야 하는 경우에는 선임 제외
J59: 11129 | K59: 기타 증류주 및 합성주 제조업 | L59: - | M59: ★ | N59: - | O59: 안전관리자 또는 보건관리자가 있거나 이를 두어야 하는 경우에는 선임 제외
F60: 112 | G60: 비알코올음료 및 얼음 제조업 | H60: 1120 | I60: 비알코올음료 및 얼음 제조업 | J60: 11201 | K60: 얼음 제조업 | L60: - | M60: ★ | N60: - | O60: 안전관리자 또는 보건관리자가 있거나 이를 두어야 하는 경우에는 선임 제외
J61: 11202 | K61: 생사 생산업 | L61: - | M61: ★ | N61: - | O61: 안전관리자 또는 보건관리자가 있거나 이를 두어야 하는 경우에는 선임 제외
J62: 11209 | K62: 기타 비알코올 음료 제조업 | L62: - | M62: ★ | N62: - | O62: 안전관리자 또는 보건관리자가 있거나 이를 두어야 하는 경우에는 선임 제외
D63: 12 | E63: 담배 제조업 | F63: 120 | G63: 담배 제조업 | H63: 1200 | I63: 담배 제조업 | J63: 12000 | K63: 담배제품 제조업 | L63: - | M63: ★ | N63: - | O63: 안전관리자 또는 보건관리자가 있거나 이를 두어야 하는 경우에는 선임 제외
D64: 13 | E64: 섬유제품 제조업; 의복제외 | F64: 131 | G64: 방적 및 가공사 제조업 | H64: 1310 | I64: 방적 및 가공사 제조업 | J64: 13101 | K64: 면 방적업 | L64: - | M64: ★ | N64: - | O64: 안전관리자 또는 보건관리자가 있거나 이를 두어야 하는 경우에는 선임 제외
J65: 13102 | K65: 모 방적업 | L65: - | M65: ★ | N65: - | O65: 안전관리자 또는 보건관리자가 있거나 이를 두어야 하는 경우에는 선임 제외
J66: 13103 | K66: 화학섬유 방적업 | L66: - | M66: ★ | N66: - | O66: 안전관리자 또는 보건관리자가 있거나 이를 두어야 하는 경우에는 선임 제외
J67: 13104 | K67: 연사 및 가공사 제조업 | L67: - | M67: ★ | N67: - | O67: 안전관리자 또는 보건관리자가 있거나 이를 두어야 하는 경우에는 선임 제외
J68: 13109 | K68: 기타 방적업 | L68: - | M68: ★ | N68: - | O68: 안전관리자 또는 보건관리자가 있거나 이를 두어야 하는 경우에는 선임 제외
F69: 132 | G69: 직물직조 및 직물제품 제조업 | H69: 1321 | I69: 직물 직조업 | J69: 13211 | K69: 면직물 직조업 | L69: - | M69: ★ | N69: - | O69: 안전관리자 또는 보건관리자가 있거나 이를 두어야 하는 경우에는 선임 제외
J70: 13212 | K70: 모직물 직조업 | L70: - | M70: ★ | N70: - | O70: 안전관리자 또는 보건관리자가 있거나 이를 두어야 하는 경우에는 선임 제외
J71: 13213 | K71: 화학섬유직물 직조업 | L71: - | M71: ★ | N71: - | O71: 안전관리자 또는 보건관리자가 있거나 이를 두어야 하는 경우에는 선임 제외
J72: 13219 | K72: 특수 직물 및 기타 직물 직조업 | L72: - | M72: ★ | N72: - | O72: 안전관리자 또는 보건관리자가 있거나 이를 두어야 하는 경우에는 선임 제외
H73: 1322 | I73: 직물제품 제조업 | J73: 13221 | K73: 침구 및 관련제품 제조업 | L73: - | M73: ★ | N73: - | O73: 안전관리자 또는 보건관리자가 있거나 이를 두어야 하는 경우에는 선임 제외
J74: 13222 | K74: 자수제품 및 자수용재료 제조업 | L74: - | M74: ★ | N74: - | O74: 안전관리자 또는 보건관리자가 있거나 이를 두어야 하는 경우에는 선임 제외
J75: 13223 | K75: 커튼 및 유사제품 제조업 | L75: - | M75: ★ | N75: - | O75: 안전관리자 또는 보건관리자가 있거나 이를 두어야 하는 경우에는 선임 제외
J76: 13224 | K76: 천막, 텐트 및 유사 제품 제조업 | L76: - | M76: ★ | N76: - | O76: 안전관리자 또는 보건관리자가 있거나 이를 두어야 하는 경우에는 선임 제외
J77: 13225 | K77: 직물포대 제조업 | L77: - | M77: ★ | N77: - | O77: 안전관리자 또는 보건관리자가 있거나 이를 두어야 하는 경우에는 선임 제외
J78: 13229 | K78: 기타 직물제품 제조업 | L78: - | M78: ★ | N78: - | O78: 안전관리자 또는 보건관리자가 있거나 이를 두어야 하는 경우에는 선임 제외
F79: 133 | G79: 편조원단 제조업 | H79: 1330 | I79: 편조원단 제조업 | J79: 13300 | K79: 편조원단 제조업 | L79: - | M79: ★ | N79: - | O79: 안전관리자 또는 보건관리자가 있거나 이를 두어야 하는 경우에는 선임 제외
F80: 134 | G80: 섬유제품 염색, 정리 및 마무리 가공업 | H80: 1340 | I80: 섬유제품 염색, 정리 및 마무리 가공업 | J80: 13401 | K80: 솜 및 실 염색가공업 | L80: - | M80: ★ | N80: - | O80: 안전관리자 또는 보건관리자가 있거나 이를 두어야 하는 경우에는 선임 제외
J81: 13402 | K81: 직물, 편조원단 및 의복류 염색 가공업 | L81: - | M81: ★ | N81: - | O81: 안전관리자 또는 보건관리자가 있거나 이를 두어야 하는 경우에는 선임 제외
J82: 13403 | K82: 날염 가공업 | L82: - | M82: ★ | N82: - | O82: 안전관리자 또는 보건관리자가 있거나 이를 두어야 하는 경우에는 선임 제외
J83: 13409 | K83: 섬유제품 기타 정리 및 마무리 가공업 | L83: - | M83: ★ | N83: - | O83: 안전관리자 또는 보건관리자가 있거나 이를 두어야 하는 경우에는 선임 제외
F84: 139 | G84: 기타 섬유제품 제조업 | H84: 1391 | I84: 카펫, 마루덮개 및 유사제품 제조업 | J84: 13910 | K84: 카펫, 마루덮개 및 유사제품 제조업 | L84: - | M84: ★ | N84: - | O84: 안전관리자 또는 보건관리자가 있거나 이를 두어야 하는 경우에는 선임 제외
H85: 1392 | I85: 끈, 로프, 망 및 끈 가공품 제조업 | J85: 13921 | K85: 끈 및 로프 제조업 | L85: - | M85: ★ | N85: - | O85: 안전관리자 또는 보건관리자가 있거나 이를 두어야 하는 경우에는 선임 제외
J86: 13922 | K86: 어망 및 기타 끈 가공품 제조업 | L86: - | M86: ★ | N86: - | O86: 안전관리자 또는 보건관리자가 있거나 이를 두어야 하는 경우에는 선임 제외
H87: 1399 | I87: 그 외 기타 섬유제품 제조업 | J87: 13991 | K87: 세폭직물 제조업 | L87: - | M87: ★ | N87: - | O87: 안전관리자 또는 보건관리자가 있거나 이를 두어야 하는 경우에는 선임 제외
J88: 13992 | K88: 부직포 및 펠트 제조업 | L88: - | M88: ★ | N88: - | O88: 안전관리자 또는 보건관리자가 있거나 이를 두어야 하는 경우에는 선임 제외
J89: 13993 | K89: 특수사 및 코드직물 제조업 | L89: - | M89: ★ | N89: - | O89: 안전관리자 또는 보건관리자가 있거나 이를 두어야 하는 경우에는 선임 제외
J90: 13994 | K90: 표면처리 및 적층 직물 제조업 | L90: - | M90: ★ | N90: - | O90: 안전관리자 또는 보건관리자가 있거나 이를 두어야 하는 경우에는 선임 제외
J91: 13999 | K91: 그 외 기타 분류 안된 섬유제품 제조업 | L91: - | M91: ★ | N91: - | O91: 안전관리자 또는 보건관리자가 있거나 이를 두어야 하는 경우에는 선임 제외
D92: 14 | E92: 의복, 의복 액세서리 및 모피제품 제조업 | F92: 141 | G92: 봉제의복 제조업 | H92: 1411 | I92: 겉옷 제조업 | J92: 14111 | K92: 남자용 겉옷 제조업 | L92: - | M92: ★ | N92: - | O92: 안전관리자 또는 보건관리자가 있거나 이를 두어야 하는 경우에는 선임 제외
J93: 14112 | K93: 여자용 겉옷 제조업 | L93: - | M93: ★ | N93: - | O93: 안전관리자 또는 보건관리자가 있거나 이를 두어야 하는 경우에는 선임 제외
H94: 1412 | I94: 속옷 및 잠옷 제조업 | J94: 14120 | K94: 속옷 및 잠옷 제조업 | L94: - | M94: ★ | N94: - | O94: 안전관리자 또는 보건관리자가 있거나 이를 두어야 하는 경우에는 선임 제외
H95: 1413 | I95: 한복 제조업 | J95: 14130 | K95: 한복 제조업 | L95: - | M95: ★ | N95: - | O95: 안전관리자 또는 보건관리자가 있거나 이를 두어야 하는 경우에는 선임 제외
H96: 1419 | I96: 기타 봉제의복 제조업 | J96: 14191 | K96: 셔츠 및 블라우스 제조업 | L96: - | M96: ★ | N96: - | O96: 안전관리자 또는 보건관리자가 있거나 이를 두어야 하는 경우에는 선임 제외
J97: 14192 | K97: 근무복, 작업복 및 유사의복 제조업 | L97: - | M97: ★ | N97: - | O97: 안전관리자 또는 보건관리자가 있거나 이를 두어야 하는 경우에는 선임 제외
J98: 14193 | K98: 가죽의복 제조업 | L98: - | M98: ★ | N98: - | O98: 안전관리자 또는 보건관리자가 있거나 이를 두어야 하는 경우에는 선임 제외
J99: 14194 | K99: 유아용 의복 제조업 | L99: - | M99: ★ | N99: - | O99: 안전관리자 또는 보건관리자가 있거나 이를 두어야 하는 경우에는 선임 제외
J100: 14199 | K100: 그 외 기타 봉제의복 제조업 | L100: - | M100: ★ | N100: - | O100: 안전관리자 또는 보건관리자가 있거나 이를 두어야 하는 경우에는 선임 제외
F101: 142 | G101: 모피제품 제조업 | H101: 1420 | I101: 모피제품 제조업 | J101: 14200 | K101: 모피제품 제조업 | L101: - | M101: ★ | N101: - | O101: 안전관리자 또는 보건관리자가 있거나 이를 두어야 하는 경우에는 선임 제외
F102: 143 | G102: 편조의복 제조업 | H102: 1430 | I102: 편조의복 제조업 | J102: 14300 | K102: 편조의복 제조업 | L102: - | M102: ★ | N102: - | O102: 안전관리자 또는 보건관리자가 있거나 이를 두어야 하는 경우에는 선임 제외
...

Sheet 산업안전보건위원회(시행령 별표 9)
B2: ▣ 산업안전보건위원회를 구성해야 할 사업의 종류 및 사업장의 상시근로자 수(제34조 관련) | M2: ◆ : 산업안전보건위원회
B4: 구분 | C4: 대분류 | E4: 중분류 | G4: 소분류 | I4: 세분류 | K4: 세세분류 | L4: 50명 이상 | M4: 100명 이상 | N4: 300명 이상 | O4: 비고
B5: A | C5: 농업, 임업 및 어업(01~03) | D5: 01 | E5: 농업 | F5: 011 | G5: 작물 재배업 | H5: 0111 | I5: 곡물 및 기타 식량작물 재배업 | J5: 01110 | K5: 곡물 및 기타 식량작물 재배업 | L5: - | M5: - | N5: ◆ | O5: -
H6: 0112 | I6: 채소, 화훼작물 및 종묘 재배업 | J6: 01121 | K6: 채소작물 재배업 | L6: - | M6: - | N6: ◆ | O6: -
J7: 01122 | K7: 화훼작물 재배업 | L7: - | M7: - | N7: ◆ | O7: -
J8: 01123 | K8: 종자 및 묘목 생산업 | L8: - | M8: - | N8: ◆ | O8: -
H9: 0113 | I9: 과실, 음료용 및 향신용 작물 재배업 | J9: 01131 | K9: 과실작물 재배업 | L9: - | M9: - | N9: ◆ | O9: -
J10: 01132 | K10: 음료용 및 향신용 작물 재배업 | L10: - | M10: - | N10: ◆ | O10: -
H11: 0114 | I11: 기타 작물 재배업 | J11: 01140 | K11: 기타 작물 재배업 | L11: - | M11: - | N11: ◆ | O11: -
H12: 0115 | I12: 시설작물 재배업 | J12: 01151 | K12: 콩나물 재배업 | L12: - | M12: - | N12: ◆ | O12: -
J13: 01152 | K13: 채소, 화훼 및 과실작물 시설 재배업 | L13: - | M13: - | N13: ◆ | O13: -
J14: 01159 | K14: 기타 시설작물 재배업 | L14: - | M14: - | N14: ◆ | O14: -
F15: 012 | G15: 축산업 | H15: 0121 | I15: 소 사육업 | J15: 01211 | K15: 젖소 사육업 | L15: - | M15: - | N15: ◆ | O15: -
J16: 01212 | K16: 육우 사육업 | L16: - | M16: - | N16: ◆ | O16: -
H17: 0122 | I17: 양돈업 | J17: 01220 | K17: 양돈업 | L17: - | M17: - | N17: ◆ | O17: -
H18: 0123 | I18: 가금류 및 조류 사육업 | J18: 01231 | K18: 양계업 | L18: - | M18: - | N18: ◆ | O18: -
J19: 01239 | K19: 기타 가금류 및 조류 사육업 | L19: - | M19: - | N19: ◆ | O19: -
H20: 0129 | I20: 기타 축산업 | J20: 01291 | K20: 말 및 양 사육업 | L20: - | M20: - | N20: ◆ | O20: -
J21: 01299 | K21: 그 외 기타 축산업 | L21: - | M21: - | N21: ◆ | O21: -
F22: 013 | G22: 작물재배 및 축산 복합농업 | H22: 0130 | I22: 작물재배 및 축산 복합농업 | J22: 01300 | K22: 작물재배 및 축산 복합농업 | L22: - | M22: - | N22: ◆ | O22: -
F23: 014 | G23: 작물재배 및 축산 관련 서비스업 | H23: 0141 | I23: 작물재배 관련 서비스업 | J23: 01411 | K23: 작물재배 지원 서비스업 | L23: - | M23: - | N23: ◆ | O23: -
J24: 01412 | K24: 농산물 건조, 선별 및 기타 수확 후 서비스업 | L24: - | M24: - | N24: ◆ | O24: -
H25: 0142 | I25: 축산 관련 서비스업 | J25: 01420 | K25: 축산 관련 서비스업 | L25: - | M25: - | N25: ◆ | O25: -
F26: 015 | G26: 수렵 및 관련 서비스업 | H26: 0150 | I26: 수렵 및 관련 서비스업 | J26: 01500 | K26: 수렵 및 관련 서비스업 | L26: - | M26: - | N26: ◆ | O26: -
D27: 02 | E27: 임업 | F27: 020 | G27: 임업 | H27: 0201 | I27: 영림업 | J27: 02011 | K27: 임업용 종묘 생산업 | L27: - | M27: ◆ | N27: - | O27: -
J28: 02012 | K28: 육림업 | L28: - | M28: ◆ | N28: - | O28: -
H29: 0202 | I29: 벌목업 | J29: 02020 | K29: 벌목업 | L29: - | M29: ◆ | N29: - | O29: -
H30: 0203 | I30: 임산물 채취업 | J30: 02030 | K30: 임산물 채취업 | L30: - | M30: ◆ | N30: - | O30: -
H31: 0204 | I31: 임업 관련 서비스업 | J31: 02040 | K31: 임업 관련 서비스업 | L31: - | M31: ◆ | N31: - | O31: -
D32: 03 | E32: 어업 | F32: 031 | G32: 어로 어업 | H32: 0311 | I32: 해수면 어업 | J32: 03111 | K32: 원양 어업 | L32: - | M32: - | N32: ◆ | O32: -
J33: 03112 | K33: 연근해 어업 | L33: - | M33: - | N33: ◆ | O33: -
H34: 0312 | I34: 내수면 어업 | J34: 03120 | K34: 내수면 어업 | L34: - | M34: - | N34: ◆ | O34: -
F35: 032 | G35: 양식어업 및 어업관련 서비스업 | H35: 0321 | I35: 양식 어업 | J35: 03211 | K35: 해수면 양식 어업 | L35: - | M35: - | N35: ◆ | O35: -
J36: 03212 | K36: 내수면 양식 어업 | L36: - | M36: - | N36: ◆ | O36: -
J37: 03213 | K37: 수산물 부화 및 수산종자 생산업 | L37: - | M37: - | N37: ◆ | O37: -
H38: 0322 | I38: 어업 관련 서비스업 | J38: 03220 | K38: 어업 관련 서비스업 | L38: - | M38: - | N38: ◆ | O38: -
B39: B | C39: 광업(05~08) | D39: 05 | E39: 석탄, 원유 및 천연가스 광업 | F39: 051 | G39: 석탄 광업 | H39: 0510 | I39: 석탄 광업 | J39: 05100 | K39: 석탄 광업 | L39: - | M39: ◆ | N39: - | O39: -
F40: 052 | G40: 원유 및 천연가스 채굴업 | H40: 0520 | I40: 원유 및 천연가스 채굴업 | J40: 05200 | K40: 원유 및 천연가스 채굴업 | L40: - | M40: ◆ | N40: - | O40: -
D41: 06 | E41: 금속 광업 | F41: 061 | G41: 철 광업 | H41: 0610 | I41: 철 광업 | J41: 06100 | K41: 철 광업 | L41: - | M41: ◆ | N41: - | O41: -
F42: 062 | G42: 비철금속 광업 | H42: 0620 | I42: 비철금속 광업 | J42: 06200 | K42: 비철금속 광업 | L42: - | M42: ◆ | N42: - | O42: -
D43: 07 | E43: 비금속광물 광업; 연료용 제외 | F43: 071 | G43: 토사석 광업 | H43: 0711 | I43: 석회석 및 검토 광업 | J43: 07110 | K43: 석회석 및 검토 광업 | L43: ◆ | M43: - | N43: - | O43: -
H44: 0712 | I44: 석재, 쇄석 및 모래, 자갈 채취업 | J44: 07121 | K44: 건설용 석재 채굴 및 쇄석 생산업 | L44: ◆ | M44: - | N44: - | O44: -
J45: 07122 | K45: 모래 및 자갈 채취업 | L45: ◆ | M45: - | N45: - | O45: -
F46: 072 | G46: 기타 비금속광물 광업 | H46: 0721 | I46: 화학용 및 비료원료용 광물 광업 | J46: 07210 | K46: 화학용 및 비료원료용 광물 광업 | L46: - | M46: ◆ | N46: - | O46: -
H47: 0722 | I47: 천일염 생산 및 암염 채취업 | J47: 07220 | K47: 천일염 생산 및 암염 채취업 | L47: - | M47: ◆ | N47: - | O47: -
H48: 0729 | I48: 그 외 기타 비금속광물 광업 | J48: 07290 | K48: 그 외 기타 비금속광물 광업 | L48: - | M48: ◆ | N48: - | O48: -
D49: 08 | E49: 광업 지원 서비스업 | F49: 080 | G49: 광업 지원 서비스업 | H49: 0800 | I49: 광업 지원 서비스업 | J49: 08000 | K49: 광업 지원 서비스업 | L49: - | M49: ◆ | N49: - | O49: -
B50: C | C50: 제조업(10~34) | D50: 10 | E50: 식료품 제조업 | F50: 101 | G50: 도축, 육류 가공 및 저장 처리업 | H50: 1011 | I50: 도축업 | J50: 10111 | K50: 육류 도축업(가금류 제외) | L50: - | M50: ◆ | N50: - | O50: -
J51: 10112 | K51: 가금류 도축업 | L51: - | M51: ◆ | N51: - | O51: -
H52: 1012 | I52: 육류 가공 및 저장 처리업 | J52: 10121 | K52: 가금류 가공 및 저장 처리업 | L52: - | M52: ◆ | N52: - | O52: -
J53: 10122 | K53: 육류 포장육 및 냉동육 가공업(가금류 제외) | L53: - | M53: ◆ | N53: - | O53: -
J54: 10129 | K54: 육류 기타 가공 및 저장처리업(가금류 제외) | L54: - | M54: ◆ | N54: - | O54: -
F55: 102 | G55: 수산물 가공 및 저장 처리업 | H55: 1021 | I55: 수산동물 가공 및 저장 처리업 | J55: 10211 | K55: 수산동물 훈제, 조리 및 유사 조제식품 제조업 | L55: - | M55: ◆ | N55: - | O55: -
J56: 10212 | K56: 수산동물 건조 및 염장품 제조업 | L56: - | M56: ◆ | N56: - | O56: -
J57: 10213 | K57: 수산동물 냉동품 제조업 | L57: - | M57: ◆ | N57: - | O57: -
J58: 10219 | K58: 기타 수산동물 가공 및 저장 처리업 | L58: - | M58: ◆ | N58: - | O58: -
H59: 1022 | I59: 수산식물 가공 및 저장 처리업 | J59: 10220 | K59: 수산식물 가공 및 저장 처리업 | L59: - | M59: ◆ | N59: - | O59: -
F60: 103 | G60: 과실, 채소 가공 및 저장 처리업 | H60: 1030 | I60: 과실, 채소 가공 및 저장 처리업 | J60: 10301 | K60: 김치류 제조업 | L60: - | M60: ◆ | N60: - | O60: -
J61: 10302 | K61: 과실 및 그 외 채소 절임식품 제조업 | L61: - | M61: ◆ | N61: - | O61: -
J62: 10309 | K62: 기타 과실·채소 가공 및 저장 처리업 | L62: - | M62: ◆ | N62: - | O62: -
F63: 104 | G63: 동물성 및 식물성 유지 제조업 | H63: 1040 | I63: 동물성 및 식물성 유지 제조업 | J63: 10401 | K63: 동물성 유지 제조업 | L63: - | M63: ◆ | N63: - | O63: -
J64: 10402 | K64: 식물성 유지 제조업 | L64: - | M64: ◆ | N64: - | O64: -
J65: 10403 | K65: 식용 정제유 및 가공유 제조업 | L65: - | M65: ◆ | N65: - | O65: -
F66: 105 | G66: 낙농제품 및 식용빙과류 제조업 | H66: 1050 | I66: 낙농제품 및 식용빙과류 제조업 | J66: 10501 | K66: 액상시유 및 기타 낙농제품 제조업 | L66: - | M66: ◆ | N66: - | O66: -
J67: 10502 | K67: 아이스크림 및 기타 식용빙과류 제조업 | L67: - | M67: ◆ | N67: - | O67: -
F68: 106 | G68: 곡물가공품, 전분 및 전분제품 제조업 | H68: 1061 | I68: 곡물 가공품 제조업 | J68: 10611 | K68: 곡물 도정업 | L68: - | M68: ◆ | N68: - | O68: -
J69: 10612 | K69: 곡물 제분업 | L69: - | M69: ◆ | N69: - | O69: -
J70: 10613 | K70: 곡물 혼합분말 및 반죽 제조업 | L70: - | M70: ◆ | N70: - | O70: -
J71: 10619 | K71: 기타 곡물 가공품 제조업 | L71: - | M71: ◆ | N71: - | O71: -
H72: 1062 | I72: 전분제품 및 당류 제조업 | J72: 10620 | K72: 전분제품 및 당류 제조업 | L72: - | M72: ◆ | N72: - | O72: -
F73: 107 | G73: 기타 식품 제조업 | H73: 1071 | I73: 떡, 빵 및 과자류 제조업 | J73: 10711 | K73: 떡류 제조업 | L73: - | M73: ◆ | N73: - | O73: -
J74: 10712 | K74: 빵류 제조업 | L74: - | M74: ◆ | N74: - | O74: -
J75: 10713 | K75: 과자류 및 코코아 제품 제조업 | L75: - | M75: ◆ | N75: - | O75: -
H76: 1072 | I76: 설탕 제조업 | J76: 10720 | K76: 설탕 제조업 | L76: - | M76: ◆ | N76: - | O76: -
H77: 1073 | I77: 면류, 마카로니 및 유사식품 제조업 | J77: 10730 | K77: 면류, 마카로니 및 유사식품 제조업 | L77: - | M77: ◆ | N77: - | O77: -
H78: 1074 | I78: 조미료 및 식품 첨가물 제조업 | J78: 10741 | K78: 식초, 발효 및 화학 조미료 제조업 | L78: - | M78: ◆ | N78: - | O78: -
J79: 10742 | K79: 천연 및 혼합조제 조미료 제조업 | L79: - | M79: ◆ | N79: - | O79: -
J80: 10743 | K80: 장류 제조업 | L80: - | M80: ◆ | N80: - | O80: -
J81: 10749 | K81: 기타 식품 첨가물 제조업 | L81: - | M81: ◆ | N81: - | O81: -
H82: 1075 | I82: 도시락 및 식사용 조리식품 제조업 | J82: 10751 | K82: 도시락류 제조업 | L82: - | M82: ◆ | N82: - | O82: -
J83: 10759 | K83: 기타 식사용 가공처리 조리식품 제조업 | L83: - | M83: ◆ | N83: - | O83: -
H84: 1079 | I84: 기타 식료품 제조업 | J84: 10791 | K84: 커피 가공업 | L84: - | M84: ◆ | N84: - | O84: -
J85: 10792 | K85: 차류 가공업 | L85: - | M85: ◆ | N85: - | O85: -
J86: 10793 | K86: 수프 및 균질화식품 제조업 | L86: - | M86: ◆ | N86: - | O86: -
J87: 10794 | K87: 두부 및 유사식품 제조업 | L87: - | M87: ◆ | N87: - | O87: -
J88: 10795 | K88: 인삼식품 제조업 | L88: - | M88: ◆ | N88: - | O88: -
J89: 10796 | K89: 건강보조용 액화식품 제조업 | L89: - | M89: ◆ | N89: - | O89: -
J90: 10797 | K90: 건강기능식품 제조업 | L90: - | M90: ◆ | N90: - | O90: -
J91: 10799 | K91: 그 외 기타 식료품 제조업 | L91: - | M91: ◆ | N91: - | O91: -
F92: 108 | G92: 동물용 사료 및 조제식품 제조업 | H92: 1080 | I92: 동물용 사료 및 조제식품 제조업 | J92: 10801 | K92: 배합 사료 제조업 | L92: - | M92: ◆ | N92: - | O92: -
J93: 10802 | K93: 단미 사료 및 기타 사료 제조업 | L93: - | M93: ◆ | N93: - | O93: -
D94: 11 | E94: 음료 제조업 | F94: 111 | G94: 알코올음료 제조업 | H94: 1111 | I94: 발효주 제조업 | J94: 11111 | K94: 탁주 및 약주 제조업 | L94: - | M94: ◆ | N94: - | O94: -
J95: 11112 | K95: 맥아 및 맥주 제조업 | L95: - | M95: ◆ | N95: - | O95: -
J96: 11119 | K96: 기타 발효주 제조업 | L96: - | M96: ◆ | N96: - | O96: -
H97: 1112 | I97: 증류주 및 합성주 제조업 | J97: 11121 | K97: 주정 제조업 | L97: - | M97: ◆ | N97: - | O97: -
J98: 11122 | K98: 소주 제조업 | L98: - | M98: ◆ | N98: - | O98: -
J99: 11129 | K99: 기타 증류주 및 합성주 제조업 | L99: - | M99: ◆ | N99: - | O99: -
F100: 112 | G100: 비알코올음료 및 얼음 제조업 | H100: 1120 | I100: 비알코올음료 및 얼음 제조업 | J100: 11201 | K100: 얼음 제조업 | L100: - | M100: ◆ | N100: - | O100: -
J101: 11202 | K101: 생사 생산업 | L101: - | M101: ◆ | N101: - | O101: -
J102: 11209 | K102: 기타 비알코올 음료 제조업 | L102: - | M102: ◆ | N102: - | O102: -
...

Sheet 안전보건관리규정(시행규칙 별표 2)
B2: ▣ 안전보건관리규정을 작성해야 할 사업의 종류 및 사업장의 상시근로자 수(제25조제1항 관련) | M2: ◎ : 안전보건관리규정
B4: 구분 | C4: 대분류 | E4: 중분류 | G4: 소분류 | I4: 세분류 | K4: 세세분류 | L4: 50명 이상 | M4: 100명 이상 | N4: 300명 이상 | O4: 비고
B5: A | C5: 농업, 임업 및 어업(01~03) | D5: 01 | E5: 농업 | F5: 011 | G5: 작물 재배업 | H5: 0111 | I5: 곡물 및 기타 식량작물 재배업 | J5: 01110 | K5: 곡물 및 기타 식량작물 재배업 | L5: - | M5: - | N5: ◎ | O5: -
H6: 0112 | I6: 채소, 화훼작물 및 종묘 재배업 | J6: 01121 | K6: 채소작물 재배업 | L6: - | M6: - | N6: ◎ | O6: -
J7: 01122 | K7: 화훼작물 재배업 | L7: - | M7: - | N7: ◎ | O7: -
J8: 01123 | K8: 종자 및 묘목 생산업 | L8: - | M8: - | N8: ◎ | O8: -
H9: 0113 | I9: 과실, 음료용 및 향신용 작물 재배업 | J9: 01131 | K9: 과실작물 재배업 | L9: - | M9: - | N9: ◎ | O9: -
J10: 01132 | K10: 음료용 및 향신용 작물 재배업 | L10: - | M10: - | N10: ◎ | O10: -
H11: 0114 | I11: 기타 작물 재배업 | J11: 01140 | K11: 기타 작물 재배업 | L11: - | M11: - | N11: ◎ | O11: -
H12: 0115 | I12: 시설작물 재배업 | J12: 01151 | K12: 콩나물 재배업 | L12: - | M12: - | N12: ◎ | O12: -
J13: 01152 | K13: 채소, 화훼 및 과실작물 시설 재배업 | L13: - | M13: - | N13: ◎ | O13: -
J14: 01159 | K14: 기타 시설작물 재배업 | L14: - | M14: - | N14: ◎ | O14: -
F15: 012 | G15: 축산업 | H15: 0121 | I15: 소 사육업 | J15: 01211 | K15: 젖소 사육업 | L15: - | M15: - | N15: ◎ | O15: -
J16: 01212 | K16: 육우 사육업 | L16: - | M16: - | N16: ◎ | O16: -
H17: 0122 | I17: 양돈업 | J17: 01220 | K17: 양돈업 | L17: - | M17: - | N17: ◎ | O17: -
H18: 0123 | I18: 가금류 및 조류 사육업 | J18: 01231 | K18: 양계업 | L18: - | M18: - | N18: ◎ | O18: -
J19: 01239 | K19: 기타 가금류 및 조류 사육업 | L19: - | M19: - | N19: ◎ | O19: -
H20: 0129 | I20: 기타 축산업 | J20: 01291 | K20: 말 및 양 사육업 | L20: - | M20: - | N20: ◎ | O20: -
J21: 01299 | K21: 그 외 기타 축산업 | L21: - | M21: - | N21: ◎ | O21: -
F22: 013 | G22: 작물재배 및 축산 복합농업 | H22: 0130 | I22: 작물재배 및 축산 복합농업 | J22: 01300 | K22: 작물재배 및 축산 복합농업 | L22: - | M22: - | N22: ◎ | O22: -
F23: 014 | G23: 작물재배 및 축산 관련 서비스업 | H23: 0141 | I23: 작물재배 관련 서비스업 | J23: 01411 | K23: 작물재배 지원 서비스업 | L23: - | M23: - | N23: ◎ | O23: -
J24: 01412 | K24: 농산물 건조, 선별 및 기타 수확 후 서비스업 | L24: - | M24: - | N24: ◎ | O24: -
H25: 0142 | I25: 축산 관련 서비스업 | J25: 01420 | K25: 축산 관련 서비스업 | L25: - | M25: - | N25: ◎ | O25: -
F26: 015 | G26: 수렵 및 관련 서비스업 | H26: 0150 | I26: 수렵 및 관련 서비스업 | J26: 01500 | K26: 수렵 및 관련 서비스업 | L26: - | M26: - | N26: ◎ | O26: -
D27: 02 | E27: 임업 | F27: 020 | G27: 임업 | H27: 0201 | I27: 영림업 | J27: 02011 | K27: 임업용 종묘 생산업 | L27: - | M27: ◎ | N27: - | O27: -
J28: 02012 | K28: 육림업 | L28: - | M28: ◎ | N28: - | O28: -
H29: 0202 | I29: 벌목업 | J29: 02020 | K29: 벌목업 | L29: - | M29: ◎ | N29: - | O29: -
H30: 0203 | I30: 임산물 채취업 | J30: 02030 | K30: 임산물 채취업 | L30: - | M30: ◎ | N30: - | O30: -
H31: 0204 | I31: 임업 관련 서비스업 | J31: 02040 | K31: 임업 관련 서비스업 | L31: - | M31: ◎ | N31: - | O31: -
D32: 03 | E32: 어업 | F32: 031 | G32: 어로 어업 | H32: 0311 | I32: 해수면 어업 | J32: 03111 | K32: 원양 어업 | L32: - | M32: - | N32: ◎ | O32: -
J33: 03112 | K33: 연근해 어업 | L33: - | M33: - | N33: ◎ | O33: -
H34: 0312 | I34: 내수면 어업 | J34: 03120 | K34: 내수면 어업 | L34: - | M34: - | N34: ◎ | O34: -
F35: 032 | G35: 양식어업 및 어업관련 서비스업 | H35: 0321 | I35: 양식 어업 | J35: 03211 | K35: 해수면 양식 어업 | L35: - | M35: - | N35: ◎ | O35: -
J36: 03212 | K36: 내수면 양식 어업 | L36: - | M36: - | N36: ◎ | O36: -
J37: 03213 | K37: 수산물 부화 및 수산종자 생산업 | L37: - | M37: - | N37: ◎ | O37: -
H38: 0322 | I38: 어업 관련 서비스업 | J38: 03220 | K38: 어업 관련 서비스업 | L38: - | M38: - | N38: ◎ | O38: -
B39: B | C39: 광업(05~08) | D39: 05 | E39: 석탄, 원유 및 천연가스 광업 | F39: 051 | G39: 석탄 광업 | H39: 0510 | I39: 석탄 광업 | J39: 05100 | K39: 석탄 광업 | L39: - | M39: ◎ | N39: - | O39: -
F40: 052 | G40: 원유 및 천연가스 채굴업 | H40: 0520 | I40: 원유 및 천연가스 채굴업 | J40: 05200 | K40: 원유 및 천연가스 채굴업 | L40: - | M40: ◎ | N40: - | O40: -
D41: 06 | E41: 금속 광업 | F41: 061 | G41: 철 광업 | H41: 0610 | I41: 철 광업 | J41: 06100 | K41: 철 광업 | L41: - | M41: ◎ | N41: - | O41: -
F42: 062 | G42: 비철금속 광업 | H42: 0620 | I42: 비철금속 광업 | J42: 06200 | K42: 비철금속 광업 | L42: - | M42: ◎ | N42: - | O42: -
D43: 07 | E43: 비금속광물 광업; 연료용 제외 | F43: 071 | G43: 토사석 광업 | H43: 0711 | I43: 석회석 및 검토 광업 | J43: 07110 | K43: 석회석 및 검토 광업 | L43: - | M43: ◎ | N43: - | O43: -
H44: 0712 | I44: 석재, 쇄석 및 모래, 자갈 채취업 | J44: 07121 | K44: 건설용 석재 채굴 및 쇄석 생산업 | L44: - | M44: ◎ | N44: - | O44: -
J45: 07122 | K45: 모래 및 자갈 채취업 | L45: - | M45: ◎ | N45: - | O45: -
F46: 072 | G46: 기타 비금속광물 광업 | H46: 0721 | I46: 화학용 및 비료원료용 광물 광업 | J46: 07210 | K46: 화학용 및 비료원료용 광물 광업 | L46: - | M46: ◎ | N46: - | O46: -
H47: 0722 | I47: 천일염 생산 및 암염 채취업 | J47: 07220 | K47: 천일염 생산 및 암염 채취업 | L47: - | M47: ◎ | N47: - | O47: -
H48: 0729 | I48: 그 외 기타 비금속광물 광업 | J48: 07290 | K48: 그 외 기타 비금속광물 광업 | L48: - | M48: ◎ | N48: - | O48: -
D49: 08 | E49: 광업 지원 서비스업 | F49: 080 | G49: 광업 지원 서비스업 | H49: 0800 | I49: 광업 지원 서비스업 | J49: 08000 | K49: 광업 지원 서비스업 | L49: - | M49: ◎ | N49: - | O49: -
B50: C | C50: 제조업(10~34) | D50: 10 | E50: 식료품 제조업 | F50: 101 | G50: 도축, 육류 가공 및 저장 처리업 | H50: 1011 | I50: 도축업 | J50: 10111 | K50: 육류 도축업(가금류 제외) | L50: - | M50: ◎ | N50: - | O50: -
J51: 10112 | K51: 가금류 도축업 | L51: - | M51: ◎ | N51: - | O51: -
H52: 1012 | I52: 육류 가공 및 저장 처리업 | J52: 10121 | K52: 가금류 가공 및 저장 처리업 | L52: - | M52: ◎ | N52: - | O52: -
J53: 10122 | K53: 육류 포장육 및 냉동육 가공업(가금류 제외) | L53: - | M53: ◎ | N53: - | O53: -
J54: 10129 | K54: 육류 기타 가공 및 저장처리업(가금류 제외) | L54: - | M54: ◎ | N54: - | O54: -
F55: 102 | G55: 수산물 가공 및 저장 처리업 | H55: 1021 | I55: 수산동물 가공 및 저장 처리업 | J55: 10211 | K55: 수산동물 훈제, 조리 및 유사 조제식품 제조업 | L55: - | M55: ◎ | N55: - | O55: -
J56: 10212 | K56: 수산동물 건조 및 염장품 제조업 | L56: - | M56: ◎ | N56: - | O56: -
J57: 10213 | K57: 수산동물 냉동품 제조업 | L57: - | M57: ◎ | N57: - | O57: -
J58: 10219 | K58: 기타 수산동물 가공 및 저장 처리업 | L58: - | M58: ◎ | N58: - | O58: -
H59: 1022 | I59: 수산식물 가공 및 저장 처리업 | J59: 10220 | K59: 수산식물 가공 및 저장 처리업 | L59: - | M59: ◎ | N59: - | O59: -
F60: 103 | G60: 과실, 채소 가공 및 저장 처리업 | H60: 1030 | I60: 과실, 채소 가공 및 저장 처리업 | J60: 10301 | K60: 김치류 제조업 | L60: - | M60: ◎ | N60: - | O60: -
J61: 10302 | K61: 과실 및 그 외 채소 절임식품 제조업 | L61: - | M61: ◎ | N61: - | O61: -
J62: 10309 | K62: 기타 과실·채소 가공 및 저장 처리업 | L62: - | M62: ◎ | N62: - | O62: -
F63: 104 | G63: 동물성 및 식물성 유지 제조업 | H63: 1040 | I63: 동물성 및 식물성 유지 제조업 | J63: 10401 | K63: 동물성 유지 제조업 | L63: - | M63: ◎ | N63: - | O63: -
J64: 10402 | K64: 식물성 유지 제조업 | L64: - | M64: ◎ | N64: - | O64: -
J65: 10403 | K65: 식용 정제유 및 가공유 제조업 | L65: - | M65: ◎ | N65: - | O65: -
F66: 105 | G66: 낙농제품 및 식용빙과류 제조업 | H66: 1050 | I66: 낙농제품 및 식용빙과류 제조업 | J66: 10501 | K66: 액상시유 및 기타 낙농제품 제조업 | L66: - | M66: ◎ | N66: - | O66: -
J67: 10502 | K67: 아이스크림 및 기타 식용빙과류 제조업 | L67: - | M67: ◎ | N67: - | O67: -
F68: 106 | G68: 곡물가공품, 전분 및 전분제품 제조업 | H68: 1061 | I68: 곡물 가공품 제조업 | J68: 10611 | K68: 곡물 도정업 | L68: - | M68: ◎ | N68: - | O68: -
J69: 10612 | K69: 곡물 제분업 | L69: - | M69: ◎ | N69: - | O69: -
J70: 10613 | K70: 곡물 혼합분말 및 반죽 제조업 | L70: - | M70: ◎ | N70: - | O70: -
J71: 10619 | K71: 기타 곡물 가공품 제조업 | L71: - | M71: ◎ | N71: - | O71: -
H72: 1062 | I72: 전분제품 및 당류 제조업 | J72: 10620 | K72: 전분제품 및 당류 제조업 | L72: - | M72: ◎ | N72: - | O72: -
F73: 107 | G73: 기타 식품 제조업 | H73: 1071 | I73: 떡, 빵 및 과자류 제조업 | J73: 10711 | K73: 떡류 제조업 | L73: - | M73: ◎ | N73: - | O73: -
J74: 10712 | K74: 빵류 제조업 | L74: - | M74: ◎ | N74: - | O74: -
J75: 10713 | K75: 과자류 및 코코아 제품 제조업 | L75: - | M75: ◎ | N75: - | O75: -
H76: 1072 | I76: 설탕 제조업 | J76: 10720 | K76: 설탕 제조업 | L76: - | M76: ◎ | N76: - | O76: -
H77: 1073 | I77: 면류, 마카로니 및 유사식품 제조업 | J77: 10730 | K77: 면류, 마카로니 및 유사식품 제조업 | L77: - | M77: ◎ | N77: - | O77: -
H78: 1074 | I78: 조미료 및 식품 첨가물 제조업 | J78: 10741 | K78: 식초, 발효 및 화학 조미료 제조업 | L78: - | M78: ◎ | N78: - | O78: -
J79: 10742 | K79: 천연 및 혼합조제 조미료 제조업 | L79: - | M79: ◎ | N79: - | O79: -
J80: 10743 | K80: 장류 제조업 | L80: - | M80: ◎ | N80: - | O80: -
J81: 10749 | K81: 기타 식품 첨가물 제조업 | L81: - | M81: ◎ | N81: - | O81: -
H82: 1075 | I82: 도시락 및 식사용 조리식품 제조업 | J82: 10751 | K82: 도시락류 제조업 | L82: - | M82: ◎ | N82: - | O82: -
J83: 10759 | K83: 기타 식사용 가공처리 조리식품 제조업 | L83: - | M83: ◎ | N83: - | O83: -
H84: 1079 | I84: 기타 식료품 제조업 | J84: 10791 | K84: 커피 가공업 | L84: - | M84: ◎ | N84: - | O84: -
J85: 10792 | K85: 차류 가공업 | L85: - | M85: ◎ | N85: - | O85: -
J86: 10793 | K86: 수프 및 균질화식품 제조업 | L86: - | M86: ◎ | N86: - | O86: -
J87: 10794 | K87: 두부 및 유사식품 제조업 | L87: - | M87: ◎ | N87: - | O87: -
J88: 10795 | K88: 인삼식품 제조업 | L88: - | M88: ◎ | N88: - | O88: -
J89: 10796 | K89: 건강보조용 액화식품 제조업 | L89: - | M89: ◎ | N89: - | O89: -
J90: 10797 | K90: 건강기능식품 제조업 | L90: - | M90: ◎ | N90: - | O90: -
J91: 10799 | K91: 그 외 기타 식료품 제조업 | L91: - | M91: ◎ | N91: - | O91: -
F92: 108 | G92: 동물용 사료 및 조제식품 제조업 | H92: 1080 | I92: 동물용 사료 및 조제식품 제조업 | J92: 10801 | K92: 배합 사료 제조업 | L92: - | M92: ◎ | N92: - | O92: -
J93: 10802 | K93: 단미 사료 및 기타 사료 제조업 | L93: - | M93: ◎ | N93: - | O93: -
D94: 11 | E94: 음료 제조업 | F94: 111 | G94: 알코올음료 제조업 | H94: 1111 | I94: 발효주 제조업 | J94: 11111 | K94: 탁주 및 약주 제조업 | L94: - | M94: ◎ | N94: - | O94: -
J95: 11112 | K95: 맥아 및 맥주 제조업 | L95: - | M95: ◎ | N95: - | O95: -
J96: 11119 | K96: 기타 발효주 제조업 | L96: - | M96: ◎ | N96: - | O96: -
H97: 1112 | I97: 증류주 및 합성주 제조업 | J97: 11121 | K97: 주정 제조업 | L97: - | M97: ◎ | N97: - | O97: -
J98: 11122 | K98: 소주 제조업 | L98: - | M98: ◎ | N98: - | O98: -
J99: 11129 | K99: 기타 증류주 및 합성주 제조업 | L99: - | M99: ◎ | N99: - | O99: -
F100: 112 | G100: 비알코올음료 및 얼음 제조업 | H100: 1120 | I100: 비알코올음료 및 얼음 제조업 | J100: 11201 | K100: 얼음 제조업 | L100: - | M100: ◎ | N100: - | O100: -
J101: 11202 | K101: 생사 생산업 | L101: - | M101: ◎ | N101: - | O101: -
J102: 11209 | K102: 기타 비알코올 음료 제조업 | L102: - | M102: ◎ | N102: - | O102: -
...
