Workbook

Sheet 안전보건관리체제 적용 여부 판단
B2: ▣ 사업장의 고용보험 업종코드(세세분류)만으로 산업안전보건법 제2장 (안전보건관리체제 등) 적용 여부를 쉽게 찾아보는 법
E3: 1. 한국표준산업분류상 업종 확인: 근로복지공단 고용·산재보험 토탈서비스 검색 → 정보조회 → 사업장 총괄카드 조회 → 관리번호란에 ‘사업자등록번호+0’ 입력 → 고용보험 업종코드 번호 확인
E4: 2. 확인한 고용보험 업종코드 번호를 'sheet상의 코드번호 노란색 셀'에 입력
B5: 고용보험 업종코드 | C5: 14200 | E5: 3. 해당 자료는 사업장의 고용보험 업종코드(세세분류)만을 기준으로 판단한 것이며, 실제 업무의 성격·내용·수행방식 등이 고용보험 업종코드와 다른 경우에는 구체적으로 확인 및 판단하여 업종을 달리 볼 수 있음
B7: (●: 안전보건관리책임자 1명, ◆: 산업안전보건위원회 구성·운영, ◎: 안전보건관리규정 제정) | I7: (■: 안전관리자 1명 이상, ■■: 안전관리자 2명 이상, ▲: 보건관리자 1명 이상, ▲▲: 보건관리자 2명 이상, ★: 안전보건관리담당자 1명 이상)
B8: 구분 | C8: 세세분류 업종 | D8: 규모 | G8: 비고 | I8: 구분 | J8: 세세분류 업종 | K8: 규모 | R8: 비고
D9: 50명 이상 | E9: 100명 이상 | F9: 300명 이상 | K9: 50~99인 | L9: 100~299인 | M9: 300~499인 | N9: 500~999인 | O9: 1000~3999인 | P9: 4000~4999인 | Q9: 5000이상
B10: 안전보건관리책임자 (법 제15조) | C10: =VLOOKUP($C$5,'안전보건관리책임자(시행령 별표 2)'!$J$4:$O$1175,2,FALSE) -> 모피제품 제조업 | D10: =VLOOKUP($C$5,'안전보건관리책임자(시행령 별표 2)'!$J$4:$O$1175,3,FALSE) -> - | E10: =VLOOKUP($C$5,'안전보건관리책임자(시행령 별표 2)'!$J$4:$O$1175,4,FALSE) -> ● | F10: =VLOOKUP($C$5,'안전보건관리책임자(시행령 별표 2)'!$J$4:$O$1175,5,FALSE) -> - | G10: =VLOOKUP($C$5,'안전보건관리책임자(시행령 별표 2)'!$J$4:$O$1175,6,FALSE) -> - | I10: 안전관리자 (법 제17조) | J10: =VLOOKUP($C$5,'안전관리자(시행령 별표 3)'!$J$4:$S$1039,2,FALSE) -> 모피제품 제조업 | K10: =VLOOKUP($C$5,'안전관리자(시행령 별표 3)'!$J$4:$S$1039,3,FALSE) -> ■ | L10: =VLOOKUP($C$5,'안전관리자(시행령 별표 3)'!$J$4:$S$1039,4,FALSE) -> ■ | M10: =VLOOKUP($C$5,'안전관리자(시행령 별표 3)'!$J$4:$S$1039,5,FALSE) -> ■ | N10: =VLOOKUP($C$5,'안전관리자(시행령 별표 3)'!$J$4:$S$1039,6,FALSE) -> ■ | O10: =VLOOKUP($C$5,'안전관리자(시행령 별표 3)'!$J$4:$S$1039,7,FALSE) -> ■■ | P10: =VLOOKUP($C$5,'안전관리자(시행령 별표 3)'!$J$4:$S$1039,8,FALSE) -> ■■ | Q10: =VLOOKUP($C$5,'안전관리자(시행령 별표 3)'!$J$4:$S$1039,9,FALSE) -> ■■ | R10: =VLOOKUP($C$5,'안전관리자(시행령 별표 3)'!$J$4:$S$1039,10,FALSE) -> -
B11: 산업안전보건위원회 (법 제24조) | C11: =VLOOKUP($C$5,'산업안전보건위원회(시행령 별표 9)'!$J$4:$O$1175,2,FALSE) -> 모피제품 제조업 | D11: =VLOOKUP($C$5,'산업안전보건위원회(시행령 별표 9)'!$J$4:$O$1175,3,FALSE) -> - | E11: =VLOOKUP($C$5,'산업안전보건위원회(시행령 별표 9)'!$J$4:$O$1175,4,FALSE) -> ◆ | F11: =VLOOKUP($C$5,'산업안전보건위원회(시행령 별표 9)'!$J$4:$O$1175,5,FALSE) -> - | G11: =VLOOKUP($C$5,'산업안전보건위원회(시행령 별표 9)'!$J$4:$O$1175,6,FALSE) -> - | I11: 보건관리자 (법 제18조) | J11: =VLOOKUP($C$5,'보건관리자(시행령 별표 5)'!$J$4:$S$965,2,FALSE) -> 모피제품 제조업 | K11: =VLOOKUP($C$5,'보건관리자(시행령 별표 5)'!$J$4:$S$965,3,FALSE) -> ▲ | L11: =VLOOKUP($C$5,'보건관리자(시행령 별표 5)'!$J$4:$S$965,4,FALSE) -> ▲ | M11: =VLOOKUP($C$5,'보건관리자(시행령 별표 5)'!$J$4:$S$965,5,FALSE) -> ▲ | N11: =VLOOKUP($C$5,'보건관리자(시행령 별표 5)'!$J$4:$S$965,6,FALSE) -> ▲▲ | O11: =VLOOKUP($C$5,'보건관리자(시행령 별표 5)'!$J$4:$S$965,7,FALSE) -> ▲▲ | P11: =VLOOKUP($C$5,'보건관리자(시행령 별표 5)'!$J$4:$S$965,8,FALSE) -> ▲▲ | Q11: =VLOOKUP($C$5,'보건관리자(시행령 별표 5)'!$J$4:$S$965,9,FALSE) -> ▲▲ | R11: =VLOOKUP($C$5,'보건관리자(시행령 별표 5)'!$J$4:$S$965,10,FALSE) -> -
I12: 구분 | J12: 세세분류 업종 | K12: 규모 | Q12: 비고
B13: 안전보건관리규정 (법 제25조) | C13: =VLOOKUP($C$5,'안전보건관리규정(시행규칙 별표 2)'!$J$4:$O$1175,2,FALSE) -> 모피제품 제조업 | D13: =VLOOKUP($C$5,'안전보건관리규정(시행규칙 별표 2)'!$J$4:$O$1175,3,FALSE) -> - | E13: =VLOOKUP($C$5,'안전보건관리규정(시행규칙 별표 2)'!$J$4:$O$1175,4,FALSE) -> ◎ | F13: =VLOOKUP($C$5,'안전보건관리규정(시행규칙 별표 2)'!$J$4:$O$1175,5,FALSE) -> - | G13: =VLOOKUP($C$5,'안전보건관리규정(시행규칙 별표 2)'!$J$4:$O$1175,6,FALSE) -> - | K13: 20명 미만 | M13: 20명 이상 50명 미만 | O13: 50명 이상
I14: 안전보건관리담당자 (법 제19조) | J14: =VLOOKUP($C$5,'안전보건관리담당자(시행령 제24조)'!$J$4:$O$503,2,FALSE) -> 모피제품 제조업 | K14: =VLOOKUP($C$5,'안전보건관리담당자(시행령 제24조)'!$J$4:$O$503,3,FALSE) -> - | M14: =VLOOKUP($C$5,'안전보건관리담당자(시행령 제24조)'!$J$4:$O$503,4,FALSE) -> ★ | O14: =VLOOKUP($C$5,'안전보건관리담당자(시행령 제24조)'!$J$4:$O$503,5,FALSE) -> - | Q14: =VLOOKUP($C$5,'안전보건관리담당자(시행령 제24조)'!$J$4:$O$503,6,FALSE) -> 안전관리자 또는 보건관리자가 있거나 이를 두어야 하는 경우에는 선임 제외
B18: ■ 사업장 판단기준
B19: 1. 「산업안전보건법」 제2장(안전보건관리체제 등)은 사업장을 적용단위로 하여 사업장의 업종과 규모(상시근로자 수)를 기준으로 적용됨 2. 이때 사업장은 주로 장소적 관념에 따라 판단하여 장소적으로 분산된 경우 별개의 사업장으로 볼 것이나, 인사·회계·조직운영·업무처리능력 등을 감안할 때 하나의 사업장이라고 말할 정도의 독립성이 없는 경우에는 직근 상위조직과 하나의 사업장으로 보고 있음 3. 독립성 여부는 근로조건의 결정, 인사·노무관리가 각각의 사업장마다 독립적으로 운영되는지, 본사와 지사 등이 경영상 일체성을 갖고 운영되는지 일체성이 없이 각각 이뤄지는지, 해당 단위의 경영담당자에게 해당 단위의 운영에 대한 실질적인 총괄관리 권한이 부여되어 있는지, 업무처리에 있어 독자적 결정권이 있는지 등의 사항을 구체적으로 검토하여 판단하여야 함
B21: ■ 사업장 업종판단
B22: 1. 각 사업장의 업종은 통계청에서 고시한 한국표준산업분류에 따라 구분하되, 하나의 사업장에서 여러 가지의 산업활동이 복합적으로 이루어지는 경우에는 주된 산업활동에 의하여 결정 2. 주된 산업활동은 산출물(재화 또는 서비스)에 대한 부가가치(액)의 크기에 따라 결정되거나, 부가가치(액)의 측정이 어려운 경우에는 산출액(매출액)에 따라 결정
B24: ■ 상시근로자 수 산정방법
B25: 1. 안전보건관리체제 적용을 위한 상시근로자 수 산정은 「근로기준법」 제11조 및 시행령 제7조의2에 따른 상시 사용하는 근로자를 의미함 2. 이때 상시근로자는 해당 사업장과 직접 근로관계(사용종속관계)가 있는 자를 대상으로 하며, 도급업체 근로자는 산정에서 제외함 3. 건설업의 상시근로자 수 산정 (안전보건관리규정 작성 시 적용)
B29: ■ 겸직 여부
B30: 1. 「산업안전보건법」 제15조 및 제19조에 따른 안전보건관리책임자 및 안전보건관리담당자는 타 법에서 정한 다른 직위(또는 직책)에 대한 겸직을 제한하고 있지 않으나, 타 법에서 정한 직위(또는 직책)가 안전보건관리책임자 및 안전보건관리담당자를 겸직할 수 있는지에 대해서는 확인 필요 2. 「산업안전보건법」 제17조 및 제18조에 따른 안전관리자 및 보건관리자는 「기업활동 규제완화에 관한 특별조치법」 제29조에 따라 겸임 가능

Sheet 법의 일부 적용 제외(시행령 별표 1)
B2: ▣ 법의 일부를 적용하지 않는 사업 또는 사업장 및 적용 제외 법 규정(제2조제1항 관련)
B4: 구분 | C4: 대분류 | E4: 중분류 | G4: 소분류 | I4: 세분류 | K4: 세세분류 | L4: 적용 제외 법 규정 | M4: 비고
B5: J | C5: 정보통신업(58~63) | D5: 58 | E5: 출판업 | F5: 582 | G5: 소프트웨어 개발 및 공급업 | H5: 5821 | I5: 게임 소프트웨어 개발 및 공급업 | J5: 58211 | K5: 유선 온라인 게임 소프트웨어 개발 및 공급업 | L5: 제29조(제3항에 따른 추가교육은 제외한다) 및 제30조
J6: 58212 | K6: 모바일 게임 소프트웨어 개발 및 공급업
J7: 58219 | K7: 기타 게임 소프트웨어 개발 및 공급업
H8: 5822 | I8: 시스템·응용 소프트웨어 개발 및 공급업 | J8: 58221 | K8: 시스템 소프트웨어 개발 및 공급업
J9: 58222 | K9: 응용 소프트웨어 개발 및 공급업
D10: 62 | E10: 컴퓨터 프로그래밍, 시스템 통합 관리업 | F10: 620 | G10: 컴퓨터 프로그래밍, 시스템 통합 관리업 | H10: 6201 | I10: 컴퓨터 프로그래밍 서비스업 | J10: 62010 | K10: 컴퓨터 프로그래밍 서비스업
H11: 6202 | I11: 컴퓨터시스템 통합 자문, 구축 및 관리업 | J11: 62021 | K11: 컴퓨터 시스템 통합 자문 및 구축 서비스업
J12: 62022 | K12: 컴퓨터시설 관리업
H13: 6209 | I13: 기타 정보기술 및 컴퓨터운영 관련 서비스업 | J13: 62090 | K13: 기타 정보기술 및 컴퓨터운영 관련 서비스업
D14: 63 | E14: 정보서비스업 | F14: 631 | G14: 자료처리, 호스팅, 포털 및 기타 인터넷 정보매개 서비스업 | H14: 6311 | I14: 자료처리, 호스팅 및 관련 서비스업 | J14: 63111 | K14: 자료 처리업
J15: 63112 | K15: 호스팅 및 관련 서비스업
H16: 6312 | I16: 포털 및 기타 인터넷 정보매개 서비스업 | J16: 63120 | K16: 포털 및 기타 인터넷 정보매개 서비스업
F17: 639 | G17: 기타 정보 서비스업 | H17: 6391 | I17: 뉴스 제공업 | J17: 63910 | K17: 뉴스 제공업
H18: 6399 | I18: 그 외 기타 정보 서비스업 | J18: 63991 | K18: 데이터베이스 및 온라인정보 제공업
J19: 63999 | K19: 그 외 기타 정보 서비스업
B20: K | C20: 금융 및 보험업(64~66) | D20: 64 | E20: 금융업 | F20: 641 | G20: 은행 및 저축기관 | H20: 6411 | I20: 중앙은행 | J20: 64110 | K20: 중앙은행
H21: 6412 | I21: 일반은행 | J21: 64121 | K21: 국내은행
J22: 64122 | K22: 외국은행
H23: 6413 | I23: 신용조합 및 저축기관 | J23: 64131 | K23: 신용조합
J24: 64132 | K24: 상호저축은행 및 기타 저축기관
F25: 642 | G25: 신탁업 및 집합투자업 | H25: 6420 | I25: 신탁업 및 집합투자업 | J25: 64201 | K25: 식탁업 및 집합투자업
J26: 64209 | K26: 기타 금융 투자업
F27: 649 | G27: 기타 금융업 | H27: 6491 | I27: 여신금융업 | J27: 64911 | K27: 금융리스업
J28: 64912 | K28: 개발금융기관
J29: 64913 | K29: 신용카드 및 할부금융업
J30: 64919 | K30: 그 외 기타 여신금융업
H31: 6499 | I31: 그 외 기타 금융업 | J31: 64991 | K31: 기금 운영업
J32: 64992 | K32: 지주회사
J33: 64999 | K33: 그 외 기타 분류 안된 금융업
D34: 65 | E34: 보험 및 연금업 | F34: 651 | G34: 보험업 | H34: 6511 | I34: 생명 보험업 | J34: 65110 | K34: 생명보험업
H35: 6512 | I35: 손해 및 보증 보험업 | J35: 65121 | K35: 손해 보험업
J36: 65122 | K36: 보증 보험업
H37: 6513 | I37: 사회보장 보험업 | J37: 65131 | K37: 건강 보험업
J38: 65139 | K38: 산업재해 및 기타 사회보장 보험업
F39: 652 | G39: 재 보험업 | H39: 6520 | I39: 재 보험업 | J39: 65200 | K39: 재 보험업
F40: 653 | G40: 연금 및 공제업 | H40: 6530 | I40: 연금 및 공제업 | J40: 65301 | K40: 개인 공제업
J41: 65302 | K41: 사업 공제업
J42: 65303 | K42: 연금업
...

Sheet 안전보건관리책임자(시행령 별표 2)
B2: ▣ 안전보건관리책임자를 두어야 하는 사업의 종류 및 사업장의 상시근로자 수(제14조제1항 관련) | M2: ● : 안전보건관리책임자
B4: 구분 | C4: 대분류 | E4: 중분류 | G4: 소분류 | I4: 세분류 | K4: 세세분류 | L4: 50명 이상 | M4: 100명 이상 | N4: 300명 이상 | O4: 비고
B5: A | C5: 농업, 임업 및 어업(01~03) | D5: 01 | E5: 농업 | F5: 011 | G5: 작물 재배업 | H5: 0111 | I5: 곡물 및 기타 식량작물 재배업 | J5: 01110 | K5: 곡물 및 기타 식량작물 재배업 | L5: - | M5: - | N5: ● | O5: -
H6: 0112 | I6: 채소, 화훼작물 및 종묘 재배업 | J6: 01121 | K6: 채소작물 재배업 | L6: - | M6: - | N6: ● | O6: -
J7: 01122 | K7: 화훼작물 재배업 | L7: - | M7: - | N7: ● | O7: -
J8: 01123 | K8: 종자 및 묘목 생산업 | L8: - | M8: - | N8: ● | O8: -
H9: 0113 | I9: 과실, 음료용 및 향신용 작물 재배업 | J9: 01131 | K9: 과실작물 재배업 | L9: - | M9: - | N9: ● | O9: -
J10: 01132 | K10: 음료용 및 향신용 작물 재배업 | L10: - | M10: - | N10: ● | O10: -
H11: 0114 | I11: 기타 작물 재배업 | J11: 01140 | K11: 기타 작물 재배업 | L11: - | M11: - | N11: ● | O11: -
H12: 0115 | I12: 시설작물 재배업 | J12: 01151 | K12: 콩나물 재배업 | L12: - | M12: - | N12: ● | O12: -
J13: 01152 | K13: 채소, 화훼 및 과실작물 시설 재배업 | L13: - | M13: - | N13: ● | O13: -
J14: 01159 | K14: 기타 시설작물 재배업 | L14: - | M14: - | N14: ● | O14: -
F15: 012 | G15: 축산업 | H15: 0121 | I15: 소 사육업 | J15: 01211 | K15: 젖소 사육업 | L15: - | M15: - | N15: ● | O15: -
J16: 01212 | K16: 육우 사육업 | L16: - | M16: - | N16: ● | O16: -
H17: 0122 | I17: 양돈업 | J17: 01220 | K17: 양돈업 | L17: - | M17: - | N17: ● | O17: -
H18: 0123 | I18: 가금류 및 조류 사육업 | J18: 01231 | K18: 양계업 | L18: - | M18: - | N18: ● | O18: -
J19: 01239 | K19: 기타 가금류 및 조류 사육업 | L19: - | M19: - | N19: ● | O19: -
H20: 0129 | I20: 기타 축산업 | J20: 01291 | K20: 말 및 양 사육업 | L20: - | M20: - | N20: ● | O20: -
J21: 01299 | K21: 그 외 기타 축산업 | L21: - | M21: - | N21: ● | O21: -
F22: 013 | G22: 작물재배 및 축산 복합농업 | H22: 0130 | I22: 작물재배 및 축산 복합농업 | J22: 01300 | K22: 작물재배 및 축산 복합농업 | L22: - | M22: - | N22: ● | O22: -
F23: 014 | G23: 작물재배 및 축산 관련 서비스업 | H23: 0141 | I23: 작물재배 관련 서비스업 | J23: 01411 | K23: 작물재배 지원 서비스업 | L23: - | M23: - | N23: ● | O23: -
J24: 01412 | K24: 농산물 건조, 선별 및 기타 수확 후 서비스업 | L24: - | M24: - | N24: ● | O24: -
H25: 0142 | I25: 축산 관련 서비스업 | J25: 01420 | K25: 축산 관련 서비스업 | L25: - | M25: - | N25: ● | O25: -
F26: 015 | G26: 수렵 및 관련 서비스업 | H26: 0150 | I26: 수렵 및 관련 서비스업 | J26: 01500 | K26: 수렵 및 관련 서비스업 | L26: - | M26: - | N26: ● | O26: -
D27: 02 | E27: 임업 | F27: 020 | G27: 임업 | H27: 0201 | I27: 영림업 | J27: 02011 | K27: 임업용 종묘 생산업 | L27: - | M27: ● | N27: - | O27: -
J28: 02012 | K28: 육림업 | L28: - | M28: ● | N28: - | O28: -
H29: 0202 | I29: 벌목업 | J29: 02020 | K29: 벌목업 | L29: - | M29: ● | N29: - | O29: -
H30: 0203 | I30: 임산물 채취업 | J30: 02030 | K30: 임산물 채취업 | L30: - | M30: ● | N30: - | O30: -
H31: 0204 | I31: 임업 관련 서비스업 | J31: 02040 | K31: 임업 관련 서비스업 | L31: - | M31: ● | N31: - | O31: -
D32: 03 | E32: 어업 | F32: 031 | G32: 어로 어업 | H32: 0311 | I32: 해수면 어업 | J32: 03111 | K32: 원양 어업 | L32: - | M32: - | N32: ● | O32: -
J33: 03112 | K33: 연근해 어업 | L33: - | M33: - | N33: ● | O33: -
H34: 0312 | I34: 내수면 어업 | J34: 03120 | K34: 내수면 어업 | L34: - | M34: - | N34: ● | O34: -
F35: 032 | G35: 양식어업 및 어업관련 서비스업 | H35: 0321 | I35: 양식 어업 | J35: 03211 | K35: 해수면 양식 어업 | L35: - | M35: - | N35: ● | O35: -
J36: 03212 | K36: 내수면 양식 어업 | L36: - | M36: - | N36: ● | O36: -
J37: 03213 | K37: 수산물 부화 및 수산종자 생산업 | L37: - | M37: - | N37: ● | O37: -
H38: 0322 | I38: 어업 관련 서비스업 | J38: 03220 | K38: 어업 관련 서비스업 | L38: - | M38: - | N38: ● | O38: -
B39: B | C39: 광업(05~08) | D39: 05 | E39: 석탄, 원유 및 천연가스 광업 | F39: 051 | G39: 석탄 광업 | H39: 0510 | I39: 석탄 광업 | J39: 05100 | K39: 석탄 광업 | L39: - | M39: ● | N39: - | O39: -
F40: 052 | G40: 원유 및 천연가스 채굴업 | H40: 0520 | I40: 원유 및 천연가스 채굴업 | J40: 05200 | K40: 원유 및 천연가스 채굴업 | L40: - | M40: ● | N40: - | O40: -
D41: 06 | E41: 금속 광업 | F41: 061 | G41: 철 광업 | H41: 0610 | I41: 철 광업 | J41: 06100 | K41: 철 광업 | L41: - | M41: ● | N41: - | O41: -
F42: 062 | G42: 비철금속 광업 | H42: 0620 | I42: 비철금속 광업 | J42: 06200 | K42: 비철금속 광업 | L42: - | M42: ● | N42: - | O42: -
...

Sheet 안전관리자(시행령 별표 3)
B2: ▣ 안전관리자를 두어야 하는 사업의 종류 및 사업장의 상시근로자 수(제16조제1항 관련) | Q2: ■ : 안전관리자
B4: 구분 | C4: 대분류 | E4: 중분류 | G4: 소분류 | I4: 세분류 | K4: 세세분류 | L4: 50~99명 | M4: 100~299명 | N4: 300~499명 | O4: 500~999명 | P4: 1000~3999명 | Q4: 4000~4999명 | R4: 5000명 이상 | S4: 비고
B5: A | C5: 농업, 임업 및 어업(01~03) | D5: 01 | E5: 농업 | F5: 011 | G5: 작물 재배업 | H5: 0111 | I5: 곡물 및 기타 식량작물 재배업 | J5: 01110 | K5: 곡물 및 기타 식량작물 재배업 | L5: ■ | M5: ■ | N5: ■ | O5: ■ | P5: ■■ | Q5: ■■ | R5: ■■ | S5: -
H6: 0112 | I6: 채소, 화훼작물 및 종묘 재배업 | J6: 01121 | K6: 채소작물 재배업 | L6: ■ | M6: ■ | N6: ■ | O6: ■ | P6: ■■ | Q6: ■■ | R6: ■■ | S6: -
J7: 01122 | K7: 화훼작물 재배업 | L7: ■ | M7: ■ | N7: ■ | O7: ■ | P7: ■■ | Q7: ■■ | R7: ■■ | S7: -
J8: 01123 | K8: 종자 및 묘목 생산업 | L8: ■ | M8: ■ | N8: ■ | O8: ■ | P8: ■■ | Q8: ■■ | R8: ■■ | S8: -
H9: 0113 | I9: 과실, 음료용 및 향신용 작물 재배업 | J9: 01131 | K9: 과실작물 재배업 | L9: ■ | M9: ■ | N9: ■ | O9: ■ | P9: ■■ | Q9: ■■ | R9: ■■ | S9: -
J10: 01132 | K10: 음료용 및 향신용 작물 재배업 | L10: ■ | M10: ■ | N10: ■ | O10: ■ | P10: ■■ | Q10: ■■ | R10: ■■ | S10: -
H11: 0114 | I11: 기타 작물 재배업 | J11: 01140 | K11: 기타 작물 재배업 | L11: ■ | M11: ■ | N11: ■ | O11: ■ | P11: ■■ | Q11: ■■ | R11: ■■ | S11: -
H12: 0115 | I12: 시설작물 재배업 | J12: 01151 | K12: 콩나물 재배업 | L12: ■ | M12: ■ | N12: ■ | O12: ■ | P12: ■■ | Q12: ■■ | R12: ■■ | S12: -
J13: 01152 | K13: 채소, 화훼 및 과실작물 시설 재배업 | L13: ■ | M13: ■ | N13: ■ | O13: ■ | P13: ■■ | Q13: ■■ | R13: ■■ | S13: -
J14: 01159 | K14: 기타 시설작물 재배업 | L14: ■ | M14: ■ | N14: ■ | O14: ■ | P14: ■■ | Q14: ■■ | R14: ■■ | S14: -
F15: 012 | G15: 축산업 | H15: 0121 | I15: 소 사육업 | J15: 01211 | K15: 젖소 사육업 | L15: ■ | M15: ■ | N15: ■ | O15: ■ | P15: ■■ | Q15: ■■ | R15: ■■ | S15: -
J16: 01212 | K16: 육우 사육업 | L16: ■ | M16: ■ | N16: ■ | O16: ■ | P16: ■■ | Q16: ■■ | R16: ■■ | S16: -
H17: 0122 | I17: 양돈업 | J17: 01220 | K17: 양돈업 | L17: ■ | M17: ■ | N17: ■ | O17: ■ | P17: ■■ | Q17: ■■ | R17: ■■ | S17: -
H18: 0123 | I18: 가금류 및 조류 사육업 | J18: 01231 | K18: 양계업 | L18: ■ | M18: ■ | N18: ■ | O18: ■ | P18: ■■ | Q18: ■■ | R18: ■■ | S18: -
J19: 01239 | K19: 기타 가금류 및 조류 사육업 | L19: ■ | M19: ■ | N19: ■ | O19: ■ | P19: ■■ | Q19: ■■ | R19: ■■ | S19: -
H20: 0129 | I20: 기타 축산업 | J20: 01291 | K20: 말 및 양 사육업 | L20: ■ | M20: ■ | N20: ■ | O20: ■ | P20: ■■ | Q20: ■■ | R20: ■■ | S20: -
J21: 01299 | K21: 그 외 기타 축산업 | L21: ■ | M21: ■ | N21: ■ | O21: ■ | P21: ■■ | Q21: ■■ | R21: ■■ | S21: -
F22: 013 | G22: 작물재배 및 축산 복합농업 | H22: 0130 | I22: 작물재배 및 축산 복합농업 | J22: 01300 | K22: 작물재배 및 축산 복합농업 | L22: ■ | M22: ■ | N22: ■ | O22: ■ | P22: ■■ | Q22: ■■ | R22: ■■ | S22: -
F23: 014 | G23: 작물재배 및 축산 관련 서비스업 | H23: 0141 | I23: 작물재배 관련 서비스업 | J23: 01411 | K23: 작물재배 지원 서비스업 | L23: ■ | M23: ■ | N23: ■ | O23: ■ | P23: ■■ | Q23: ■■ | R23: ■■ | S23: -
J24: 01412 | K24: 농산물 건조, 선별 및 기타 수확 후 서비스업 | L24: ■ | M24: ■ | N24: ■ | O24: ■ | P24: ■■ | Q24: ■■ | R24: ■■ | S24: -
H25: 0142 | I25: 축산 관련 서비스업 | J25: 01420 | K25: 축산 관련 서비스업 | L25: ■ | M25: ■ | N25: ■ | O25: ■ | P25: ■■ | Q25: ■■ | R25: ■■ | S25: -
F26: 015 | G26: 수렵 및 관련 서비스업 | H26: 0150 | I26: 수렵 및 관련 서비스업 | J26: 01500 | K26: 수렵 및 관련 서비스업 | L26: ■ | M26: ■ | N26: ■ | O26: ■ | P26: ■■ | Q26: ■■ | R26: ■■ | S26: -
D27: 02 | E27: 임업 | F27: 020 | G27: 임업 | H27: 0201 | I27: 영림업 | J27: 02011 | K27: 임업용 종묘 생산업 | L27: ■ | M27: ■ | N27: ■ | O27: ■ | P27: ■■ | Q27: ■■ | R27: ■■ | S27: -
J28: 02012 | K28: 육림업 | L28: ■ | M28: ■ | N28: ■ | O28: ■ | P28: ■■ | Q28: ■■ | R28: ■■ | S28: -
H29: 0202 | I29: 벌목업 | J29: 02020 | K29: 벌목업 | L29: ■ | M29: ■ | N29: ■ | O29: ■ | P29: ■■ | Q29: ■■ | R29: ■■ | S29: -
H30: 0203 | I30: 임산물 채취업 | J30: 02030 | K30: 임산물 채취업 | L30: ■ | M30: ■ | N30: ■ | O30: ■ | P30: ■■ | Q30: ■■ | R30: ■■ | S30: -
H31: 0204 | I31: 임업 관련 서비스업 | J31: 02040 | K31: 임업 관련 서비스업 | L31: ■ | M31: ■ | N31: ■ | O31: ■ | P31: ■■ | Q31: ■■ | R31: ■■ | S31: -
D32: 03 | E32: 어업 | F32: 031 | G32: 어로 어업 | H32: 0311 | I32: 해수면 어업 | J32: 03111 | K32: 원양 어업 | L32: ■ | M32: ■ | N32: ■ | O32: ■ | P32: ■■ | Q32: ■■ | R32: ■■ | S32: -
J33: 03112 | K33: 연근해 어업 | L33: ■ | M33: ■ | N33: ■ | O33: ■ | P33: ■■ | Q33: ■■ | R33: ■■ | S33: -
H34: 0312 | I34: 내수면 어업 | J34: 03120 | K34: 내수면 어업 | L34: ■ | M34: ■ | N34: ■ | O34: ■ | P34: ■■ | Q34: ■■ | R34: ■■ | S34: -
F35: 032 | G35: 양식어업 및 어업관련 서비스업 | H35: 0321 | I35: 양식 어업 | J35: 03211 | K35: 해수면 양식 어업 | L35: ■ | M35: ■ | N35: ■ | O35: ■ | P35: ■■ | Q35: ■■ | R35: ■■ | S35: -
J36: 03212 | K36: 내수면 양식 어업 | L36: ■ | M36: ■ | N36: ■ | O36: ■ | P36: ■■ | Q36: ■■ | R36: ■■ | S36: -
J37: 03213 | K37: 수산물 부화 및 수산종자 생산업 | L37: ■ | M37: ■ | N37: ■ | O37: ■ | P37: ■■ | Q37: ■■ | R37: ■■ | S37: -
H38: 0322 | I38: 어업 관련 서비스업 | J38: 03220 | K38: 어업 관련 서비스업 | L38: ■ | M38: ■ | N38: ■ | O38: ■ | P38: ■■ | Q38: ■■ | R38: ■■ | S38: -
B39: B | C39: 광업(05~08) | D39: 07 | E39: 비금속광물 광업; 연료용 제외 | F39: 071 | G39: 토사석 광업 | H39: 0711 | I39: 석회석 및 검토 광업 | J39: 07110 | K39: 석회석 및 검토 광업 | L39: ■ | M39: ■ | N39: ■ | O39: ■■ | P39: ■■ | Q39: ■■ | R39: ■■ | S39: -
H40: 0712 | I40: 석재, 쇄석 및 모래, 자갈 채취업 | J40: 07121 | K40: 건설용 석재 채굴 및 쇄석 생산업 | L40: ■ | M40: ■ | N40: ■ | O40: ■■ | P40: ■■ | Q40: ■■ | R40: ■■ | S40: -
J41: 07122 | K41: 모래 및 자갈 채취업 | L41: ■ | M41: ■ | N41: ■ | O41: ■■ | P41: ■■ | Q41: ■■ | R41: ■■ | S41: -
B42: C | C42: 제조업(10~34) | D42: 10 | E42: 식료품 제조업 | F42: 101 | G42: 도축, 육류 가공 및 저장 처리업 | H42: 1011 | I42: 도축업 | J42: 10111 | K42: 육류 도축업(가금류 제외) | L42: ■ | M42: ■ | N42: ■ | O42: ■■ | P42: ■■ | Q42: ■■ | R42: ■■ | S42: -
...

Sheet 보건관리자(시행령 별표 5)
B2: ▣ 보건관리자를 두어야 하는 사업의 종류 및 사업장의 상시근로자 수(제20조제1항 관련) | Q2: ▲ : 보건관리자
B4: 구분 | C4: 대분류 | E4: 중분류 | G4: 소분류 | I4: 세분류 | K4: 세세분류 | L4: 50~99명 | M4: 100~299명 | N4: 300~499명 | O4: 500~999명 | P4: 1000~3999명 | Q4: 4000~4999명 | R4: 5000명 이상 | S4: 비고
B5: A | C5: 농업, 임업 및 어업(01~03) | D5: 01 | E5: 농업 | F5: 011 | G5: 작물 재배업 | H5: 0111 | I5: 곡물 및 기타 식량작물 재배업 | J5: 01110 | K5: 곡물 및 기타 식량작물 재배업 | L5: ▲ | M5: ▲ | N5: ▲ | O5: ▲ | P5: ▲ | Q5: ▲ | R5: ▲▲ | S5: -
H6: 0112 | I6: 채소, 화훼작물 및 종묘 재배업 | J6: 01121 | K6: 채소작물 재배업 | L6: ▲ | M6: ▲ | N6: ▲ | O6: ▲ | P6: ▲ | Q6: ▲ | R6: ▲▲ | S6: -
J7: 01122 | K7: 화훼작물 재배업 | L7: ▲ | M7: ▲ | N7: ▲ | O7: ▲ | P7: ▲ | Q7: ▲ | R7: ▲▲ | S7: -
J8: 01123 | K8: 종자 및 묘목 생산업 | L8: ▲ | M8: ▲ | N8: ▲ | O8: ▲ | P8: ▲ | Q8: ▲ | R8: ▲▲ | S8: -
H9: 0113 | I9: 과실, 음료용 및 향신용 작물 재배업 | J9: 01131 | K9: 과실작물 재배업 | L9: ▲ | M9: ▲ | N9: ▲ | O9: ▲ | P9: ▲ | Q9: ▲ | R9: ▲▲ | S9: -
J10: 01132 | K10: 음료용 및 향신용 작물 재배업 | L10: ▲ | M10: ▲ | N10: ▲ | O10: ▲ | P10: ▲ | Q10: ▲ | R10: ▲▲ | S10: -
H11: 0114 | I11: 기타 작물 재배업 | J11: 01140 | K11: 기타 작물 재배업 | L11: ▲ | M11: ▲ | N11: ▲ | O11: ▲ | P11: ▲ | Q11: ▲ | R11: ▲▲ | S11: -
H12: 0115 | I12: 시설작물 재배업 | J12: 01151 | K12: 콩나물 재배업 | L12: ▲ | M12: ▲ | N12: ▲ | O12: ▲ | P12: ▲ | Q12: ▲ | R12: ▲▲ | S12: -
J13: 01152 | K13: 채소, 화훼 및 과실작물 시설 재배업 | L13: ▲ | M13: ▲ | N13: ▲ | O13: ▲ | P13: ▲ | Q13: ▲ | R13: ▲▲ | S13: -
J14: 01159 | K14: 기타 시설작물 재배업 | L14: ▲ | M14: ▲ | N14: ▲ | O14: ▲ | P14: ▲ | Q14: ▲ | R14: ▲▲ | S14: -
F15: 012 | G15: 축산업 | H15: 0121 | I15: 소 사육업 | J15: 01211 | K15: 젖소 사육업 | L15: ▲ | M15: ▲ | N15: ▲ | O15: ▲ | P15: ▲ | Q15: ▲ | R15: ▲▲ | S15: -
J16: 01212 | K16: 육우 사육업 | L16: ▲ | M16: ▲ | N16: ▲ | O16: ▲ | P16: ▲ | Q16: ▲ | R16: ▲▲ | S16: -
H17: 0122 | I17: 양돈업 | J17: 01220 | K17: 양돈업 | L17: ▲ | M17: ▲ | N17: ▲ | O17: ▲ | P17: ▲ | Q17: ▲ | R17: ▲▲ | S17: -
H18: 0123 | I18: 가금류 및 조류 사육업 | J18: 01231 | K18: 양계업 | L18: ▲ | M18: ▲ | N18: ▲ | O18: ▲ | P18: ▲ | Q18: ▲ | R18: ▲▲ | S18: -
J19: 01239 | K19: 기타 가금류 및 조류 사육업 | L19: ▲ | M19: ▲ | N19: ▲ | O19: ▲ | P19: ▲ | Q19: ▲ | R19: ▲▲ | S19: -
H20: 0129 | I20: 기타 축산업 | J20: 01291 | K20: 말 및 양 사육업 | L20: ▲ | M20: ▲ | N20: ▲ | O20: ▲ | P20: ▲ | Q20: ▲ | R20: ▲▲ | S20: -
J21: 01299 | K21: 그 외 기타 축산업 | L21: ▲ | M21: ▲ | N21: ▲ | O21: ▲ | P21: ▲ | Q21: ▲ | R21: ▲▲ | S21: -
F22: 013 | G22: 작물재배 및 축산 복합농업 | H22: 0130 | I22: 작물재배 및 축산 복합농업 | J22: 01300 | K22: 작물재배 및 축산 복합농업 | L22: ▲ | M22: ▲ | N22: ▲ | O22: ▲ | P22: ▲ | Q22: ▲ | R22: ▲▲ | S22: -
F23: 014 | G23: 작물재배 및 축산 관련 서비스업 | H23: 0141 | I23: 작물재배 관련 서비스업 | J23: 01411 | K23: 작물재배 지원 서비스업 | L23: ▲ | M23: ▲ | N23: ▲ | O23: ▲ | P23: ▲ | Q23: ▲ | R23: ▲▲ | S23: -
J24: 01412 | K24: 농산물 건조, 선별 및 기타 수확 후 서비스업 | L24: ▲ | M24: ▲ | N24: ▲ | O24: ▲ | P24: ▲ | Q24: ▲ | R24: ▲▲ | S24: -
H25: 0142 | I25: 축산 관련 서비스업 | J25: 01420 | K25: 축산 관련 서비스업 | L25: ▲ | M25: ▲ | N25: ▲ | O25: ▲ | P25: ▲ | Q25: ▲ | R25: ▲▲ | S25: -
F26: 015 | G26: 수렵 및 관련 서비스업 | H26: 0150 | I26: 수렵 및 관련 서비스업 | J26: 01500 | K26: 수렵 및 관련 서비스업 | L26: ▲ | M26: ▲ | N26: ▲ | O26: ▲ | P26: ▲ | Q26: ▲ | R26: ▲▲ | S26: -
D27: 02 | E27: 임업 | F27: 020 | G27: 임업 | H27: 0201 | I27: 영림업 | J27: 02011 | K27: 임업용 종묘 생산업 | L27: ▲ | M27: ▲ | N27: ▲ | O27: ▲ | P27: ▲ | Q27: ▲ | R27: ▲▲ | S27: -
J28: 02012 | K28: 육림업 | L28: ▲ | M28: ▲ | N28: ▲ | O28: ▲ | P28: ▲ | Q28: ▲ | R28: ▲▲ | S28: -
H29: 0202 | I29: 벌목업 | J29: 02020 | K29: 벌목업 | L29: ▲ | M29: ▲ | N29: ▲ | O29: ▲ | P29: ▲ | Q29: ▲ | R29: ▲▲ | S29: -
H30: 0203 | I30: 임산물 채취업 | J30: 02030 | K30: 임산물 채취업 | L30: ▲ | M30: ▲ | N30: ▲ | O30: ▲ | P30: ▲ | Q30: ▲ | R30: ▲▲ | S30: -
H31: 0204 | I31: 임업 관련 서비스업 | J31: 02040 | K31: 임업 관련 서비스업 | L31: ▲ | M31: ▲ | N31: ▲ | O31: ▲ | P31: ▲ | Q31: ▲ | R31: ▲▲ | S31: -
D32: 03 | E32: 어업 | F32: 031 | G32: 어로 어업 | H32: 0311 | I32: 해수면 어업 | J32: 03111 | K32: 원양 어업 | L32: ▲ | M32: ▲ | N32: ▲ | O32: ▲ | P32: ▲ | Q32: ▲ | R32: ▲▲ | S32: -
J33: 03112 | K33: 연근해 어업 | L33: ▲ | M33: ▲ | N33: ▲ | O33: ▲ | P33: ▲ | Q33: ▲ | R33: ▲▲ | S33: -
H34: 0312 | I34: 내수면 어업 | J34: 03120 | K34: 내수면 어업 | L34: ▲ | M34: ▲ | N34: ▲ | O34: ▲ | P34: ▲ | Q34: ▲ | R34: ▲▲ | S34: -
F35: 032 | G35: 양식어업 및 어업관련 서비스업 | H35: 0321 | I35: 양식 어업 | J35: 03211 | K35: 해수면 양식 어업 | L35: ▲ | M35: ▲ | N35: ▲ | O35: ▲ | P35: ▲ | Q35: ▲ | R35: ▲▲ | S35: -
J36: 03212 | K36: 내수면 양식 어업 | L36: ▲ | M36: ▲ | N36: ▲ | O36: ▲ | P36: ▲ | Q36: ▲ | R36: ▲▲ | S36: -
J37: 03213 | K37: 수산물 부화 및 수산종자 생산업 | L37: ▲ | M37: ▲ | N37: ▲ | O37: ▲ | P37: ▲ | Q37: ▲ | R37: ▲▲ | S37: -
H38: 0322 | I38: 어업 관련 서비스업 | J38: 03220 | K38: 어업 관련 서비스업 | L38: ▲ | M38: ▲ | N38: ▲ | O38: ▲ | P38: ▲ | Q38: ▲ | R38: ▲▲ | S38: -
B39: B | C39: 광업(05~08) | D39: 05 | E39: 석탄, 원유 및 천연가스 광업 | F39: 051 | G39: 석탄 광업 | H39: 0510 | I39: 석탄 광업 | J39: 05100 | K39: 석탄 광업 | L39: ▲ | M39: ▲ | N39: ▲ | O39: ▲▲ | P39: ▲▲ | Q39: ▲▲ | R39: ▲▲ | S39: -
F40: 052 | G40: 원유 및 천연가스 채굴업 | H40: 0520 | I40: 원유 및 천연가스 채굴업 | J40: 05200 | K40: 원유 및 천연가스 채굴업 | L40: ▲ | M40: ▲ | N40: ▲ | O40: ▲▲ | P40: ▲▲ | Q40: ▲▲ | R40: ▲▲ | S40: -
D41: 06 | E41: 금속 광업 | F41: 061 | G41: 철 광업 | H41: 0610 | I41: 철 광업 | J41: 06100 | K41: 철 광업 | L41: ▲ | M41: ▲ | N41: ▲ | O41: ▲▲ | P41: ▲▲ | Q41: ▲▲ | R41: ▲▲ | S41: -
F42: 062 | G42: 비철금속 광업 | H42: 0620 | I42: 비철금속 광업 | J42: 06200 | K42: 비철금속 광업 | L42: ▲ | M42: ▲ | N42: ▲ | O42: ▲▲ | P42: ▲▲ | Q42: ▲▲ | R42: ▲▲ | S42: -
...

Sheet 안전보건관리담당자(시행령 제24조)
B2: ▣ 안전보건관리담당자를 두어야 하는 사업의 종류 및 사업장의 상시근로자 수(제19조제1항 관련) | M2: ● : 안전보건관리담당자
B4: 구분 | C4: 대분류 | E4: 중분류 | G4: 소분류 | I4: 세분류 | K4: 세세분류 | L4: 20명 미만 | M4: 20명 이상 50명 미만 | N4: 50명 이상 | O4: 비고
B5: A | C5: 농업, 임업 및 어업(01~03) | D5: 02 | E5: 임업 | F5: 020 | G5: 임업 | H5: 0201 | I5: 영림업 | J5: 02011 | K5: 임업용 종묘 생산업 | L5: - | M5: ★ | N5: - | O5: 안전관리자 또는 보건관리자가 있거나 이를 두어야 하는 경우에는 선임 제외
J6: 02012 | K6: 육림업 | L6: - | M6: ★ | N6: - | O6: 안전관리자 또는 보건관리자가 있거나 이를 두어야 하는 경우에는 선임 제외
H7: 0202 | I7: 벌목업 | J7: 02020 | K7: 벌목업 | L7: - | M7: ★ | N7: - | O7: 안전관리자 또는 보건관리자가 있거나 이를 두어야 하는 경우에는 선임 제외
H8: 0203 | I8: 임산물 채취업 | J8: 02030 | K8: 임산물 채취업 | L8: - | M8: ★ | N8: - | O8: 안전관리자 또는 보건관리자가 있거나 이를 두어야 하는 경우에는 선임 제외
H9: 0204 | I9: 임업 관련 서비스업 | J9: 02040 | K9: 임업 관련 서비스업 | L9: - | M9: ★ | N9: - | O9: 안전관리자 또는 보건관리자가 있거나 이를 두어야 하는 경우에는 선임 제외
B10: C | C10: 제조업(10~34) | D10: 10 | E10: 식료품 제조업 | F10: 101 | G10: 도축, 육류 가공 및 저장 처리업 | H10: 1011 | I10: 도축업 | J10: 10111 | K10: 육류 도축업(가금류 제외) | L10: - | M10: ★ | N10: - | O10: 안전관리자 또는 보건관리자가 있거나 이를 두어야 하는 경우에는 선임 제외
J11: 10112 | K11: 가금류 도축업 | L11: - | M11: ★ | N11: - | O11: 안전관리자 또는 보건관리자가 있거나 이를 두어야 하는 경우에는 선임 제외
H12: 1012 | I12: 육류 가공 및 저장 처리업 | J12: 10121 | K12: 가금류 가공 및 저장 처리업 | L12: - | M12: ★ | N12: - | O12: 안전관리자 또는 보건관리자가 있거나 이를 두어야 하는 경우에는 선임 제외
J13: 10122 | K13: 육류 포장육 및 냉동육 가공업(가금류 제외) | L13: - | M13: ★ | N13: - | O13: 안전관리자 또는 보건관리자가 있거나 이를 두어야 하는 경우에는 선임 제외
J14: 10129 | K14: 육류 기타 가공 및 저장처리업(가금류 제외) | L14: - | M14: ★ | N14: - | O14: 안전관리자 또는 보건관리자가 있거나 이를 두어야 하는 경우에는 선임 제외
F15: 102 | G15: 수산물 가공 및 저장 처리업 | H15: 1021 | I15: 수산동물 가공 및 저장 처리업 | J15: 10211 | K15: 수산동물 훈제, 조리 및 유사 조제식품 제조업 | L15: - | M15: ★ | N15: - | O15: 안전관리자 또는 보건관리자가 있거나 이를 두어야 하는 경우에는 선임 제외
J16: 10212 | K16: 수산동물 건조 및 염장품 제조업 | L16: - | M16: ★ | N16: - | O16: 안전관리자 또는 보건관리자가 있거나 이를 두어야 하는 경우에는 선임 제외
J17: 10213 | K17: 수산동물 냉동품 제조업 | L17: - | M17: ★ | N17: - | O17: 안전관리자 또는 보건관리자가 있거나 이를 두어야 하는 경우에는 선임 제외
J18: 10219 | K18: 기타 수산동물 가공 및 저장 처리업 | L18: - | M18: ★ | N18: - | O18: 안전관리자 또는 보건관리자가 있거나 이를 두어야 하는 경우에는 선임 제외
H19: 1022 | I19: 수산식물 가공 및 저장 처리업 | J19: 10220 | K19: 수산식물 가공 및 저장 처리업 | L19: - | M19: ★ | N19: - | O19: 안전관리자 또는 보건관리자가 있거나 이를 두어야 하는 경우에는 선임 제외
F20: 103 | G20: 과실, 채소 가공 및 저장 처리업 | H20: 1030 | I20: 과실, 채소 가공 및 저장 처리업 | J20: 10301 | K20: 김치류 제조업 | L20: - | M20: ★ | N20: - | O20: 안전관리자 또는 보건관리자가 있거나 이를 두어야 하는 경우에는 선임 제외
J21: 10302 | K21: 과실 및 그 외 채소 절임식품 제조업 | L21: - | M21: ★ | N21: - | O21: 안전관리자 또는 보건관리자가 있거나 이를 두어야 하는 경우에는 선임 제외
J22: 10309 | K22: 기타 과실·채소 가공 및 저장 처리업 | L22: - | M22: ★ | N22: - | O22: 안전관리자 또는 보건관리자가 있거나 이를 두어야 하는 경우에는 선임 제외
F23: 104 | G23: 동물성 및 식물성 유지 제조업 | H23: 1040 | I23: 동물성 및 식물성 유지 제조업 | J23: 10401 | K23: 동물성 유지 제조업 | L23: - | M23: ★ | N23: - | O23: 안전관리자 또는 보건관리자가 있거나 이를 두어야 하는 경우에는 선임 제외
J24: 10402 | K24: 식물성 유지 제조업 | L24: - | M24: ★ | N24: - | O24: 안전관리자 또는 보건관리자가 있거나 이를 두어야 하는 경우에는 선임 제외
J25: 10403 | K25: 식용 정제유 및 가공유 제조업 | L25: - | M25: ★ | N25: - | O25: 안전관리자 또는 보건관리자가 있거나 이를 두어야 하는 경우에는 선임 제외
F26: 105 | G26: 낙농제품 및 식용빙과류 제조업 | H26: 1050 | I26: 낙농제품 및 식용빙과류 제조업 | J26: 10501 | K26: 액상시유 및 기타 낙농제품 제조업 | L26: - | M26: ★ | N26: - | O26: 안전관리자 또는 보건관리자가 있거나 이를 두어야 하는 경우에는 선임 제외
J27: 10502 | K27: 아이스크림 및 기타 식용빙과류 제조업 | L27: - | M27: ★ | N27: - | O27: 안전관리자 또는 보건관리자가 있거나 이를 두어야 하는 경우에는 선임 제외
F28: 106 | G28: 곡물가공품, 전분 및 전분제품 제조업 | H28: 1061 | I28: 곡물 가공품 제조업 | J28: 10611 | K28: 곡물 도정업 | L28: - | M28: ★ | N28: - | O28: 안전관리자 또는 보건관리자가 있거나 이를 두어야 하는 경우에는 선임 제외
J29: 10612 | K29: 곡물 제분업 | L29: - | M29: ★ | N29: - | O29: 안전관리자 또는 보건관리자가 있거나 이를 두어야 하는 경우에는 선임 제외
J30: 10613 | K30: 곡물 혼합분말 및 반죽 제조업 | L30: - | M30: ★ | N30: - | O30: 안전관리자 또는 보건관리자가 있거나 이를 두어야 하는 경우에는 선임 제외
J31: 10619 | K31: 기타 곡물 가공품 제조업 | L31: - | M31: ★ | N31: - | O31: 안전관리자 또는 보건관리자가 있거나 이를 두어야 하는 경우에는 선임 제외
H32: 1062 | I32: 전분제품 및 당류 제조업 | J32: 10620 | K32: 전분제품 및 당류 제조업 | L32: - | M32: ★ | N32: - | O32: 안전관리자 또는 보건관리자가 있거나 이를 두어야 하는 경우에는 선임 제외
F33: 107 | G33: 기타 식품 제조업 | H33: 1071 | I33: 떡, 빵 및 과자류 제조업 | J33: 10711 | K33: 떡류 제조업 | L33: - | M33: ★ | N33: - | O33: 안전관리자 또는 보건관리자가 있거나 이를 두어야 하는 경우에는 선임 제외
J34: 10712 | K34: 빵류 제조업 | L34: - | M34: ★ | N34: - | O34: 안전관리자 또는 보건관리자가 있거나 이를 두어야 하는 경우에는 선임 제외
J35: 10713 | K35: 과자류 및 코코아 제품 제조업 | L35: - | M35: ★ | N35: - | O35: 안전관리자 또는 보건관리자가 있거나 이를 두어야 하는 경우에는 선임 제외
H36: 1072 | I36: 설탕 제조업 | J36: 10720 | K36: 설탕 제조업 | L36: - | M36: ★ | N36: - | O36: 안전관리자 또는 보건관리자가 있거나 이를 두어야 하는 경우에는 선임 제외
H37: 1073 | I37: 면류, 마카로니 및 유사식품 제조업 | J37: 10730 | K37: 면류, 마카로니 및 유사식품 제조업 | L37: - | M37: ★ | N37: - | O37: 안전관리자 또는 보건관리자가 있거나 이를 두어야 하는 경우에는 선임 제외
H38: 1074 | I38: 조미료 및 식품 첨가물 제조업 | J38: 10741 | K38: 식초, 발효 및 화학 조미료 제조업 | L38: - | M38: ★ | N38: - | O38: 안전관리자 또는 보건관리자가 있거나 이를 두어야 하는 경우에는 선임 제외
J39: 10742 | K39: 천연 및 혼합조제 조미료 제조업 | L39: - | M39: ★ | N39: - | O39: 안전관리자 또는 보건관리자가 있거나 이를 두어야 하는 경우에는 선임 제외
J40: 10743 | K40: 장류 제조업 | L40: - | M40: ★ | N40: - | O40: 안전관리자 또는 보건관리자가 있거나 이를 두어야 하는 경우에는 선임 제외
J41: 10749 | K41: 기타 식품 첨가물 제조업 | L41: - | M41: ★ | N41: - | O41: 안전관리자 또는 보건관리자가 있거나 이를 두어야 하는 경우에는 선임 제외
H42: 1075 | I42: 도시락 및 식사용 조리식품 제조업 | J42: 10751 | K42: 도시락류 제조업 | L42: - | M42: ★ | N42: - | O42: 안전관리자 또는 보건관리자가 있거나 이를 두어야 하는 경우에는 선임 제외
...

Sheet 산업안전보건위원회(시행령 별표 9)
B2: ▣ 산업안전보건위원회를 구성해야 할 사업의 종류 및 사업장의 상시근로자 수(제34조 관련) | M2: ◆ : 산업안전보건위원회
B4: 구분 | C4: 대분류 | E4: 중분류 | G4: 소분류 | I4: 세분류 | K4: 세세분류 | L4: 50명 이상 | M4: 100명 이상 | N4: 300명 이상 | O4: 비고
B5: A | C5: 농업, 임업 및 어업(01~03) | D5: 01 | E5: 농업 | F5: 011 | G5: 작물 재배업 | H5: 0111 | I5: 곡물 및 기타 식량작물 재배업 | J5: 01110 | K5: 곡물 및 기타 식량작물 재배업 | L5: - | M5: - | N5: ◆ | O5: -
H6: 0112 | I6: 채소, 화훼작물 및 종묘 재배업 | J6: 01121 | K6: 채소작물 재배업 | L6: - | M6: - | N6: ◆ | O6: -
J7: 01122 | K7: 화훼작물 재배업 | L7: - | M7: - | N7: ◆ | O7: -
J8: 01123 | K8: 종자 및 묘목 생산업 | L8: - | M8: - | N8: ◆ | O8: -
H9: 0113 | I9: 과실, 음료용 및 향신용 작물 재배업 | J9: 01131 | K9: 과실작물 재배업 | L9: - | M9: - | N9: ◆ | O9: -
J10: 01132 | K10: 음료용 및 향신용 작물 재배업 | L10: - | M10: - | N10: ◆ | O10: -
H11: 0114 | I11: 기타 작물 재배업 | J11: 01140 | K11: 기타 작물 재배업 | L11: - | M11: - | N11: ◆ | O11: -
H12: 0115 | I12: 시설작물 재배업 | J12: 01151 | K12: 콩나물 재배업 | L12: - | M12: - | N12: ◆ | O12: -
J13: 01152 | K13: 채소, 화훼 및 과실작물 시설 재배업 | L13: - | M13: - | N13: ◆ | O13: -
J14: 01159 | K14: 기타 시설작물 재배업 | L14: - | M14: - | N14: ◆ | O14: -
F15: 012 | G15: 축산업 | H15: 0121 | I15: 소 사육업 | J15: 01211 | K15: 젖소 사육업 | L15: - | M15: - | N15: ◆ | O15: -
J16: 01212 | K16: 육우 사육업 | L16: - | M16: - | N16: ◆ | O16: -
H17: 0122 | I17: 양돈업 | J17: 01220 | K17: 양돈업 | L17: - | M17: - | N17: ◆ | O17: -
H18: 0123 | I18: 가금류 및 조류 사육업 | J18: 01231 | K18: 양계업 | L18: - | M18: - | N18: ◆ | O18: -
J19: 01239 | K19: 기타 가금류 및 조류 사육업 | L19: - | M19: - | N19: ◆ | O19: -
H20: 0129 | I20: 기타 축산업 | J20: 01291 | K20: 말 및 양 사육업 | L20: - | M20: - | N20: ◆ | O20: -
J21: 01299 | K21: 그 외 기타 축산업 | L21: - | M21: - | N21: ◆ | O21: -
F22: 013 | G22: 작물재배 및 축산 복합농업 | H22: 0130 | I22: 작물재배 및 축산 복합농업 | J22: 01300 | K22: 작물재배 및 축산 복합농업 | L22: - | M22: - | N22: ◆ | O22: -
F23: 014 | G23: 작물재배 및 축산 관련 서비스업 | H23: 0141 | I23: 작물재배 관련 서비스업 | J23: 01411 | K23: 작물재배 지원 서비스업 | L23: - | M23: - | N23: ◆ | O23: -
J24: 01412 | K24: 농산물 건조, 선별 및 기타 수확 후 서비스업 | L24: - | M24: - | N24: ◆ | O24: -
H25: 0142 | I25: 축산 관련 서비스업 | J25: 01420 | K25: 축산 관련 서비스업 | L25: - | M25: - | N25: ◆ | O25: -
F26: 015 | G26: 수렵 및 관련 서비스업 | H26: 0150 | I26: 수렵 및 관련 서비스업 | J26: 01500 | K26: 수렵 및 관련 서비스업 | L26: - | M26: - | N26: ◆ | O26: -
D27: 02 | E27: 임업 | F27: 020 | G27: 임업 | H27: 0201 | I27: 영림업 | J27: 02011 | K27: 임업용 종묘 생산업 | L27: - | M27: ◆ | N27: - | O27: -
J28: 02012 | K28: 육림업 | L28: - | M28: ◆ | N28: - | O28: -
H29: 0202 | I29: 벌목업 | J29: 02020 | K29: 벌목업 | L29: - | M29: ◆ | N29: - | O29: -
H30: 0203 | I30: 임산물 채취업 | J30: 02030 | K30: 임산물 채취업 | L30: - | M30: ◆ | N30: - | O30: -
H31: 0204 | I31: 임업 관련 서비스업 | J31: 02040 | K31: 임업 관련 서비스업 | L31: - | M31: ◆ | N31: - | O31: -
D32: 03 | E32: 어업 | F32: 031 | G32: 어로 어업 | H32: 0311 | I32: 해수면 어업 | J32: 03111 | K32: 원양 어업 | L32: - | M32: - | N32: ◆ | O32: -
J33: 03112 | K33: 연근해 어업 | L33: - | M33: - | N33: ◆ | O33: -
H34: 0312 | I34: 내수면 어업 | J34: 03120 | K34: 내수면 어업 | L34: - | M34: - | N34: ◆ | O34: -
F35: 032 | G35: 양식어업 및 어업관련 서비스업 | H35: 0321 | I35: 양식 어업 | J35: 03211 | K35: 해수면 양식 어업 | L35: - | M35: - | N35: ◆ | O35: -
J36: 03212 | K36: 내수면 양식 어업 | L36: - | M36: - | N36: ◆ | O36: -
J37: 03213 | K37: 수산물 부화 및 수산종자 생산업 | L37: - | M37: - | N37: ◆ | O37: -
H38: 0322 | I38: 어업 관련 서비스업 | J38: 03220 | K38: 어업 관련 서비스업 | L38: - | M38: - | N38: ◆ | O38: -
B39: B | C39: 광업(05~08) | D39: 05 | E39: 석탄, 원유 및 천연가스 광업 | F39: 051 | G39: 석탄 광업 | H39: 0510 | I39: 석탄 광업 | J39: 05100 | K39: 석탄 광업 | L39: - | M39: ◆ | N39: - | O39: -
F40: 052 | G40: 원유 및 천연가스 채굴업 | H40: 0520 | I40: 원유 및 천연가스 채굴업 | J40: 05200 | K40: 원유 및 천연가스 채굴업 | L40: - | M40: ◆ | N40: - | O40: -
D41: 06 | E41: 금속 광업 | F41: 061 | G41: 철 광업 | H41: 0610 | I41: 철 광업 | J41: 06100 | K41: 철 광업 | L41: - | M41: ◆ | N41: - | O41: -
F42: 062 | G42: 비철금속 광업 | H42: 0620 | I42: 비철금속 광업 | J42: 06200 | K42: 비철금속 광업 | L42: - | M42: ◆ | N42: - | O42: -
...

Sheet 안전보건관리규정(시행규칙 별표 2)
B2: ▣ 안전보건관리규정을 작성해야 할 사업의 종류 및 사업장의 상시근로자 수(제25조제1항 관련) | M2: ◎ : 안전보건관리규정
B4: 구분 | C4: 대분류 | E4: 중분류 | G4: 소분류 | I4: 세분류 | K4: 세세분류 | L4: 50명 이상 | M4: 100명 이상 | N4: 300명 이상 | O4: 비고
B5: A | C5: 농업, 임업 및 어업(01~03) | D5: 01 | E5: 농업 | F5: 011 | G5: 작물 재배업 | H5: 0111 | I5: 곡물 및 기타 식량작물 재배업 | J5: 01110 | K5: 곡물 및 기타 식량작물 재배업 | L5: - | M5: - | N5: ◎ | O5: -
H6: 0112 | I6: 채소, 화훼작물 및 종묘 재배업 | J6: 01121 | K6: 채소작물 재배업 | L6: - | M6: - | N6: ◎ | O6: -
J7: 01122 | K7: 화훼작물 재배업 | L7: - | M7: - | N7: ◎ | O7: -
J8: 01123 | K8: 종자 및 묘목 생산업 | L8: - | M8: - | N8: ◎ | O8: -
H9: 0113 | I9: 과실, 음료용 및 향신용 작물 재배업 | J9: 01131 | K9: 과실작물 재배업 | L9: - | M9: - | N9: ◎ | O9: -
J10: 01132 | K10: 음료용 및 향신용 작물 재배업 | L10: - | M10: - | N10: ◎ | O10: -
H11: 0114 | I11: 기타 작물 재배업 | J11: 01140 | K11: 기타 작물 재배업 | L11: - | M11: - | N11: ◎ | O11: -
H12: 0115 | I12: 시설작물 재배업 | J12: 01151 | K12: 콩나물 재배업 | L12: - | M12: - | N12: ◎ | O12: -
J13: 01152 | K13: 채소, 화훼 및 과실작물 시설 재배업 | L13: - | M13: - | N13: ◎ | O13: -
J14: 01159 | K14: 기타 시설작물 재배업 | L14: - | M14: - | N14: ◎ | O14: -
F15: 012 | G15: 축산업 | H15: 0121 | I15: 소 사육업 | J15: 01211 | K15: 젖소 사육업 | L15: - | M15: - | N15: ◎ | O15: -
J16: 01212 | K16: 육우 사육업 | L16: - | M16: - | N16: ◎ | O16: -
H17: 0122 | I17: 양돈업 | J17: 01220 | K17: 양돈업 | L17: - | M17: - | N17: ◎ | O17: -
H18: 0123 | I18: 가금류 및 조류 사육업 | J18: 01231 | K18: 양계업 | L18: - | M18: - | N18: ◎ | O18: -
J19: 01239 | K19: 기타 가금류 및 조류 사육업 | L19: - | M19: - | N19: ◎ | O19: -
H20: 0129 | I20: 기타 축산업 | J20: 01291 | K20: 말 및 양 사육업 | L20: - | M20: - | N20: ◎ | O20: -
J21: 01299 | K21: 그 외 기타 축산업 | L21: - | M21: - | N21: ◎ | O21: -
F22: 013 | G22: 작물재배 및 축산 복합농업 | H22: 0130 | I22: 작물재배 및 축산 복합농업 | J22: 01300 | K22: 작물재배 및 축산 복합농업 | L22: - | M22: - | N22: ◎ | O22: -
F23: 014 | G23: 작물재배 및 축산 관련 서비스업 | H23: 0141 | I23: 작물재배 관련 서비스업 | J23: 01411 | K23: 작물재배 지원 서비스업 | L23: - | M23: - | N23: ◎ | O23: -
J24: 01412 | K24: 농산물 건조, 선별 및 기타 수확 후 서비스업 | L24: - | M24: - | N24: ◎ | O24: -
H25: 0142 | I25: 축산 관련 서비스업 | J25: 01420 | K25: 축산 관련 서비스업 | L25: - | M25: - | N25: ◎ | O25: -
F26: 015 | G26: 수렵 및 관련 서비스업 | H26: 0150 | I26: 수렵 및 관련 서비스업 | J26: 01500 | K26: 수렵 및 관련 서비스업 | L26: - | M26: - | N26: ◎ | O26: -
D27: 02 | E27: 임업 | F27: 020 | G27: 임업 | H27: 0201 | I27: 영림업 | J27: 02011 | K27: 임업용 종묘 생산업 | L27: - | M27: ◎ | N27: - | O27: -
J28: 02012 | K28: 육림업 | L28: - | M28: ◎ | N28: - | O28: -
H29: 0202 | I29: 벌목업 | J29: 02020 | K29: 벌목업 | L29: - | M29: ◎ | N29: - | O29: -
H30: 0203 | I30: 임산물 채취업 | J30: 02030 | K30: 임산물 채취업 | L30: - | M30: ◎ | N30: - | O30: -
H31: 0204 | I31: 임업 관련 서비스업 | J31: 02040 | K31: 임업 관련 서비스업 | L31: - | M31: ◎ | N31: - | O31: -
D32: 03 | E32: 어업 | F32: 031 | G32: 어로 어업 | H32: 0311 | I32: 해수면 어업 | J32: 03111 | K32: 원양 어업 | L32: - | M32: - | N32: ◎ | O32: -
J33: 03112 | K33: 연근해 어업 | L33: - | M33: - | N33: ◎ | O33: -
H34: 0312 | I34: 내수면 어업 | J34: 03120 | K34: 내수면 어업 | L34: - | M34: - | N34: ◎ | O34: -
F35: 032 | G35: 양식어업 및 어업관련 서비스업 | H35: 0321 | I35: 양식 어업 | J35: 03211 | K35: 해수면 양식 어업 | L35: - | M35: - | N35: ◎ | O35: -
J36: 03212 | K36: 내수면 양식 어업 | L36: - | M36: - | N36: ◎ | O36: -
J37: 03213 | K37: 수산물 부화 및 수산종자 생산업 | L37: - | M37: - | N37: ◎ | O37: -
H38: 0322 | I38: 어업 관련 서비스업 | J38: 03220 | K38: 어업 관련 서비스업 | L38: - | M38: - | N38: ◎ | O38: -
B39: B | C39: 광업(05~08) | D39: 05 | E39: 석탄, 원유 및 천연가스 광업 | F39: 051 | G39: 석탄 광업 | H39: 0510 | I39: 석탄 광업 | J39: 05100 | K39: 석탄 광업 | L39: - | M39: ◎ | N39: - | O39: -
F40: 052 | G40: 원유 및 천연가스 채굴업 | H40: 0520 | I40: 원유 및 천연가스 채굴업 | J40: 05200 | K40: 원유 및 천연가스 채굴업 | L40: - | M40: ◎ | N40: - | O40: -
D41: 06 | E41: 금속 광업 | F41: 061 | G41: 철 광업 | H41: 0610 | I41: 철 광업 | J41: 06100 | K41: 철 광업 | L41: - | M41: ◎ | N41: - | O41: -
F42: 062 | G42: 비철금속 광업 | H42: 0620 | I42: 비철금속 광업 | J42: 06200 | K42: 비철금속 광업 | L42: - | M42: ◎ | N42: - | O42: -
...
